BEGIN:VCALENDAR
VERSION:2.0
PRODID:icalendar-ruby
CALSCALE:GREGORIAN
BEGIN:VTIMEZONE
TZID:America/Denver
BEGIN:DAYLIGHT
DTSTART:20260308T030000
TZOFFSETFROM:-0700
TZOFFSETTO:-0600
RRULE:FREQ=YEARLY;BYDAY=2SU;BYMONTH=3
TZNAME:MDT
END:DAYLIGHT
BEGIN:STANDARD
DTSTART:20261101T010000
TZOFFSETFROM:-0600
TZOFFSETTO:-0700
RRULE:FREQ=YEARLY;BYDAY=1SU;BYMONTH=11
TZNAME:MST
END:STANDARD
END:VTIMEZONE
BEGIN:VEVENT
DTSTAMP:20260420T141643Z
UID:7f423657-c6c1-48c5-9a5d-ae6c5033d1d3
DTSTART:20260421T173000
DTEND:20260421T193000
DESCRIPTION:<a href="https://www.google.com/url?q=https://www.rcas.org/o/rc
 as/page/board-of-education-25-26-agenda-briefs-minutes-and-videos&amp\;sa=
 D&amp\;source=calendar&amp\;usd=2&amp\;usg=AOvVaw0-IL0hyRDwdp0DAi0lVXGi" t
 arget="_blank">https://www.rcas.org/o/rcas/page/board-of-education-25-26-a
 genda-briefs-minutes-and-videos</a>
LOCATION:625 9th St\, Rapid City\, SD 57701\, USA Room 202
SUMMARY:Board of Education Meeting 
END:VEVENT
BEGIN:VEVENT
DTSTAMP:20260420T141643Z
UID:df242300-7fba-4a8e-8f1e-fcf8d000b7ae
DTSTART;VALUE=DATE:20260501
DTEND;VALUE=DATE:20260502
DESCRIPTION:<p>Students will be dismissed at 12:50 for Teacher Professional
  Development in the afternoon.</p>
LOCATION:
SUMMARY:Early Release Friday
END:VEVENT
BEGIN:VEVENT
DTSTAMP:20260420T141643Z
UID:e898b730-3e2c-4400-a126-3f2f3dd2489f
DTSTART;VALUE=DATE:20260501
DTEND;VALUE=DATE:20260502
DESCRIPTION:
LOCATION:
SUMMARY:Early Release Day 
END:VEVENT
BEGIN:VEVENT
DTSTAMP:20260420T141643Z
UID:a6b52cfb-579c-427f-8922-e0dba5b73b78
DTSTART:20260505T173000
DTEND:20260505T193000
DESCRIPTION:<a href="https://www.google.com/url?q=https://www.rcas.org/o/rc
 as/page/board-of-education-25-26-agenda-briefs-minutes-and-videos&amp\;sa=
 D&amp\;source=calendar&amp\;usd=2&amp\;usg=AOvVaw0-IL0hyRDwdp0DAi0lVXGi" t
 arget="_blank">https://www.rcas.org/o/rcas/page/board-of-education-25-26-a
 genda-briefs-minutes-and-videos</a>
LOCATION:625 9th St\, Rapid City\, SD 57701\, USA Room 202
SUMMARY:Board of Education Meeting 
END:VEVENT
BEGIN:VEVENT
DTSTAMP:20260420T141643Z
UID:26398cf0-9dbb-4aa7-afef-f2eff7781ae8
DTSTART:20260513T173000
DTEND:20260513T193000
DESCRIPTION:Meal: 5:30\nCall to Order: 6:00 PM
LOCATION:Knollwood Heights Elementary School\, 1701 Downing St\, Rapid City
 \, SD 57701\, USA
SUMMARY:Title VI Parent Advisory Committee Meeting 
END:VEVENT
BEGIN:VEVENT
DTSTAMP:20260420T141643Z
UID:17142f4e-7469-48f4-9ecc-cb934cecea19
DTSTART:20260519T173000
DTEND:20260519T193000
DESCRIPTION:<a href="https://www.google.com/url?q=https://www.rcas.org/o/rc
 as/page/board-of-education-25-26-agenda-briefs-minutes-and-videos&amp\;sa=
 D&amp\;source=calendar&amp\;usd=2&amp\;usg=AOvVaw0-IL0hyRDwdp0DAi0lVXGi" t
 arget="_blank">https://www.rcas.org/o/rcas/page/board-of-education-25-26-a
 genda-briefs-minutes-and-videos</a>
LOCATION:625 9th St\, Rapid City\, SD 57701\, USA Room 202
SUMMARY:Board of Education Meeting 
END:VEVENT
BEGIN:VEVENT
DTSTAMP:20260420T141643Z
UID:a9c3ae66-3767-44f8-bcfc-76d63324685a
DTSTART;VALUE=DATE:20260520
DTEND;VALUE=DATE:20260521
DESCRIPTION:
LOCATION:
SUMMARY:Last Day of School
END:VEVENT
BEGIN:VEVENT
DTSTAMP:20260420T141643Z
UID:0572f85e-7614-4516-9dc5-a5a5a101e915
DTSTART;VALUE=DATE:20260520
DTEND;VALUE=DATE:20260521
DESCRIPTION:
LOCATION:
SUMMARY:Last Day of School 
END:VEVENT
BEGIN:VEVENT
DTSTAMP:20260420T141643Z
UID:5e95bcfe-b680-4fd9-b6e6-98b0d5de8687
DTSTART:20260524T110000
DTEND:20260524T120000
DESCRIPTION:
LOCATION:The Monument\, 444 N Mt Rushmore Rd\, Rapid City\, SD 57701\, USA
SUMMARY:Central High School Graduation 
END:VEVENT
BEGIN:VEVENT
DTSTAMP:20260420T141643Z
UID:f9d49c1a-847b-4287-a93a-ac6bbbe4c81c
DTSTART:20260524T143000
DTEND:20260524T153000
DESCRIPTION:
LOCATION:The Monument\, 444 N Mt Rushmore Rd\, Rapid City\, SD 57701\, USA
SUMMARY:Stevens High School Graduation 
END:VEVENT
BEGIN:VEVENT
DTSTAMP:20260420T141643Z
UID:56066c6d-d136-4e94-9d37-4b747bacb947
DTSTART:20260601T173000
DTEND:20260601T193000
DESCRIPTION:<a href="https://www.google.com/url?q=https://www.rcas.org/o/rc
 as/page/board-of-education-25-26-agenda-briefs-minutes-and-videos&amp\;sa=
 D&amp\;source=calendar&amp\;usd=2&amp\;usg=AOvVaw0-IL0hyRDwdp0DAi0lVXGi" t
 arget="_blank">https://www.rcas.org/o/rcas/page/board-of-education-25-26-a
 genda-briefs-minutes-and-videos</a>
LOCATION:625 9th St\, Rapid City\, SD 57701\, USA Room 202
SUMMARY:Board of Education Meeting 
END:VEVENT
BEGIN:VEVENT
DTSTAMP:20260420T141643Z
UID:dd132218-8cc1-48ca-8f22-5cc3dd0ae9cf
DTSTART:20260616T173000
DTEND:20260616T193000
DESCRIPTION:<a href="https://www.google.com/url?q=https://www.rcas.org/o/rc
 as/page/board-of-education-25-26-agenda-briefs-minutes-and-videos&amp\;sa=
 D&amp\;source=calendar&amp\;usd=2&amp\;usg=AOvVaw0-IL0hyRDwdp0DAi0lVXGi" t
 arget="_blank">https://www.rcas.org/o/rcas/page/board-of-education-25-26-a
 genda-briefs-minutes-and-videos</a>
LOCATION:625 9th St\, Rapid City\, SD 57701\, USA Room 202
SUMMARY:Board of Education Meeting 
END:VEVENT
BEGIN:VEVENT
DTSTAMP:20260420T141643Z
UID:f079a4ab-f36a-4ee7-b139-7c68d13e899b
DTSTART:20260707T173000
DTEND:20260707T193000
DESCRIPTION:<a href="https://www.google.com/url?q=https://www.rcas.org/o/rc
 as/page/board-of-education-25-26-agenda-briefs-minutes-and-videos&amp\;sa=
 D&amp\;source=calendar&amp\;usd=2&amp\;usg=AOvVaw0-IL0hyRDwdp0DAi0lVXGi" t
 arget="_blank">https://www.rcas.org/o/rcas/page/board-of-education-25-26-a
 genda-briefs-minutes-and-videos</a>
LOCATION:625 9th St\, Rapid City\, SD 57701\, USA Room 202
SUMMARY:Board of Education Meeting Annual Meeting 
END:VEVENT
END:VCALENDAR
