BEGIN:VCALENDAR
VERSION:2.0
PRODID:icalendar-ruby
CALSCALE:GREGORIAN
BEGIN:VTIMEZONE
TZID:America/Chicago
BEGIN:DAYLIGHT
DTSTART:20260308T030000
TZOFFSETFROM:-0600
TZOFFSETTO:-0500
RRULE:FREQ=YEARLY;BYDAY=2SU;BYMONTH=3
TZNAME:CDT
END:DAYLIGHT
BEGIN:STANDARD
DTSTART:20261101T010000
TZOFFSETFROM:-0500
TZOFFSETTO:-0600
RRULE:FREQ=YEARLY;BYDAY=1SU;BYMONTH=11
TZNAME:CST
END:STANDARD
END:VTIMEZONE
BEGIN:VEVENT
DTSTAMP:20260424T075419Z
UID:f3f0a69e-1c2d-4c79-ae62-1814e65641a0
DTSTART:20260424T080000
DTEND:20260424T090000
DESCRIPTION:
LOCATION:
SUMMARY:PM3 Kindergarten Math Testing
END:VEVENT
BEGIN:VEVENT
DTSTAMP:20260424T075419Z
UID:4c0ac1d8-8547-44c7-ad1c-2e65eb0ca8c2
DTSTART:20260428T080000
DTEND:20260428T090000
DESCRIPTION:
LOCATION:
SUMMARY:PM3 1st Grade ELA Testing
END:VEVENT
BEGIN:VEVENT
DTSTAMP:20260424T075419Z
UID:c4424a20-4980-4365-8a6a-3fc51e7491bf
DTSTART:20260429T080000
DTEND:20260429T090000
DESCRIPTION:
LOCATION:
SUMMARY:PM3 1st Grade Math Testing
END:VEVENT
BEGIN:VEVENT
DTSTAMP:20260424T075419Z
UID:26b16ab0-fad0-42fe-be7f-c10c5d491b0c
DTSTART:20260430T080000
DTEND:20260430T090000
DESCRIPTION:
LOCATION:
SUMMARY:PM3 2nd Grade ELA Testing
END:VEVENT
BEGIN:VEVENT
DTSTAMP:20260424T075419Z
UID:e65e3c33-c1be-4019-ac5e-e6500cc2f657
DTSTART:20260501T080000
DTEND:20260501T090000
DESCRIPTION:
LOCATION:
SUMMARY:PM3 2nd Grade Math Testing
END:VEVENT
END:VCALENDAR
