BEGIN:VCALENDAR
VERSION:2.0
PRODID:icalendar-ruby
CALSCALE:GREGORIAN
BEGIN:VTIMEZONE
TZID:America/Chicago
BEGIN:DAYLIGHT
DTSTART:20260308T030000
TZOFFSETFROM:-0600
TZOFFSETTO:-0500
RRULE:FREQ=YEARLY;BYDAY=2SU;BYMONTH=3
TZNAME:CDT
END:DAYLIGHT
BEGIN:STANDARD
DTSTART:20261101T010000
TZOFFSETFROM:-0500
TZOFFSETTO:-0600
RRULE:FREQ=YEARLY;BYDAY=1SU;BYMONTH=11
TZNAME:CST
END:STANDARD
END:VTIMEZONE
BEGIN:VEVENT
DTSTAMP:20260423T152108Z
UID:b213951e-5cc4-475f-8c78-23d40f5a59ac
DTSTART:20260423T170000
DTEND:20260423T200000
DESCRIPTION:
LOCATION:
SUMMARY:BOYS SOCCER BARTON VS DAHLSTROM @ BMS
END:VEVENT
BEGIN:VEVENT
DTSTAMP:20260423T152108Z
UID:64a50bc1-e8a8-4422-9f84-8ca58752c6c6
DTSTART:20260427T173000
DTEND:20260427T223000
DESCRIPTION:The <a href="https://meetings.boardbook.org/Public/Organizatio
 n/1858" target="_blank"><u><u><u><u><u><u><u><u><u><u><u><u>official agend
 a notice and agenda workbook</u></u></u></u></u></u></u></u></u></u></u></
 u></a> will be posted online at least 72 hours prior to this meeting.
LOCATION:Academic Support Center - Keller Board Room
SUMMARY:Board of Trustees Meeting
END:VEVENT
BEGIN:VEVENT
DTSTAMP:20260423T152108Z
UID:1fb8b40c-91a0-4a65-b993-f67ad95d4340
DTSTART:20260429T180000
DTEND:20260429T193000
DESCRIPTION:
LOCATION:Moe & Gene Johnson High School\, 4260 FM 967\, Buda\, TX 78610\, U
 SA
SUMMARY:Ambassador Awards
END:VEVENT
BEGIN:VEVENT
DTSTAMP:20260423T152108Z
UID:b8bf5b6d-743f-4e77-8a23-f8eb92a70bc6
DTSTART:20260430T170000
DTEND:20260430T200000
DESCRIPTION:
LOCATION:
SUMMARY:GIRLS SOCCER BARTON VS CHAPA @ BMS
END:VEVENT
BEGIN:VEVENT
DTSTAMP:20260423T152108Z
UID:85b5632e-c7e5-4ca7-9b7d-db8d68d57148
DTSTART;VALUE=DATE:20260502
DTEND;VALUE=DATE:20260503
DESCRIPTION:
LOCATION:
SUMMARY:BMS Choir_ Hays Children's Choral Festival @ Hays PAC
END:VEVENT
BEGIN:VEVENT
DTSTAMP:20260423T152108Z
UID:d4178d3e-3e2b-4dcd-8135-09a51851633c
DTSTART:20260507T163000
DTEND:20260507T200000
DESCRIPTION:
LOCATION:
SUMMARY:BOYS SOCCER BARTON VS MCCORMICK @ BMS
END:VEVENT
BEGIN:VEVENT
DTSTAMP:20260423T152108Z
UID:9af4a1bb-378c-4c44-a73f-607b28b443e9
DTSTART;VALUE=DATE:20260508
DTEND;VALUE=DATE:20260509
DESCRIPTION:
LOCATION:
SUMMARY: BMS Pep Rally
END:VEVENT
BEGIN:VEVENT
DTSTAMP:20260423T152108Z
UID:76f5d9b2-b60f-4add-a670-d28748644507
DTSTART:20260508T180000
DTEND:20260508T210000
DESCRIPTION:
LOCATION:
SUMMARY:8TH GRADE DANCE
END:VEVENT
BEGIN:VEVENT
DTSTAMP:20260423T152108Z
UID:0859ade8-8964-4f67-83d7-3160bf7842f5
DTSTART:20260508T193000
DTEND:20260508T203000
DESCRIPTION:
LOCATION:
SUMMARY:BMS Choir_ Hays Masterworks Concert @ Hays PAC student call time 6:
 30 PM)
END:VEVENT
BEGIN:VEVENT
DTSTAMP:20260423T152108Z
UID:c79a1528-bd51-47a2-9019-1c3b34a96fa4
DTSTART:20260509T090000
DTEND:20260509T180000
DESCRIPTION:
LOCATION:
SUMMARY:BMS Choir_Choir Spring Trip @ Schlitterbahn
END:VEVENT
BEGIN:VEVENT
DTSTAMP:20260423T152108Z
UID:1dbef033-799e-4fc0-8c2a-ae367df34d3b
DTSTART:20260511T170000
DTEND:20260511T220000
DESCRIPTION:The <a href="https://meetings.boardbook.org/Public/Organizatio
 n/1858" target="_blank"><u><u><u><u><u><u><u><u><u><u><u><u><u>official ag
 enda notice and agenda workbook</u></u></u></u></u></u></u></u></u></u></u
 ></u></u></a> will be posted online at least 72 hours prior to this meeti
 ng.
LOCATION:Academic Support Center - Keller Board Room
SUMMARY:Board of Trustees Meeting
END:VEVENT
BEGIN:VEVENT
DTSTAMP:20260423T152108Z
UID:2e38150b-f8ca-461d-95f1-87de458d3d19
DTSTART:20260511T170000
DTEND:20260511T200000
DESCRIPTION:
LOCATION:
SUMMARY:GIRLS SOCCER BARTON VS WALLACE @ BMS
END:VEVENT
BEGIN:VEVENT
DTSTAMP:20260423T152108Z
UID:532845f3-6a77-496b-961e-feeb6cd65b84
DTSTART;VALUE=DATE:20260512
DTEND;VALUE=DATE:20260513
DESCRIPTION:
LOCATION:
SUMMARY:NJHS Meeting in Library_before and after school
END:VEVENT
BEGIN:VEVENT
DTSTAMP:20260423T152108Z
UID:b0b38086-b0bb-4bea-9cdf-2d0b2dcb42af
DTSTART;VALUE=DATE:20260513
DTEND;VALUE=DATE:20260514
DESCRIPTION:
LOCATION:
SUMMARY:BMS Orchestra Spring Concert (Beginner/Advance/Honors) @Hays PAC
END:VEVENT
BEGIN:VEVENT
DTSTAMP:20260423T152108Z
UID:93d84cae-8148-4a50-a39e-b2c7c6fe99f9
DTSTART:20260513T180000
DTEND:20260513T180000
DESCRIPTION:
LOCATION:Hays CISD\, 21003 Interstate 35 Frontage Rd\, Kyle\, TX 78640\, US
 A
SUMMARY:Facilities & Bond Oversight Committee (FBOC) Meeting
END:VEVENT
BEGIN:VEVENT
DTSTAMP:20260423T152108Z
UID:3873f1aa-8d43-4aef-8dd1-2a44d2882200
DTSTART:20260515T113000
DTEND:20260515T130000
DESCRIPTION:
LOCATION:1205 Roland Ln\, Kyle\, TX 78640\, USA
SUMMARY:Teacher of the Year
END:VEVENT
BEGIN:VEVENT
DTSTAMP:20260423T152108Z
UID:ea0bf8fd-5df0-48e6-b3df-40d019af229a
DTSTART:20260515T140000
DTEND:20260515T153000
DESCRIPTION:
LOCATION:
SUMMARY:PAWS FOR FUN
END:VEVENT
BEGIN:VEVENT
DTSTAMP:20260423T152108Z
UID:f9303ef2-5a92-4a10-8480-0fca17431bc3
DTSTART:20260515T180000
DTEND:20260515T190000
DESCRIPTION:
LOCATION:
SUMMARY:BMS Choir_Choir Spring Pops Concert @ Hays PAC student call time 5 
 PM)
END:VEVENT
BEGIN:VEVENT
DTSTAMP:20260423T152108Z
UID:399955cb-4bb2-4bac-b315-767f764bfe1f
DTSTART;VALUE=DATE:20260516
DTEND;VALUE=DATE:20260517
DESCRIPTION:
LOCATION:
SUMMARY:BMS_All District Honors Orchestra*** Select Students @ Hays PAC
END:VEVENT
BEGIN:VEVENT
DTSTAMP:20260423T152108Z
UID:438e8338-736e-4546-bb17-d6b2a1b7988e
DTSTART:20260518T173000
DTEND:20260518T223000
DESCRIPTION:The <a href="https://meetings.boardbook.org/Public/Organizatio
 n/1858" target="_blank"><u><u><u><u><u><u><u><u><u><u><u><u><u><u>official
  agenda notice and agenda workbook</u></u></u></u></u></u></u></u></u></u>
 </u></u></u></u></a> will be posted online at least 72 hours prior to thi
 s meeting.
LOCATION:Academic Support Center - Keller Board Room
SUMMARY:Board of Trustees Meeting
END:VEVENT
BEGIN:VEVENT
DTSTAMP:20260423T152108Z
UID:59409b2d-336c-422e-bb4b-a1a668096f4f
DTSTART;VALUE=DATE:20260519
DTEND;VALUE=DATE:20260521
DESCRIPTION:
LOCATION:
SUMMARY:Early Release High School Only
END:VEVENT
BEGIN:VEVENT
DTSTAMP:20260423T152108Z
UID:cc52f403-19b1-4ac9-a60f-e9ad9f215c83
DTSTART;VALUE=DATE:20260521
DTEND;VALUE=DATE:20260522
DESCRIPTION:
LOCATION:
SUMMARY:Early Release Grades 6th - 12th
END:VEVENT
BEGIN:VEVENT
DTSTAMP:20260423T152108Z
UID:bd647d11-4ec8-4b3c-8199-5b21a310c75b
DTSTART;VALUE=DATE:20260521
DTEND;VALUE=DATE:20260522
DESCRIPTION:
LOCATION:
SUMMARY:End of Fourth 9-Weeks Grading Period/Last Day of School
END:VEVENT
BEGIN:VEVENT
DTSTAMP:20260423T152108Z
UID:5eaa3523-2029-49a6-ba5a-b28ed0fd4e58
DTSTART;VALUE=DATE:20260522
DTEND;VALUE=DATE:20260523
DESCRIPTION:
LOCATION:
SUMMARY:Staff Workday/Student Holiday
END:VEVENT
BEGIN:VEVENT
DTSTAMP:20260423T152108Z
UID:4c489b37-1fd3-4292-932b-6b6801eb9f7f
DTSTART;VALUE=DATE:20260525
DTEND;VALUE=DATE:20260526
DESCRIPTION:
LOCATION:
SUMMARY:Student/Staff Holiday
END:VEVENT
BEGIN:VEVENT
DTSTAMP:20260423T152108Z
UID:962f7c17-a77e-4ed0-8637-bd73d5df686c
DTSTART;VALUE=DATE:20260526
DTEND;VALUE=DATE:20260527
DESCRIPTION:<a href="https://www.hayscisd.net/graduation"><b>Graduation Cer
 emony Information including ceremony times\, parking maps and live stream 
 links.</b></a>
LOCATION:106 Charles Austin Dr\, San Marcos\, TX 78666\, USA
SUMMARY:HHS Graduation Ceremony
END:VEVENT
BEGIN:VEVENT
DTSTAMP:20260423T152108Z
UID:0f5da251-de29-4db8-8b31-e90c1fb31f98
DTSTART;VALUE=DATE:20260526
DTEND;VALUE=DATE:20260527
DESCRIPTION:<a href="https://www.hayscisd.net/graduation"><b>Graduation Cer
 emony Information including ceremony times\, parking maps and live stream 
 links.</b></a>
LOCATION:106 Charles Austin Dr\, San Marcos\, TX 78666\, USA
SUMMARY:LHS Graduation Ceremony
END:VEVENT
BEGIN:VEVENT
DTSTAMP:20260423T152108Z
UID:839def09-5445-4b09-8d4f-ced1ee59a3bb
DTSTART;VALUE=DATE:20260526
DTEND;VALUE=DATE:20260527
DESCRIPTION:
LOCATION:
SUMMARY:Staff Exchange Workday/Student Holiday
END:VEVENT
BEGIN:VEVENT
DTSTAMP:20260423T152108Z
UID:ba2c716c-766f-41c1-bd79-7bbd2390a8fe
DTSTART;VALUE=DATE:20260527
DTEND;VALUE=DATE:20260528
DESCRIPTION:<a href="https://www.hayscisd.net/graduation"><b>Graduation Cer
 emony Information including ceremony times\, parking maps and live stream 
 links.</b></a>
LOCATION:106 Charles Austin Dr\, San Marcos\, TX 78666\, USA
SUMMARY:JHS Graduation Ceremony
END:VEVENT
BEGIN:VEVENT
DTSTAMP:20260423T152108Z
UID:1c663f00-b938-423f-a47a-ff503f6b8cc1
DTSTART;VALUE=DATE:20260527
DTEND;VALUE=DATE:20260528
DESCRIPTION:<a href="https://www.hayscisd.net/graduation"><b>Graduation Cer
 emony Information including ceremony times\, parking maps and live stream 
 links.</b></a>
LOCATION:106 Charles Austin Dr\, San Marcos\, TX 78666\, USA
SUMMARY:LOA Graduation Ceremony
END:VEVENT
BEGIN:VEVENT
DTSTAMP:20260423T152108Z
UID:f5f913a1-8656-466d-9758-3bec957bd7a6
DTSTART;VALUE=DATE:20260619
DTEND;VALUE=DATE:20260620
DESCRIPTION:
LOCATION:
SUMMARY:Student/Staff Holiday
END:VEVENT
BEGIN:VEVENT
DTSTAMP:20260423T152108Z
UID:07da89cd-f09e-4de5-a313-c0e825f9f99c
DTSTART:20260622T173000
DTEND:20260622T223000
DESCRIPTION:The <a href="https://meetings.boardbook.org/Public/Organizatio
 n/1858" target="_blank"><u><u><u><u><u><u><u><u><u><u><u><u><u><u><u>offic
 ial agenda notice and agenda workbook</u></u></u></u></u></u></u></u></u><
 /u></u></u></u></u></u></a> will be posted online at least 72 hours prior
  to this meeting.
LOCATION:Academic Support Center - Keller Board Room
SUMMARY:Board of Trustees Meeting
END:VEVENT
BEGIN:VEVENT
DTSTAMP:20260423T152108Z
UID:ded31756-4848-4bd8-9410-0cee74c8196c
DTSTART:20260624T180000
DTEND:20260624T180000
DESCRIPTION:
LOCATION:Hays CISD\, 21003 Interstate 35 Frontage Rd\, Kyle\, TX 78640\, US
 A
SUMMARY:Facilities & Bond Oversight Committee (FBOC) Meeting
END:VEVENT
BEGIN:VEVENT
DTSTAMP:20260423T152108Z
UID:831a113e-63d5-4a8b-bddf-ac46a840c27b
DTSTART:20260629T173000
DTEND:20260629T223000
DESCRIPTION:The <a href="https://meetings.boardbook.org/Public/Organizatio
 n/1858" target="_blank"><u>official agenda notice and agenda workbook</u><
 /a> will be posted online at least 72 hours prior to this meeting.
LOCATION:Academic Support Center - Keller Board Room
SUMMARY:Board of Trustees Meeting
END:VEVENT
BEGIN:VEVENT
DTSTAMP:20260423T152108Z
UID:7af43078-3f2a-4b89-93b7-481538aa1f60
DTSTART:20260727T173000
DTEND:20260727T223000
DESCRIPTION:
LOCATION:Academic Support Center - Keller Board Room
SUMMARY:Board of Trustees Meeting - Special: Superintendent Evaluation
END:VEVENT
END:VCALENDAR
