BEGIN:VCALENDAR
VERSION:2.0
PRODID:icalendar-ruby
CALSCALE:GREGORIAN
BEGIN:VTIMEZONE
TZID:America/New_York
BEGIN:DAYLIGHT
DTSTART:20260308T030000
TZOFFSETFROM:-0500
TZOFFSETTO:-0400
RRULE:FREQ=YEARLY;BYDAY=2SU;BYMONTH=3
TZNAME:EDT
END:DAYLIGHT
BEGIN:STANDARD
DTSTART:20261101T010000
TZOFFSETFROM:-0400
TZOFFSETTO:-0500
RRULE:FREQ=YEARLY;BYDAY=1SU;BYMONTH=11
TZNAME:EST
END:STANDARD
END:VTIMEZONE
BEGIN:VEVENT
DTSTAMP:20260424T032447Z
UID:b85f1757-f232-458a-be82-c907f56e8020
DTSTART:20260423T190000
DTEND:20260423T210000
DESCRIPTION:
LOCATION:
SUMMARY:John Prine Tribute - Performance
END:VEVENT
BEGIN:VEVENT
DTSTAMP:20260424T032447Z
UID:9bc93bd6-c481-4b8b-94e6-1a0b100f7d66
DTSTART:20260425T180000
DTEND:20260425T183000
DESCRIPTION:It is a dinasaur party at the Shiras Planetarium!  Wear your fa
 vorite dinosaur gear and enjoy a really amazing fulldome film all about di
 nosaurs! <p>Dinosaurs: A Story of Survival takes audiences on a breathtak
 ing journey back in time to explore how dinosaurs lived\, adapted\, and th
 rived for over 160 million years. Through stunning fulldome visuals and th
 e latest scientific discoveries\, this immersive experience reveals what m
 ade dinosaurs so successful\, how they evolved alongside a changing planet
 \, and why some species survived while others did not.<br><br>Rather than 
 focusing only on extinction\, the film highlights resilience\, adaptation\
 , and the surprising connections between dinosaurs and modern animals\, in
 cluding birds. From towering predators to small\, feathered survivors\, th
 is show brings Earth’s deep past to life and shows how ancient survival 
 stories continue to shape the world we see today.<br><br>Recommended for f
 amilies and curious learners of all ages who want to experience dinosaurs 
 through science\, not fiction.</p><p>Purchase tickets at <a href="https:/
 /www.google.com/url?q=https://shirasplanetarium.org/tickets/&amp\;sa=D&amp
 \;source=calendar&amp\;ust=1776120091700651&amp\;usg=AOvVaw2egR6wlD6CwJunn
 1IrfpF9" target="_blank">https://shirasplanetarium.org/tickets/</a></p>
LOCATION:Shiras Planetarium\, 1203 W Fair Ave\, Marquette\, MI 49855\, USA
SUMMARY:Dinosaurs-A Story of Survival (4/25)
END:VEVENT
BEGIN:VEVENT
DTSTAMP:20260424T032447Z
UID:cdeeabc7-5bbc-458c-b1c6-851743d5198a
DTSTART:20260425T190000
DTEND:20260425T195500
DESCRIPTION:Read more information and purchase tickets at <a href="https:/
 /www.google.com/url?q=https://shirasplanetarium.org/tickets&amp\;sa=D&amp\
 ;source=calendar&amp\;ust=1776119893011063&amp\;usg=AOvVaw2ONU7Yhl3P6hqgHS
 ii54E-" target="_blank">https://shirasplanetarium.org/tickets</a>
LOCATION:Shiras Planetarium\, 1203 W Fair Ave\, Marquette\, MI 49855\, USA
SUMMARY:Laser Beastie Boys (4/25)
END:VEVENT
BEGIN:VEVENT
DTSTAMP:20260424T032447Z
UID:7aa64cc3-5563-489a-8d28-00817926bff2
DTSTART:20260425T193000
DTEND:20260425T213000
DESCRIPTION:
LOCATION:
SUMMARY:Marquette Choral Society Performance 
END:VEVENT
BEGIN:VEVENT
DTSTAMP:20260424T032447Z
UID:8ac7987d-33d4-41e3-907c-07630a173d73
DTSTART:20260425T203000
DTEND:20260425T212500
DESCRIPTION:<u></u><u></u><p>8:30 pm Laser Floyd The Vision Bell (4/25)</p>
 <p>Description:</p><p>Inspired by the release of 1994&#39\;s &quot\;The Di
 vision Bell&quot\;\, this Pink Floyd laser show combines their most recent
  material with some of their oldest.</p><br>Set List: <br><ul><li>Keep Ta
 lking </li><li>One Slip </li><li>Astronomy Domine </li><li>Any Colour Y
 ou Like </li><li>Brain Damage </li><li>Eclipse </li><li>Have A Cigar <
 /li><li>Wish you Were Here </li><li>Another Brick in the Wall (Pt. 1) </
 li><li>The Happiest Day of Our Lives </li><li>Another Brick in the Wall (
  Pt. 2) </li><li>Hey You</li><li>Is There Anybody Out There? </li><li>Pi
 gs on the Wing (Pt. 2) </li><li>One of these Days </li><li>Hero&#39\;s R
 eturn </li></ul><p>Read more information and purchase tickets at <a href
 ="https://www.google.com/url?q=https://shirasplanetarium.org/tickets/&amp\
 ;sa=D&amp\;source=calendar&amp\;ust=1776120049172912&amp\;usg=AOvVaw3W3L8Y
 t_dA4NK0V05dhbB8" target="_blank">https://shirasplanetarium.org/tickets/</
 a></p><u></u><u></u>
LOCATION:Shiras Planetarium\, 1203 W Fair Ave\, Marquette\, MI 49855\, USA
SUMMARY:Laser Floyd The Vision Bell (4/25)
END:VEVENT
BEGIN:VEVENT
DTSTAMP:20260424T032447Z
UID:64af7378-0eb6-4473-bff6-6efc66c042d4
DTSTART:20260426T150000
DTEND:20260426T170000
DESCRIPTION:
LOCATION:
SUMMARY:Marquette Choral Society Performance
END:VEVENT
BEGIN:VEVENT
DTSTAMP:20260424T032447Z
UID:743816b4-bbf2-4a86-bd86-c4ac3712a4e8
DTSTART;VALUE=DATE:20260427
DTEND;VALUE=DATE:20260502
DESCRIPTION:
LOCATION:
SUMMARY:Excellence in Education Week
END:VEVENT
BEGIN:VEVENT
DTSTAMP:20260424T032447Z
UID:c31ad0f3-5ed6-42e8-be8e-e149e8150bf7
DTSTART;VALUE=DATE:20260427
DTEND;VALUE=DATE:20260501
DESCRIPTION:
LOCATION:
SUMMARY:Kindergarten Screening
END:VEVENT
BEGIN:VEVENT
DTSTAMP:20260424T032447Z
UID:4f52fc52-385d-4ac9-8154-f636512c2108
DTSTART;VALUE=DATE:20260428
DTEND;VALUE=DATE:20260429
DESCRIPTION:
LOCATION:
SUMMARY:School Bus Driver Appreciation Day
END:VEVENT
BEGIN:VEVENT
DTSTAMP:20260424T032447Z
UID:4fdec839-4661-46d4-be80-577e9ee4ee9b
DTSTART;VALUE=DATE:20260501
DTEND;VALUE=DATE:20260502
DESCRIPTION:
LOCATION:
SUMMARY:School Lunch Hero Day
END:VEVENT
BEGIN:VEVENT
DTSTAMP:20260424T032447Z
UID:0785f7a2-69c3-4c9b-a607-49a691cd6a28
DTSTART;VALUE=DATE:20260501
DTEND;VALUE=DATE:20260502
DESCRIPTION:
LOCATION:
SUMMARY:School Principals Day
END:VEVENT
BEGIN:VEVENT
DTSTAMP:20260424T032447Z
UID:ece16411-d847-4f31-988b-5cd6de21495e
DTSTART:20260502T120000
DTEND:20260502T140000
DESCRIPTION:
LOCATION:
SUMMARY:Northern Sky Spring Ballet Matinee Performance 
END:VEVENT
BEGIN:VEVENT
DTSTAMP:20260424T032447Z
UID:8841b493-6ed0-44d2-8056-751014d98c06
DTSTART:20260502T170000
DTEND:20260502T190000
DESCRIPTION:
LOCATION:
SUMMARY:Northern Sky Spring Ballet Evening Performance
END:VEVENT
BEGIN:VEVENT
DTSTAMP:20260424T032447Z
UID:7ea760b0-059d-445c-9ff4-c5f19dd4138f
DTSTART;VALUE=DATE:20260504
DTEND;VALUE=DATE:20260505
DESCRIPTION:
LOCATION:
SUMMARY:Teacher Appreciation Week
END:VEVENT
BEGIN:VEVENT
DTSTAMP:20260424T032447Z
UID:0576c2f5-7cfa-44c6-8c23-dbc40b937521
DTSTART:20260504T173000
DTEND:20260504T190000
DESCRIPTION:
LOCATION:MAHS Family Room
SUMMARY:Committee of the Whole
END:VEVENT
BEGIN:VEVENT
DTSTAMP:20260424T032447Z
UID:d74dc407-ac11-47ab-8497-4e70a51be40d
DTSTART;VALUE=DATE:20260506
DTEND;VALUE=DATE:20260507
DESCRIPTION:
LOCATION:
SUMMARY:National School Nurse Day
END:VEVENT
BEGIN:VEVENT
DTSTAMP:20260424T032447Z
UID:b52a1c90-8437-4f14-8669-d079a7a948e9
DTSTART:20260509T130000
DTEND:20260509T150000
DESCRIPTION:
LOCATION:
SUMMARY:Dawn Dott Dance Recital 
END:VEVENT
BEGIN:VEVENT
DTSTAMP:20260424T032447Z
UID:b661f86f-4583-4131-92b8-fda9aa56c0d7
DTSTART:20260509T170000
DTEND:20260509T190000
DESCRIPTION:
LOCATION:
SUMMARY:Dawn Dott Dance Recital 
END:VEVENT
BEGIN:VEVENT
DTSTAMP:20260424T032447Z
UID:08293fdd-6a24-4994-97a7-76f44672878f
DTSTART:20260509T183000
DTEND:20260509T191500
DESCRIPTION: We’ll journey through the stars\, planets\, and constellati
 ons visible in our Upper Peninsula skies this season.\n\nRecommended for a
 dults and older children who enjoy a quiet\, 45-minute guided experience.\
 n\nRead more information and get tickets at <a href="https://www.google.c
 om/url?q=https://shirasplanetarium.org/tickets/&amp\;sa=D&amp\;source=cale
 ndar&amp\;ust=1769350332841394&amp\;usg=AOvVaw0jdEY55ehAxinIF1GW4Eia" targ
 et="_blank">https://shirasplanetarium.org/tickets/</a>
LOCATION:Shiras Planetarium\, 1203 W Fair Ave\, Marquette\, MI 49855\, USA
SUMMARY:Night Sky Tour
END:VEVENT
BEGIN:VEVENT
DTSTAMP:20260424T032447Z
UID:905f30a2-f24c-43c0-b048-ad10f099e526
DTSTART:20260510T130000
DTEND:20260510T150000
DESCRIPTION:
LOCATION:
SUMMARY:Dawn Dott Dance Recital 
END:VEVENT
BEGIN:VEVENT
DTSTAMP:20260424T032447Z
UID:262b7b58-502c-4919-8cfb-511894d11ee4
DTSTART:20260510T170000
DTEND:20260510T190000
DESCRIPTION:
LOCATION:
SUMMARY:Dawn Dott Dance Recital 
END:VEVENT
BEGIN:VEVENT
DTSTAMP:20260424T032447Z
UID:7b1853df-cbdc-4539-823c-3b7b8df5ca01
DTSTART;VALUE=DATE:20260513
DTEND;VALUE=DATE:20260516
DESCRIPTION:
LOCATION:
SUMMARY:5th Graders go to Bay Cliff
END:VEVENT
BEGIN:VEVENT
DTSTAMP:20260424T032447Z
UID:0de8ae57-3169-4d19-a58e-dbf53f4a5769
DTSTART:20260513T173000
DTEND:20260513T183000
DESCRIPTION:Join us for Yoga Under the Stars!   <br><br>Read more informa
 tion and get your tickets at <a href="https://www.google.com/url?q=https:
 //shirasplanetarium.org/tickets/&amp\;sa=D&amp\;source=calendar&amp\;ust=1
 769350332841394&amp\;usg=AOvVaw0jdEY55ehAxinIF1GW4Eia" target="_blank">htt
 ps://shirasplanetarium.org/tickets/</a>
LOCATION:Shiras Planetarium\, 1203 W Fair Ave\, Marquette\, MI 49855\, USA
SUMMARY:Yoga Under the Stars
END:VEVENT
BEGIN:VEVENT
DTSTAMP:20260424T032447Z
UID:89b2dfed-bf99-4557-9c28-05b321372452
DTSTART:20260513T184500
DTEND:20260513T194500
DESCRIPTION:Join us for Yoga Under the Stars!   <br><br>Read more informa
 tion and get your tickets at <a href="https://www.google.com/url?q=https:
 //shirasplanetarium.org/tickets/&amp\;sa=D&amp\;source=calendar&amp\;ust=1
 769350332841394&amp\;usg=AOvVaw0jdEY55ehAxinIF1GW4Eia" target="_blank">htt
 ps://shirasplanetarium.org/tickets/</a>
LOCATION:Shiras Planetarium\, 1203 W Fair Ave\, Marquette\, MI 49855\, USA
SUMMARY:Yoga Under the Stars
END:VEVENT
BEGIN:VEVENT
DTSTAMP:20260424T032447Z
UID:1d2e1bf9-b7f2-45c4-89df-e01270673834
DTSTART;VALUE=DATE:20260518
DTEND;VALUE=DATE:20260519
DESCRIPTION:
LOCATION:
SUMMARY:Speech Pathologist Day
END:VEVENT
BEGIN:VEVENT
DTSTAMP:20260424T032447Z
UID:3c4bcdf0-c185-4d7f-bea1-3a4bd333f931
DTSTART:20260518T173000
DTEND:20260518T190000
DESCRIPTION:
LOCATION:MSHS Library/SRC
SUMMARY:Board Meeting
END:VEVENT
BEGIN:VEVENT
DTSTAMP:20260424T032447Z
UID:8e178b76-eabb-4f14-b187-0939d3883de4
DTSTART;VALUE=DATE:20260520
DTEND;VALUE=DATE:20260521
DESCRIPTION:
LOCATION:
SUMMARY:8th Grade Orientation – 9-12 Early Release
END:VEVENT
BEGIN:VEVENT
DTSTAMP:20260424T032447Z
UID:d621e136-ae88-410a-a763-8e9c3189cc3b
DTSTART;VALUE=DATE:20260525
DTEND;VALUE=DATE:20260526
DESCRIPTION:
LOCATION:
SUMMARY:Memorial Day – No school
END:VEVENT
BEGIN:VEVENT
DTSTAMP:20260424T032447Z
UID:08d3a80d-cec9-4c06-b901-99bb3c0dfb2a
DTSTART:20260529T190000
DTEND:20260529T200000
DESCRIPTION:<h3><strong>Northern Nights: Live with The Knockabouts (5/29 at
  7:00pm)</strong></h3><p>Join us for a unique live music experience inside
  the Shiras Planetarium.</p><p><strong>The Knockabouts</strong> bring the
 ir rich blend of folk\, Americana\, and storytelling to the dome for an in
 timate\, one-night-only performance. Known for their heartfelt lyrics\, st
 rong harmonies\, and deep connection to place\, their music pairs beautifu
 lly with the immersive environment of the planetarium.</p><p>As the band p
 erforms\, the dome will come alive with a curated visual journey featuring
  starfields\, night skies\, and scenic landscapes that enhance the mood an
 d storytelling of the music. This is not just a concert—it is a fully im
 mersive experience where sound and imagery come together.</p><p>This speci
 al event is limited to just <strong>35 guests</strong>\, creating a relax
 ed and personal atmosphere where every seat feels close to the music.</p><
 p>Settle in\, look up\, and experience live music in a way you’ve never 
 heard—or seen—before.</p><p>Learn more about The Knockabouts:<br><a hr
 ef="https://www.google.com/url?q=https://www.theknockabouts.org/&amp\;sa=D
 &amp\;source=calendar&amp\;ust=1775826553100772&amp\;usg=AOvVaw1Ptwho2QFAN
 AMT2DGljcLO" target="_blank"><u>https://www.theknockabouts.org/</u></a></p
 ><p>Get tickets at <a href="https://www.google.com/url?q=https://shiraspl
 anetarium.org/tickets/&amp\;sa=D&amp\;source=calendar&amp\;ust=17758265531
 00772&amp\;usg=AOvVaw1WMcnMnzzlqDakpuVoslF3" target="_blank">https://shira
 splanetarium.org/tickets/</a></p>
LOCATION:
SUMMARY:Northern Nights: Live with The Knockabouts! (5/29)
END:VEVENT
BEGIN:VEVENT
DTSTAMP:20260424T032447Z
UID:3498838d-4ee3-43ca-87df-e90e2bca2949
DTSTART;VALUE=DATE:20260608
DTEND;VALUE=DATE:20260611
DESCRIPTION:
LOCATION:
SUMMARY:9-12 Early Release
END:VEVENT
BEGIN:VEVENT
DTSTAMP:20260424T032447Z
UID:509b6ee9-5cba-4d8d-a38a-c8d9fb04d696
DTSTART;VALUE=DATE:20260608
DTEND;VALUE=DATE:20260612
DESCRIPTION:
LOCATION:
SUMMARY:9-12 Second Semester Exams
END:VEVENT
BEGIN:VEVENT
DTSTAMP:20260424T032447Z
UID:b51184d6-9f09-4b1c-9b58-16ae1de6e447
DTSTART:20260610T173000
DTEND:20260610T183000
DESCRIPTION:Join us for Yoga Under the Stars!   <br><br>Read more informa
 tion and get your tickets at <a href="https://www.google.com/url?q=https:
 //shirasplanetarium.org/tickets/&amp\;sa=D&amp\;source=calendar&amp\;ust=1
 769350336503313&amp\;usg=AOvVaw0Ep1g8MRHG9VL-ZrS1rU1i" target="_blank">htt
 ps://shirasplanetarium.org/tickets/</a>
LOCATION:Shiras Planetarium\, 1203 W Fair Ave\, Marquette\, MI 49855\, USA
SUMMARY:Yoga Under the Stars
END:VEVENT
BEGIN:VEVENT
DTSTAMP:20260424T032447Z
UID:4c1b5502-994e-433c-8390-970a4b417a1e
DTSTART:20260610T184500
DTEND:20260610T194500
DESCRIPTION:Join us for Yoga Under the Stars!   <br><br>Read more informa
 tion and get your tickets at <a href="https://www.google.com/url?q=https:
 //shirasplanetarium.org/tickets/&amp\;sa=D&amp\;source=calendar&amp\;ust=1
 769354402652048&amp\;usg=AOvVaw0WovEx2mg53D9h5HA4TwSp" target="_blank">htt
 ps://shirasplanetarium.org/tickets/</a>
LOCATION:Shiras Planetarium\, 1203 W Fair Ave\, Marquette\, MI 49855\, USA
SUMMARY:Yoga Under the Stars
END:VEVENT
BEGIN:VEVENT
DTSTAMP:20260424T032447Z
UID:d328ef3f-5e07-42a5-b6f2-1d877bc8f715
DTSTART;VALUE=DATE:20260611
DTEND;VALUE=DATE:20260612
DESCRIPTION:
LOCATION:
SUMMARY:End of Second Semester
END:VEVENT
BEGIN:VEVENT
DTSTAMP:20260424T032447Z
UID:6d733b72-f68f-4174-b047-4196bd11e18d
DTSTART;VALUE=DATE:20260611
DTEND;VALUE=DATE:20260612
DESCRIPTION:
LOCATION:
SUMMARY:Last day of School – Half Day for all Students
END:VEVENT
BEGIN:VEVENT
DTSTAMP:20260424T032447Z
UID:36937bc8-0649-42ba-af43-cd444d89c9c2
DTSTART:20260622T173000
DTEND:20260622T190000
DESCRIPTION:
LOCATION:MSHS Library/SRC
SUMMARY:Budget Hearing and Regular Board Meeting
END:VEVENT
BEGIN:VEVENT
DTSTAMP:20260424T032447Z
UID:495f8a93-c8b3-437c-accf-fc827549a460
DTSTART:20260825T080000
DTEND:20260825T150000
DESCRIPTION:
LOCATION:
SUMMARY:All Staff Professional Development 
END:VEVENT
BEGIN:VEVENT
DTSTAMP:20260424T032447Z
UID:45b304b3-e166-4391-a1d9-6ea1581baeff
DTSTART:20260904T143000
DTEND:20260904T150000
DESCRIPTION:
LOCATION:
SUMMARY:GES Assembly
END:VEVENT
BEGIN:VEVENT
DTSTAMP:20260424T032447Z
UID:2938989c-bace-4774-95ab-31b45a32761d
DTSTART:20261008T190000
DTEND:20261008T210000
DESCRIPTION:
LOCATION:
SUMMARY:UPHHH - TBD
END:VEVENT
BEGIN:VEVENT
DTSTAMP:20260424T032447Z
UID:757c7aa8-25bb-447d-91f2-e20fba74e90e
DTSTART:20261010T193000
DTEND:20261010T213000
DESCRIPTION:
LOCATION:
SUMMARY:MSO Performance
END:VEVENT
BEGIN:VEVENT
DTSTAMP:20260424T032447Z
UID:ef1f2b8a-fa24-4fbe-b69b-5ba9c3a81613
DTSTART:20261021T183000
DTEND:20261021T203000
DESCRIPTION:
LOCATION:
SUMMARY:BMS/MSHS Bands Spooktacular Concert
END:VEVENT
BEGIN:VEVENT
DTSTAMP:20260424T032447Z
UID:83000884-fc76-4a94-8913-e88e4e6220d2
DTSTART:20261030T100000
DTEND:20261030T110000
DESCRIPTION:
LOCATION:
SUMMARY:Halloween Spooktacular - 4th Grade Play
END:VEVENT
BEGIN:VEVENT
DTSTAMP:20260424T032447Z
UID:22c02c2f-0466-474a-9ea6-e1607f0422d3
DTSTART:20261111T091500
DTEND:20261111T130000
DESCRIPTION:
LOCATION:
SUMMARY:TBD - MSHS Musical - Student Performance
END:VEVENT
BEGIN:VEVENT
DTSTAMP:20260424T032447Z
UID:04c3adf3-c0ee-4797-bc5d-321196be44ba
DTSTART:20261112T091500
DTEND:20261112T130000
DESCRIPTION:
LOCATION:
SUMMARY:MSHS Musical - Student Performance
END:VEVENT
BEGIN:VEVENT
DTSTAMP:20260424T032447Z
UID:626ab8f3-bbef-4660-845c-18ff8e68d592
DTSTART:20261113T190000
DTEND:20261113T220000
DESCRIPTION:
LOCATION:
SUMMARY:MSHS Musical Performance
END:VEVENT
BEGIN:VEVENT
DTSTAMP:20260424T032447Z
UID:e215ac7e-76a9-419a-9d8a-193f53e4de15
DTSTART:20261114T130000
DTEND:20261114T160000
DESCRIPTION:
LOCATION:
SUMMARY:MSHS Musical Performance
END:VEVENT
BEGIN:VEVENT
DTSTAMP:20260424T032447Z
UID:e0cb357d-0685-4f69-970a-b437f9ed2312
DTSTART:20261114T190000
DTEND:20261114T220000
DESCRIPTION:
LOCATION:
SUMMARY:MSHS Musical Performance
END:VEVENT
BEGIN:VEVENT
DTSTAMP:20260424T032447Z
UID:b9f3adef-c291-4a6a-a8e9-181bb722ff0e
DTSTART:20261115T130000
DTEND:20261115T160000
DESCRIPTION:
LOCATION:
SUMMARY:MSHS Musical Performance
END:VEVENT
BEGIN:VEVENT
DTSTAMP:20260424T032447Z
UID:efaa18f2-f858-4f73-b096-aef7979bf5c8
DTSTART:20261128T180000
DTEND:20261128T193000
DESCRIPTION:
LOCATION:
SUMMARY:New Attitudes Performance
END:VEVENT
BEGIN:VEVENT
DTSTAMP:20260424T032447Z
UID:3acdecbe-7e7a-4c2a-aaed-4a53b5396ddb
DTSTART:20261201T170000
DTEND:20261201T200000
DESCRIPTION:
LOCATION:
SUMMARY:BMS Band Performances
END:VEVENT
BEGIN:VEVENT
DTSTAMP:20260424T032447Z
UID:80777ff3-7ccb-48e6-9fb1-0f1729181213
DTSTART:20261202T183000
DTEND:20261202T200000
DESCRIPTION:
LOCATION:
SUMMARY:MAPS Orchestras
END:VEVENT
BEGIN:VEVENT
DTSTAMP:20260424T032447Z
UID:4ad688d2-b728-4c07-8ac2-9f62e56655fe
DTSTART:20261203T183000
DTEND:20261203T200000
DESCRIPTION:
LOCATION:
SUMMARY:MSHS Bands: Concert
END:VEVENT
BEGIN:VEVENT
DTSTAMP:20260424T032447Z
UID:e8d4a23a-8b3a-466f-8c68-a6f1e7a54af9
DTSTART:20261205T130000
DTEND:20261205T150000
DESCRIPTION:
LOCATION:
SUMMARY:Nutcracker Performance 
END:VEVENT
BEGIN:VEVENT
DTSTAMP:20260424T032447Z
UID:5180b41f-a60c-4e4e-840e-a47983f921ea
DTSTART:20261205T190000
DTEND:20261205T210000
DESCRIPTION:
LOCATION:
SUMMARY:Nutcracker Performance
END:VEVENT
BEGIN:VEVENT
DTSTAMP:20260424T032447Z
UID:228d47f9-8449-4d1f-b7cc-065911021191
DTSTART:20261206T130000
DTEND:20261206T143000
DESCRIPTION:
LOCATION:
SUMMARY:Dawn Dott Christmas Show 
END:VEVENT
BEGIN:VEVENT
DTSTAMP:20260424T032447Z
UID:0ebc13b4-7d6d-4d60-8f17-e6696a1b5f66
DTSTART:20261206T160000
DTEND:20261206T173000
DESCRIPTION:
LOCATION:
SUMMARY:Dawn Dott Christmas Show
END:VEVENT
BEGIN:VEVENT
DTSTAMP:20260424T032447Z
UID:49af5bb1-b095-43a0-8d9e-e72ada111e66
DTSTART:20261207T183000
DTEND:20261207T200000
DESCRIPTION:
LOCATION:
SUMMARY:MSHS Choir Concert
END:VEVENT
BEGIN:VEVENT
DTSTAMP:20260424T032447Z
UID:08f677fd-0cc5-45e8-bcab-aaf5d88c2e13
DTSTART:20261209T183000
DTEND:20261209T200000
DESCRIPTION:
LOCATION:
SUMMARY:BMS Choir Concert
END:VEVENT
BEGIN:VEVENT
DTSTAMP:20260424T032447Z
UID:88db989a-832f-4443-9474-d826be33540d
DTSTART:20261212T193000
DTEND:20261212T213000
DESCRIPTION:
LOCATION:
SUMMARY:MSO Performance
END:VEVENT
BEGIN:VEVENT
DTSTAMP:20260424T032447Z
UID:62360258-8069-404f-9e52-0a0d4be50001
DTSTART:20261213T140000
DTEND:20261213T150000
DESCRIPTION:
LOCATION:
SUMMARY:MSO Performance
END:VEVENT
BEGIN:VEVENT
DTSTAMP:20260424T032447Z
UID:af46294a-a11f-4197-b58b-3c272b233c1a
DTSTART:20261214T183000
DTEND:20261214T203000
DESCRIPTION:
LOCATION:
SUMMARY:Snow Day Make-up 
END:VEVENT
BEGIN:VEVENT
DTSTAMP:20260424T032447Z
UID:b7c04314-cbcf-4b0d-ad53-47ba49326acb
DTSTART:20261217T144500
DTEND:20261217T153000
DESCRIPTION:
LOCATION:
SUMMARY:GES Program JK-2
END:VEVENT
BEGIN:VEVENT
DTSTAMP:20260424T032447Z
UID:5fde3b9e-d619-40f0-9fe3-a125961337c8
DTSTART:20261218T143000
DTEND:20261218T154500
DESCRIPTION:
LOCATION:
SUMMARY:GES 3-5
END:VEVENT
BEGIN:VEVENT
DTSTAMP:20260424T032447Z
UID:89ee35cf-f170-47be-a425-bc6e65024138
DTSTART:20261221T143000
DTEND:20261221T154500
DESCRIPTION:
LOCATION:
SUMMARY:GES Snow Day Make-up
END:VEVENT
BEGIN:VEVENT
DTSTAMP:20260424T032447Z
UID:d783a5f3-a812-4caf-a72f-f0e5d5962d6a
DTSTART:20270116T160000
DTEND:20270116T180000
DESCRIPTION:
LOCATION:
SUMMARY:MSO Performance 
END:VEVENT
BEGIN:VEVENT
DTSTAMP:20260424T032447Z
UID:a20abbf3-3ffc-4aa5-b223-7be49c8a5ee6
DTSTART:20270121T190000
DTEND:20270121T210000
DESCRIPTION:
LOCATION:
SUMMARY:MRHC Jack D. & Jim K. Fundraiser
END:VEVENT
BEGIN:VEVENT
DTSTAMP:20260424T032447Z
UID:da0e71ff-d0d8-45a4-806b-d50cf1c0d354
DTSTART:20270211T180000
DTEND:20270211T200000
DESCRIPTION:
LOCATION:
SUMMARY:Marquette's Got Talent Showcase
END:VEVENT
BEGIN:VEVENT
DTSTAMP:20260424T032447Z
UID:084df5e1-2812-450e-b6eb-828aac1dbcc0
DTSTART:20270214T150000
DTEND:20270214T170000
DESCRIPTION:
LOCATION:
SUMMARY:Mqt City Band Concert 
END:VEVENT
BEGIN:VEVENT
DTSTAMP:20260424T032447Z
UID:d3aba12e-9806-45aa-aa32-65ee23524642
DTSTART:20270216T183000
DTEND:20270216T203000
DESCRIPTION:
LOCATION:
SUMMARY:BMS Bands Pre-Festival Concert
END:VEVENT
BEGIN:VEVENT
DTSTAMP:20260424T032447Z
UID:3d670bf7-9444-4cfe-ab3f-0e7c947c0844
DTSTART:20270217T183000
DTEND:20270217T203000
DESCRIPTION:
LOCATION:
SUMMARY:MAPS Orchestra Concert
END:VEVENT
BEGIN:VEVENT
DTSTAMP:20260424T032447Z
UID:ec1dda1d-8c01-4b90-827f-6ef32dd0c499
DTSTART:20270218T183000
DTEND:20270218T203000
DESCRIPTION:
LOCATION:
SUMMARY:MSHS Bands Pre-Festival Concert
END:VEVENT
BEGIN:VEVENT
DTSTAMP:20260424T032447Z
UID:474b8e1f-9315-4dc2-b7d3-e44e7d223262
DTSTART:20270220T110000
DTEND:20270220T130000
DESCRIPTION:
LOCATION:
SUMMARY:Dawn Dott Dance Performance
END:VEVENT
BEGIN:VEVENT
DTSTAMP:20260424T032447Z
UID:1c687b20-b1d8-4908-886d-9c8f3b8aef3a
DTSTART:20270220T140000
DTEND:20270220T160000
DESCRIPTION:
LOCATION:
SUMMARY:Dawn Dott Dance Performance
END:VEVENT
BEGIN:VEVENT
DTSTAMP:20260424T032447Z
UID:321022b4-f0f2-4af1-b05b-4bfe1cf06026
DTSTART:20270222T180000
DTEND:20270222T200000
DESCRIPTION:
LOCATION:
SUMMARY:New Attitudes Dance Showcase
END:VEVENT
BEGIN:VEVENT
DTSTAMP:20260424T032447Z
UID:ad8db03a-a911-4a43-8e54-18bbb7957a06
DTSTART:20270306T193000
DTEND:20270306T213000
DESCRIPTION:
LOCATION:
SUMMARY:MSO- Performance
END:VEVENT
BEGIN:VEVENT
DTSTAMP:20260424T032447Z
UID:e437522d-31a6-4e1a-bfe9-cab3576db443
DTSTART:20270410T193000
DTEND:20270410T213000
DESCRIPTION:
LOCATION:
SUMMARY:MSO Performance
END:VEVENT
BEGIN:VEVENT
DTSTAMP:20260424T032447Z
UID:f06bfcf5-31fa-4cd5-9e9e-c87ac9cad3e1
DTSTART:20270412T100000
DTEND:20270412T120000
DESCRIPTION:
LOCATION:
SUMMARY:MSO Performance for MAPS Students
END:VEVENT
BEGIN:VEVENT
DTSTAMP:20260424T032447Z
UID:a7ea67e8-703f-46e7-a143-f5dbd8e749f8
DTSTART:20270422T190000
DTEND:20270422T210000
DESCRIPTION:
LOCATION:
SUMMARY:The Make-believe Spurs - Performance
END:VEVENT
BEGIN:VEVENT
DTSTAMP:20260424T032447Z
UID:baf385b6-8fd5-4e3e-a61f-d79f0ff37181
DTSTART:20270425T193000
DTEND:20270425T213000
DESCRIPTION:
LOCATION:
SUMMARY:Mqt City Band Performance
END:VEVENT
BEGIN:VEVENT
DTSTAMP:20260424T032447Z
UID:7c94fca4-ebba-4d36-98ac-642123dcc3a6
DTSTART:20270428T183000
DTEND:20270428T203000
DESCRIPTION:
LOCATION:
SUMMARY:MSHS Choir Concert
END:VEVENT
BEGIN:VEVENT
DTSTAMP:20260424T032447Z
UID:28e07e80-4443-4eb3-bf1d-febc545a961b
DTSTART:20270501T120000
DTEND:20270501T140000
DESCRIPTION:
LOCATION:
SUMMARY:Northern Sky Spring Ballet Matinee Performance 
END:VEVENT
BEGIN:VEVENT
DTSTAMP:20260424T032447Z
UID:e30d9623-0dcf-4b47-beac-0a55f2315dbe
DTSTART:20270501T170000
DTEND:20270501T190000
DESCRIPTION:
LOCATION:
SUMMARY:Northern Sky Spring Ballet Evening Performance
END:VEVENT
BEGIN:VEVENT
DTSTAMP:20260424T032447Z
UID:e4f01692-9af0-4ef8-b9f9-69b66da43028
DTSTART:20270503T183000
DTEND:20270503T203000
DESCRIPTION:
LOCATION:
SUMMARY:MAPS Orchestra Concert
END:VEVENT
BEGIN:VEVENT
DTSTAMP:20260424T032447Z
UID:89482121-ab15-4ec6-a8e5-236d6e8bb4c3
DTSTART:20270504T183000
DTEND:20270504T203000
DESCRIPTION:
LOCATION:
SUMMARY:MSHS Band Concert
END:VEVENT
BEGIN:VEVENT
DTSTAMP:20260424T032447Z
UID:32414033-9272-43cb-9335-a03f847cdc25
DTSTART;VALUE=DATE:20270506
DTEND;VALUE=DATE:20270507
DESCRIPTION:
LOCATION:
SUMMARY:DDD TBA
END:VEVENT
BEGIN:VEVENT
DTSTAMP:20260424T032447Z
UID:ff7dfa68-5262-45fa-bdd0-a5ef06e98d10
DTSTART;VALUE=DATE:20270506
DTEND;VALUE=DATE:20270510
DESCRIPTION:
LOCATION:
SUMMARY:DDD TBA
END:VEVENT
BEGIN:VEVENT
DTSTAMP:20260424T032447Z
UID:bfd7524f-837c-46a1-b56a-830a6dbb728a
DTSTART:20270511T170000
DTEND:20270511T203000
DESCRIPTION:
LOCATION:
SUMMARY:BMS Band Concert
END:VEVENT
BEGIN:VEVENT
DTSTAMP:20260424T032447Z
UID:4e236794-65dc-4da4-b8c6-176c45162166
DTSTART:20270513T183000
DTEND:20270513T203000
DESCRIPTION:
LOCATION:
SUMMARY:BMS Choral Concert
END:VEVENT
BEGIN:VEVENT
DTSTAMP:20260424T032447Z
UID:d41d682d-0174-4e69-a455-d9dcf8c7298a
DTSTART:20270515T140000
DTEND:20270515T150000
DESCRIPTION:
LOCATION:
SUMMARY:Dawn Dott Dance Recital 
END:VEVENT
BEGIN:VEVENT
DTSTAMP:20260424T032447Z
UID:05b54a12-098c-4e12-a134-04d9d3c0f3a5
DTSTART:20270515T170000
DTEND:20270515T183000
DESCRIPTION:
LOCATION:
SUMMARY:Dawn Dott Dance Recital 
END:VEVENT
BEGIN:VEVENT
DTSTAMP:20260424T032447Z
UID:fe0ae979-6197-468a-ba49-996d65b8dfd2
DTSTART:20270516T140000
DTEND:20270516T150000
DESCRIPTION:
LOCATION:
SUMMARY:Dawn Dott Dance Recital 
END:VEVENT
BEGIN:VEVENT
DTSTAMP:20260424T032447Z
UID:4ab03bf8-8cb7-4bd0-9052-d5398907f8f2
DTSTART:20270516T170000
DTEND:20270516T183000
DESCRIPTION:
LOCATION:
SUMMARY:Dawn Dott Dance Recital 
END:VEVENT
BEGIN:VEVENT
DTSTAMP:20260424T032447Z
UID:da6b1406-6f67-48ce-affa-0ce140c107ca
DTSTART:20270519T190000
DTEND:20270519T210000
DESCRIPTION:
LOCATION:
SUMMARY:Kaufman Awards
END:VEVENT
BEGIN:VEVENT
DTSTAMP:20260424T032447Z
UID:f7ff806f-d164-4da5-87d2-0b4be3e618fe
DTSTART:20270522T140000
DTEND:20270522T160000
DESCRIPTION:
LOCATION:
SUMMARY:New Attitudes Performance
END:VEVENT
BEGIN:VEVENT
DTSTAMP:20260424T032447Z
UID:579d020a-eb56-4614-b7b4-774a6b92dc5a
DTSTART:20270522T180000
DTEND:20270522T200000
DESCRIPTION:
LOCATION:
SUMMARY:New Attitudes Performance
END:VEVENT
BEGIN:VEVENT
DTSTAMP:20260424T032447Z
UID:b7b16e8c-72af-46b5-8de6-0557a208020f
DTSTART:20270526T173000
DTEND:20270526T200000
DESCRIPTION:
LOCATION:
SUMMARY:MAHS Graduation
END:VEVENT
BEGIN:VEVENT
DTSTAMP:20260424T032447Z
UID:07412895-fcd1-43b9-b260-d72a12370bbb
DTSTART:20270527T144500
DTEND:20270527T160000
DESCRIPTION:
LOCATION:
SUMMARY:GES JK-2 Music Program 
END:VEVENT
BEGIN:VEVENT
DTSTAMP:20260424T032447Z
UID:c43fb251-2a60-4a99-b65f-2b2228261301
DTSTART:20270528T143000
DTEND:20270528T154500
DESCRIPTION:
LOCATION:
SUMMARY:GES 3-5 Music Program
END:VEVENT
END:VCALENDAR
