BEGIN:VCALENDAR
VERSION:2.0
PRODID:icalendar-ruby
CALSCALE:GREGORIAN
BEGIN:VTIMEZONE
TZID:America/Chicago
BEGIN:DAYLIGHT
DTSTART:20260308T030000
TZOFFSETFROM:-0600
TZOFFSETTO:-0500
RRULE:FREQ=YEARLY;BYDAY=2SU;BYMONTH=3
TZNAME:CDT
END:DAYLIGHT
BEGIN:STANDARD
DTSTART:20261101T010000
TZOFFSETFROM:-0500
TZOFFSETTO:-0600
RRULE:FREQ=YEARLY;BYDAY=1SU;BYMONTH=11
TZNAME:CST
END:STANDARD
END:VTIMEZONE
BEGIN:VEVENT
DTSTAMP:20260423T085528Z
UID:45b7b959-a02e-4e65-9cd5-a1908b286523
DTSTART:20260424T173000
DTEND:20260424T193000
DESCRIPTION:Leave Time: N/A
LOCATION:White Co.
SUMMARY:Flag Football vs Watertown & Bledsoe Co.
END:VEVENT
BEGIN:VEVENT
DTSTAMP:20260423T085528Z
UID:01b4e169-3fb9-4d5e-9015-9ecb2bdc3d11
DTSTART:20260425T110000
DTEND:20260425T130000
DESCRIPTION:
LOCATION:
SUMMARY:VBC MS Baseball vs White County (Home)
END:VEVENT
BEGIN:VEVENT
DTSTAMP:20260423T085528Z
UID:7fe35df9-8dea-4659-85cc-700222ad1307
DTSTART:20260428T170000
DTEND:20260428T190000
DESCRIPTION:Leave Time: 3:15 PM
LOCATION:Livingston
SUMMARY:Flag Football vs Livingston Academy
END:VEVENT
END:VCALENDAR
