BEGIN:VCALENDAR
VERSION:2.0
PRODID:icalendar-ruby
CALSCALE:GREGORIAN
BEGIN:VTIMEZONE
TZID:America/New_York
BEGIN:DAYLIGHT
DTSTART:20260308T030000
TZOFFSETFROM:-0500
TZOFFSETTO:-0400
RRULE:FREQ=YEARLY;BYDAY=2SU;BYMONTH=3
TZNAME:EDT
END:DAYLIGHT
BEGIN:STANDARD
DTSTART:20261101T010000
TZOFFSETFROM:-0400
TZOFFSETTO:-0500
RRULE:FREQ=YEARLY;BYDAY=1SU;BYMONTH=11
TZNAME:EST
END:STANDARD
END:VTIMEZONE
BEGIN:VEVENT
DTSTAMP:20260423T094750Z
UID:5a29781d-05d7-48b3-af02-a973eb3b3321
DTSTART:20260505T193000
DTEND:20260505T203000
DESCRIPTION:
LOCATION:90 Rugby Rd\, Cedar Grove\, NJ 07009\, USA
SUMMARY:Cedar Grove Board of Education Meeting
END:VEVENT
BEGIN:VEVENT
DTSTAMP:20260423T094750Z
UID:a530a192-d68b-4743-bfcc-41fc2f472642
DTSTART:20260514T080000
DTEND:20260514T080000
DESCRIPTION:
LOCATION:
SUMMARY:6th grade field trip
END:VEVENT
BEGIN:VEVENT
DTSTAMP:20260423T094750Z
UID:5af2ca8d-a2dd-4a7b-9edf-356ae07637ea
DTSTART;VALUE=DATE:20260522
DTEND;VALUE=DATE:20260523
DESCRIPTION:
LOCATION:
SUMMARY:Memorial Day Recess- Schools Closed
END:VEVENT
BEGIN:VEVENT
DTSTAMP:20260423T094750Z
UID:8aac13ae-0326-4adc-8b22-d855b087f741
DTSTART;VALUE=DATE:20260525
DTEND;VALUE=DATE:20260526
DESCRIPTION:
LOCATION:
SUMMARY:Memorial Day Recess- Schools/Offices Closed
END:VEVENT
BEGIN:VEVENT
DTSTAMP:20260423T094750Z
UID:81583ddd-a115-4dca-b355-f22379e8056c
DTSTART;VALUE=DATE:20260605
DTEND;VALUE=DATE:20260606
DESCRIPTION:
LOCATION:
SUMMARY:Kindergarten Early Dismissal- Orientation
END:VEVENT
BEGIN:VEVENT
DTSTAMP:20260423T094750Z
UID:ff70d96a-8cf9-4390-a205-af85bc5307db
DTSTART:20260612T090000
DTEND:20260612T120000
DESCRIPTION:
LOCATION:
SUMMARY:Grades 9-12 Early Dismissal- CGHS Final Exams
END:VEVENT
BEGIN:VEVENT
DTSTAMP:20260423T094750Z
UID:1c76b150-743b-42ae-ac05-07ca4ea4fefd
DTSTART:20260615T080000
DTEND:20260615T090000
DESCRIPTION:
LOCATION:
SUMMARY:MMS -8TH GRADE FIELD TRIP
END:VEVENT
BEGIN:VEVENT
DTSTAMP:20260423T094750Z
UID:046e19dd-94ee-485a-bae2-0be041b5ae92
DTSTART:20260615T090000
DTEND:20260615T120000
DESCRIPTION:
LOCATION:
SUMMARY:Grades 9-12 Early Dismissal- CGHS Final Exams
END:VEVENT
BEGIN:VEVENT
DTSTAMP:20260423T094750Z
UID:89894f20-d006-4807-8df9-822093230259
DTSTART:20260616T090000
DTEND:20260616T120000
DESCRIPTION:
LOCATION:
SUMMARY:Grades 9-12 Early Dismissal- CGHS Final Exams
END:VEVENT
BEGIN:VEVENT
DTSTAMP:20260423T094750Z
UID:2d645f42-79c0-40dd-b4e2-b2d3e35fde34
DTSTART;VALUE=DATE:20260617
DTEND;VALUE=DATE:20260618
DESCRIPTION:
LOCATION:
SUMMARY:Grades 9-12 Early Dismissal- CGHS Final Exams
END:VEVENT
BEGIN:VEVENT
DTSTAMP:20260423T094750Z
UID:fb8faab6-6a86-40df-a33e-a2d4f8a1c5ba
DTSTART;VALUE=DATE:20260618
DTEND;VALUE=DATE:20260619
DESCRIPTION:
LOCATION:
SUMMARY:PreK-12 Early Dismissal- NE\, SE & MMS Promotions and HS Final Exam
  Makeups
END:VEVENT
BEGIN:VEVENT
DTSTAMP:20260423T094750Z
UID:1eb49576-eeec-490e-bf80-7243f66038bc
DTSTART;VALUE=DATE:20260619
DTEND;VALUE=DATE:20260620
DESCRIPTION:
LOCATION:
SUMMARY:PreK-12 Early Dismissal- Last Day of School-CGHS Graduation 
END:VEVENT
BEGIN:VEVENT
DTSTAMP:20260423T094750Z
UID:9deb4148-0f20-46ee-a766-73d8e0985232
DTSTART:20260623T193000
DTEND:20260623T203000
DESCRIPTION:
LOCATION:90 Rugby Rd\, Cedar Grove\, NJ 07009\, USA
SUMMARY:Cedar Grove Board of Education Meeting
END:VEVENT
BEGIN:VEVENT
DTSTAMP:20260423T094750Z
UID:3083ba3d-6699-44e6-af2c-0c1f0bf431c9
DTSTART:20260721T193000
DTEND:20260721T203000
DESCRIPTION:
LOCATION:90 Rugby Rd\, Cedar Grove\, NJ 07009\, USA
SUMMARY:Cedar Grove Board of Education Meeting
END:VEVENT
BEGIN:VEVENT
DTSTAMP:20260423T094750Z
UID:cb18073b-d167-411f-9907-9ebb1fd1031d
DTSTART:20260818T193000
DTEND:20260818T203000
DESCRIPTION:
LOCATION:90 Rugby Rd\, Cedar Grove\, NJ 07009\, USA
SUMMARY:Cedar Grove Board of Education Meeting
END:VEVENT
BEGIN:VEVENT
DTSTAMP:20260423T094750Z
UID:dbd7769b-3b57-433e-9415-4ec7cd8d065d
DTSTART:20260908T193000
DTEND:20260908T203000
DESCRIPTION:
LOCATION:90 Rugby Rd\, Cedar Grove\, NJ 07009\, USA
SUMMARY:Cedar Grove Board of Education Meeting
END:VEVENT
BEGIN:VEVENT
DTSTAMP:20260423T094750Z
UID:57b29bd4-ae0b-4108-93af-2d08fb174bc4
DTSTART:20261020T193000
DTEND:20261020T203000
DESCRIPTION:
LOCATION:90 Rugby Rd\, Cedar Grove\, NJ 07009\, USA
SUMMARY:Cedar Grove Board of Education Meeting
END:VEVENT
BEGIN:VEVENT
DTSTAMP:20260423T094750Z
UID:f653a430-e2a0-4a83-a061-078307636c4e
DTSTART:20261117T193000
DTEND:20261117T203000
DESCRIPTION:
LOCATION:90 Rugby Rd\, Cedar Grove\, NJ 07009\, USA
SUMMARY:Cedar Grove Board of Education Meeting
END:VEVENT
BEGIN:VEVENT
DTSTAMP:20260423T094750Z
UID:0f455ba4-bf04-429b-8023-7501b046b069
DTSTART:20261215T193000
DTEND:20261215T203000
DESCRIPTION:
LOCATION:90 Rugby Rd\, Cedar Grove\, NJ 07009\, USA
SUMMARY:Cedar Grove Board of Education Meeting
END:VEVENT
BEGIN:VEVENT
DTSTAMP:20260423T094750Z
UID:d34434d9-bdac-4a70-9416-958b0b19f354
DTSTART:20270105T193000
DTEND:20270105T203000
DESCRIPTION:
LOCATION:90 Rugby Rd\, Cedar Grove\, NJ 07009\, USA
SUMMARY:Cedar Grove Board of Education Meeting  (Reorganization Mtg)
END:VEVENT
END:VCALENDAR
