BEGIN:VCALENDAR
VERSION:2.0
PRODID:icalendar-ruby
CALSCALE:GREGORIAN
BEGIN:VTIMEZONE
TZID:America/Los_Angeles
BEGIN:DAYLIGHT
DTSTART:20260308T030000
TZOFFSETFROM:-0800
TZOFFSETTO:-0700
RRULE:FREQ=YEARLY;BYDAY=2SU;BYMONTH=3
TZNAME:PDT
END:DAYLIGHT
BEGIN:STANDARD
DTSTART:20261101T010000
TZOFFSETFROM:-0700
TZOFFSETTO:-0800
RRULE:FREQ=YEARLY;BYDAY=1SU;BYMONTH=11
TZNAME:PST
END:STANDARD
END:VTIMEZONE
BEGIN:VEVENT
DTSTAMP:20260422T014655Z
UID:221f2e3e-684c-4766-b0c0-a9eb60d8068d
DTSTART;VALUE=DATE:20260423
DTEND;VALUE=DATE:20260426
DESCRIPTION:
LOCATION:
SUMMARY:DCS Spring Drama Production
END:VEVENT
BEGIN:VEVENT
DTSTAMP:20260422T014655Z
UID:a1ba045c-ea36-4dc0-9084-d92092a73f93
DTSTART;VALUE=DATE:20260507
DTEND;VALUE=DATE:20260508
DESCRIPTION:
LOCATION:
SUMMARY:Prayer at the Pole/National Day of Prayer
END:VEVENT
BEGIN:VEVENT
DTSTAMP:20260422T014655Z
UID:0b8555d4-af0b-4c74-b4d2-dd3ca20fbc56
DTSTART;VALUE=DATE:20260518
DTEND;VALUE=DATE:20260520
DESCRIPTION:
LOCATION:
SUMMARY:Senior Finals
END:VEVENT
BEGIN:VEVENT
DTSTAMP:20260422T014655Z
UID:a221bd4d-a98e-408c-bea4-88359e371b64
DTSTART;VALUE=DATE:20260520
DTEND;VALUE=DATE:20260521
DESCRIPTION:
LOCATION:
SUMMARY:High School 1/2 Day Chapel
END:VEVENT
BEGIN:VEVENT
DTSTAMP:20260422T014655Z
UID:9dda12a7-602b-4a9d-a78d-a619e688d93d
DTSTART;VALUE=DATE:20260520
DTEND;VALUE=DATE:20260521
DESCRIPTION:
LOCATION:
SUMMARY:Senior's Last Day
END:VEVENT
BEGIN:VEVENT
DTSTAMP:20260422T014655Z
UID:fe97be4e-005d-4107-8a6e-42a4bb7f4591
DTSTART;VALUE=DATE:20260525
DTEND;VALUE=DATE:20260526
DESCRIPTION:
LOCATION:
SUMMARY:Memorial Day: NO SCHOOL
END:VEVENT
BEGIN:VEVENT
DTSTAMP:20260422T014655Z
UID:a8ec3232-4e1b-4487-bc8d-d9b1a5642c47
DTSTART;VALUE=DATE:20260602
DTEND;VALUE=DATE:20260605
DESCRIPTION:
LOCATION:
SUMMARY:High School Finals
END:VEVENT
BEGIN:VEVENT
DTSTAMP:20260422T014655Z
UID:394cadb1-f91a-4727-a440-7856583a4c56
DTSTART;VALUE=DATE:20260603
DTEND;VALUE=DATE:20260604
DESCRIPTION:
LOCATION:
SUMMARY:Kinder Last Day & Promotion
END:VEVENT
BEGIN:VEVENT
DTSTAMP:20260422T014655Z
UID:8053db64-aead-476c-92e2-22306678fb39
DTSTART;VALUE=DATE:20260603
DTEND;VALUE=DATE:20260604
DESCRIPTION:
LOCATION:
SUMMARY:Pre-K Last Day & Promotion
END:VEVENT
BEGIN:VEVENT
DTSTAMP:20260422T014655Z
UID:ce9d7b9c-cc24-448c-9bf9-01b43ccfc14f
DTSTART;VALUE=DATE:20260604
DTEND;VALUE=DATE:20260605
DESCRIPTION:
LOCATION:
SUMMARY:8th Grade Promotion
END:VEVENT
BEGIN:VEVENT
DTSTAMP:20260422T014655Z
UID:98e8b906-95f0-41ad-927f-0814784f115d
DTSTART;VALUE=DATE:20260604
DTEND;VALUE=DATE:20260605
DESCRIPTION:
LOCATION:
SUMMARY:Last Day of School 1st-11th: 1/2 Day Early Release
END:VEVENT
END:VCALENDAR
