BEGIN:VCALENDAR
VERSION:2.0
PRODID:icalendar-ruby
CALSCALE:GREGORIAN
BEGIN:VTIMEZONE
TZID:America/Los_Angeles
BEGIN:DAYLIGHT
DTSTART:20260308T030000
TZOFFSETFROM:-0800
TZOFFSETTO:-0700
RRULE:FREQ=YEARLY;BYDAY=2SU;BYMONTH=3
TZNAME:PDT
END:DAYLIGHT
BEGIN:STANDARD
DTSTART:20261101T010000
TZOFFSETFROM:-0700
TZOFFSETTO:-0800
RRULE:FREQ=YEARLY;BYDAY=1SU;BYMONTH=11
TZNAME:PST
END:STANDARD
END:VTIMEZONE
BEGIN:VEVENT
DTSTAMP:20260423T182125Z
UID:027ae74b-a3bb-4c28-8ada-9c20713a196d
DTSTART;VALUE=DATE:20260525
DTEND;VALUE=DATE:20260526
DESCRIPTION:
LOCATION:
SUMMARY:Memorial Day – (No School)
END:VEVENT
BEGIN:VEVENT
DTSTAMP:20260423T182125Z
UID:edce9fb3-c6e8-495e-b708-1d47582711b6
DTSTART:20260605T190000
DTEND:20260605T200000
DESCRIPTION:
LOCATION:Lowell High School Gymnasium
SUMMARY:LHS Graduation
END:VEVENT
BEGIN:VEVENT
DTSTAMP:20260423T182125Z
UID:1f809f9b-93a7-49df-9594-8e8d78a854fd
DTSTART;VALUE=DATE:20260611
DTEND;VALUE=DATE:20260612
DESCRIPTION:
LOCATION:
SUMMARY:Last Day of School – (Early Release)
END:VEVENT
BEGIN:VEVENT
DTSTAMP:20260423T182125Z
UID:a1afa0d9-74ed-4436-a1e7-98a131bce32b
DTSTART;VALUE=DATE:20260612
DTEND;VALUE=DATE:20260613
DESCRIPTION:
LOCATION:
SUMMARY:Teacher Grading Day – (No School)
END:VEVENT
END:VCALENDAR
