BEGIN:VCALENDAR
VERSION:2.0
PRODID:icalendar-ruby
CALSCALE:GREGORIAN
BEGIN:VTIMEZONE
TZID:America/Chicago
BEGIN:DAYLIGHT
DTSTART:20260308T030000
TZOFFSETFROM:-0600
TZOFFSETTO:-0500
RRULE:FREQ=YEARLY;BYDAY=2SU;BYMONTH=3
TZNAME:CDT
END:DAYLIGHT
BEGIN:STANDARD
DTSTART:20261101T010000
TZOFFSETFROM:-0500
TZOFFSETTO:-0600
RRULE:FREQ=YEARLY;BYDAY=1SU;BYMONTH=11
TZNAME:CST
END:STANDARD
END:VTIMEZONE
BEGIN:VEVENT
DTSTAMP:20260419T201453Z
UID:6680ba12-1a6d-4943-b925-9e73d228c330
DTSTART:20260420T170000
DTEND:20260420T180000
DESCRIPTION:
LOCATION:
SUMMARY:HS BASEBALLHOLLAND HALL@CHECOTAH
END:VEVENT
BEGIN:VEVENT
DTSTAMP:20260419T201453Z
UID:c529a3e8-ccb1-449e-b1c7-4c942a212a7e
DTSTART:20260421T170000
DTEND:20260421T180000
DESCRIPTION:
LOCATION:
SUMMARY:HS BASEBALL@HOLLAND HALL
END:VEVENT
BEGIN:VEVENT
DTSTAMP:20260419T201453Z
UID:cc0740ff-b801-46ba-a936-36b64cb087bb
DTSTART:20260423T170000
DTEND:20260423T180000
DESCRIPTION:
LOCATION:
SUMMARY:HS BASEBALL @WAGONER
END:VEVENT
BEGIN:VEVENT
DTSTAMP:20260419T201453Z
UID:a7bb56df-ec8f-4231-8d2f-f9e225b29163
DTSTART:20260427T170000
DTEND:20260427T180000
DESCRIPTION:
LOCATION:
SUMMARY:HS BASEBALL @HENRYETTA
END:VEVENT
BEGIN:VEVENT
DTSTAMP:20260419T201453Z
UID:1499d9bf-9af1-46ef-be00-62361a860789
DTSTART;VALUE=DATE:20260429
DTEND;VALUE=DATE:20260502
DESCRIPTION:
LOCATION:
SUMMARY:HS BASEBALL DISTRICTS
END:VEVENT
BEGIN:VEVENT
DTSTAMP:20260419T201453Z
UID:226709d8-16ff-4880-bd09-b26280a9dc62
DTSTART;VALUE=DATE:20260507
DTEND;VALUE=DATE:20260510
DESCRIPTION:
LOCATION:
SUMMARY:HS BASEBALL SUPER REGIONALS
END:VEVENT
BEGIN:VEVENT
DTSTAMP:20260419T201453Z
UID:182adde1-3f92-48e1-bfa5-0764d22f3161
DTSTART;VALUE=DATE:20260514
DTEND;VALUE=DATE:20260517
DESCRIPTION:
LOCATION:
SUMMARY:HS BASEBALL STATE
END:VEVENT
END:VCALENDAR
