BEGIN:VCALENDAR
VERSION:2.0
PRODID:icalendar-ruby
CALSCALE:GREGORIAN
BEGIN:VTIMEZONE
TZID:America/New_York
BEGIN:DAYLIGHT
DTSTART:20260308T030000
TZOFFSETFROM:-0500
TZOFFSETTO:-0400
RRULE:FREQ=YEARLY;BYDAY=2SU;BYMONTH=3
TZNAME:EDT
END:DAYLIGHT
BEGIN:STANDARD
DTSTART:20261101T010000
TZOFFSETFROM:-0400
TZOFFSETTO:-0500
RRULE:FREQ=YEARLY;BYDAY=1SU;BYMONTH=11
TZNAME:EST
END:STANDARD
END:VTIMEZONE
BEGIN:VEVENT
DTSTAMP:20260425T125603Z
UID:83991e6c-2b27-42e7-8946-2211044a84ff
DTSTART:20260425T120000
DTEND:20260425T143000
DESCRIPTION:Anastasia
LOCATION:APHS Auditorium
SUMMARY:District Musical
END:VEVENT
BEGIN:VEVENT
DTSTAMP:20260425T125603Z
UID:bbaa6370-b67c-49f0-807a-3bf9ab4cc01a
DTSTART:20260425T190000
DTEND:20260425T213000
DESCRIPTION:Anastasia
LOCATION:APHS Auditorium
SUMMARY:District Musical
END:VEVENT
BEGIN:VEVENT
DTSTAMP:20260425T125603Z
UID:d763b903-ae2a-4669-a758-bdb62e9d9c5c
DTSTART:20260428T183000
DTEND:20260428T203000
DESCRIPTION:<p>Academy Park High School College &amp\; Career Counselor Mrs
 . Ridley will be hosting monthly parent meetings to learn about preparing 
 your child for college or the workforce. All grade levels and families are
  welcoming to come to this FREE event. We look forward to seeing you there
 !</p>
LOCATION:300 Calcon Hook Rd\, Sharon Hill\, PA 19079\, USA
SUMMARY:College/Career Parent Knight (Next Steps After College Acceptance)
END:VEVENT
BEGIN:VEVENT
DTSTAMP:20260425T125603Z
UID:11b3c41e-0115-4485-9625-04d569369fd8
DTSTART:20260501T190000
DTEND:20260501T213000
DESCRIPTION:Anastasia
LOCATION:APHS Auditorium
SUMMARY:District Musical
END:VEVENT
BEGIN:VEVENT
DTSTAMP:20260425T125603Z
UID:3986ed13-424c-4740-8964-fa55e14c0926
DTSTART:20260502T120000
DTEND:20260502T143000
DESCRIPTION:Anastasia
LOCATION:APHS Auditorium
SUMMARY:District Musical
END:VEVENT
BEGIN:VEVENT
DTSTAMP:20260425T125603Z
UID:2633c510-33f7-42e1-b7c5-70d878c9f8d3
DTSTART:20260502T190000
DTEND:20260502T213000
DESCRIPTION:Anastasia
LOCATION:APHS Auditorium
SUMMARY:District Musical
END:VEVENT
BEGIN:VEVENT
DTSTAMP:20260425T125603Z
UID:0209598b-f2e5-4bf5-a915-bf1b43c6d746
DTSTART:20260518T180000
DTEND:20260518T200000
DESCRIPTION:
LOCATION:
SUMMARY:Senior Awards Night
END:VEVENT
BEGIN:VEVENT
DTSTAMP:20260425T125603Z
UID:5ec08719-26b5-4fdf-adfd-1b7635a4ff5c
DTSTART;VALUE=DATE:20260519
DTEND;VALUE=DATE:20260520
DESCRIPTION:
LOCATION:
SUMMARY:In-Service Day - No Students
END:VEVENT
BEGIN:VEVENT
DTSTAMP:20260425T125603Z
UID:e7d75641-7f0b-4d23-b549-14430dc2455c
DTSTART;VALUE=DATE:20260522
DTEND;VALUE=DATE:20260523
DESCRIPTION:
LOCATION:
SUMMARY:Early Dismissal
END:VEVENT
BEGIN:VEVENT
DTSTAMP:20260425T125603Z
UID:48ee5a09-717c-4503-9e6b-6ebc1e40a8aa
DTSTART;VALUE=DATE:20260525
DTEND;VALUE=DATE:20260526
DESCRIPTION:
LOCATION:
SUMMARY:Memorial Day Holiday - School Closed
END:VEVENT
BEGIN:VEVENT
DTSTAMP:20260425T125603Z
UID:ec509a53-8bac-4a5d-b8f9-03b503abd857
DTSTART:20260526T183000
DTEND:20260526T203000
DESCRIPTION:<p>Academy Park High School College &amp\; Career Counselor Mrs
 . Ridley will be hosting monthly parent meetings to learn about preparing 
 your child for college or the workforce. <strong>Only 12th grade students 
 only </strong>families are welcoming to come to this FREE event. We look f
 orward to seeing you there!</p>
LOCATION:300 Calcon Hook Rd\, Sharon Hill\, PA 19079\, USA
SUMMARY:College/Career Parent Knight (Post Graduation Q & A: 12th Grade Onl
 y)
END:VEVENT
BEGIN:VEVENT
DTSTAMP:20260425T125603Z
UID:32b5aca3-d231-45e1-a7ef-30c3028b2fee
DTSTART;VALUE=DATE:20260527
DTEND;VALUE=DATE:20260528
DESCRIPTION:
LOCATION:Academy Park High School\, 300 Calcon Hook Rd\, Sharon Hill\, PA 1
 9079\, USA
SUMMARY:PBIS Incentive: Field Day
END:VEVENT
BEGIN:VEVENT
DTSTAMP:20260425T125603Z
UID:5314dc86-be73-41b3-bd7f-639f02cb99f1
DTSTART:20260529T190000
DTEND:20260529T230000
DESCRIPTION:
LOCATION:The Waterfall\, 3416 Philadelphia Pike\, Claymont\, DE 19703\, USA
SUMMARY:Senior Prom
END:VEVENT
BEGIN:VEVENT
DTSTAMP:20260425T125603Z
UID:4601d9f2-4b4e-4e83-860d-e38bdf828daa
DTSTART:20260608T183000
DTEND:20260608T203000
DESCRIPTION:
LOCATION:Neumann University Mirenda Center\, 501 Convent Rd\, Aston Townshi
 p\, PA 19014\, USA
SUMMARY:Graduation
END:VEVENT
BEGIN:VEVENT
DTSTAMP:20260425T125603Z
UID:fd6ad732-a600-44d3-b41a-86d0e0410594
DTSTART;VALUE=DATE:20260612
DTEND;VALUE=DATE:20260613
DESCRIPTION:
LOCATION:Academy Park High School\, 300 Calcon Hook Rd\, Sharon Hill\, PA 1
 9079\, USA
SUMMARY:Students' Last Day
END:VEVENT
BEGIN:VEVENT
DTSTAMP:20260425T125603Z
UID:fa358a76-7b4f-4d7e-86dd-647e9837ab22
DTSTART;VALUE=DATE:20260615
DTEND;VALUE=DATE:20260617
DESCRIPTION:
LOCATION:
SUMMARY:In-Service Days
END:VEVENT
BEGIN:VEVENT
DTSTAMP:20260425T125603Z
UID:df5d7c44-ab71-4818-b641-af215ba113e7
DTSTART;VALUE=DATE:20260619
DTEND;VALUE=DATE:20260620
DESCRIPTION:
LOCATION:
SUMMARY:Juneteenth Holiday - Admin Offices Closed
END:VEVENT
END:VCALENDAR
