BEGIN:VCALENDAR
VERSION:2.0
PRODID:icalendar-ruby
CALSCALE:GREGORIAN
BEGIN:VTIMEZONE
TZID:America/New_York
BEGIN:DAYLIGHT
DTSTART:20260308T030000
TZOFFSETFROM:-0500
TZOFFSETTO:-0400
RRULE:FREQ=YEARLY;BYDAY=2SU;BYMONTH=3
TZNAME:EDT
END:DAYLIGHT
BEGIN:STANDARD
DTSTART:20261101T010000
TZOFFSETFROM:-0400
TZOFFSETTO:-0500
RRULE:FREQ=YEARLY;BYDAY=1SU;BYMONTH=11
TZNAME:EST
END:STANDARD
END:VTIMEZONE
BEGIN:VEVENT
DTSTAMP:20260421T163559Z
UID:b065a309-b4ee-4762-ba8d-d8f9b6805a9d
DTSTART;VALUE=DATE:20260519
DTEND;VALUE=DATE:20260520
DESCRIPTION:Teacher Equivalency Day
LOCATION:
SUMMARY:Teacher Equivalency Day
END:VEVENT
BEGIN:VEVENT
DTSTAMP:20260421T163559Z
UID:28923264-7592-4e81-977c-d696102c3f0f
DTSTART;VALUE=DATE:20260522
DTEND;VALUE=DATE:20260523
DESCRIPTION:Last Day for Students (Tentative)
LOCATION:
SUMMARY:Last Day for Students (Tentative)
END:VEVENT
BEGIN:VEVENT
DTSTAMP:20260421T163559Z
UID:4b449fa9-d351-46a6-bbde-e77fad72076f
DTSTART;VALUE=DATE:20260525
DTEND;VALUE=DATE:20260526
DESCRIPTION:Memorial Day
LOCATION:
SUMMARY:Memorial Day
END:VEVENT
BEGIN:VEVENT
DTSTAMP:20260421T163559Z
UID:afe45b61-f9ac-461b-8940-dd25be3e3170
DTSTART;VALUE=DATE:20260605
DTEND;VALUE=DATE:20260606
DESCRIPTION:
LOCATION:
SUMMARY:Last Day of School for Students (Tentative)
END:VEVENT
BEGIN:VEVENT
DTSTAMP:20260421T163559Z
UID:33430611-b85f-4e44-84b2-b5f54679f5b1
DTSTART;VALUE=DATE:20260608
DTEND;VALUE=DATE:20260609
DESCRIPTION:Closing Day (Tentative)
LOCATION:
SUMMARY:Closing Day (Tentative)
END:VEVENT
END:VCALENDAR
