BEGIN:VCALENDAR
VERSION:2.0
PRODID:icalendar-ruby
CALSCALE:GREGORIAN
BEGIN:VTIMEZONE
TZID:America/Chicago
BEGIN:DAYLIGHT
DTSTART:20260308T030000
TZOFFSETFROM:-0600
TZOFFSETTO:-0500
RRULE:FREQ=YEARLY;BYDAY=2SU;BYMONTH=3
TZNAME:CDT
END:DAYLIGHT
BEGIN:STANDARD
DTSTART:20261101T010000
TZOFFSETFROM:-0500
TZOFFSETTO:-0600
RRULE:FREQ=YEARLY;BYDAY=1SU;BYMONTH=11
TZNAME:CST
END:STANDARD
END:VTIMEZONE
BEGIN:VEVENT
DTSTAMP:20260420T021936Z
UID:3c2b1780-a9ca-481e-ac3c-1dfad3adf957
DTSTART;VALUE=DATE:20260525
DTEND;VALUE=DATE:20260526
DESCRIPTION:
LOCATION:
SUMMARY:No School - Weather Day
END:VEVENT
BEGIN:VEVENT
DTSTAMP:20260420T021936Z
UID:0c96a9fa-7c67-4927-9084-8d62f6cb3be4
DTSTART;VALUE=DATE:20260528
DTEND;VALUE=DATE:20260529
DESCRIPTION:
LOCATION:
SUMMARY:Last Day of School
END:VEVENT
BEGIN:VEVENT
DTSTAMP:20260420T021936Z
UID:a5527a16-95c7-4b65-8bfe-afe3c2e59f55
DTSTART:20260528T170000
DTEND:20260528T210000
DESCRIPTION:
LOCATION:4900s I-69C\, Edinburg\, TX 78539\, USA
SUMMARY:Class of 2026 Graduation 
END:VEVENT
END:VCALENDAR
