BEGIN:VCALENDAR
VERSION:2.0
PRODID:icalendar-ruby
CALSCALE:GREGORIAN
BEGIN:VTIMEZONE
TZID:America/Chicago
BEGIN:DAYLIGHT
DTSTART:20260308T030000
TZOFFSETFROM:-0600
TZOFFSETTO:-0500
RRULE:FREQ=YEARLY;BYDAY=2SU;BYMONTH=3
TZNAME:CDT
END:DAYLIGHT
BEGIN:STANDARD
DTSTART:20261101T010000
TZOFFSETFROM:-0500
TZOFFSETTO:-0600
RRULE:FREQ=YEARLY;BYDAY=1SU;BYMONTH=11
TZNAME:CST
END:STANDARD
END:VTIMEZONE
BEGIN:VEVENT
DTSTAMP:20260419T130422Z
UID:4352cb1b-353a-4307-97bd-ec5ed68b6540
DTSTART:20260420T080000
DTEND:20260420T090000
DESCRIPTION:
LOCATION:
SUMMARY:HSG @Maryville Tourny
END:VEVENT
BEGIN:VEVENT
DTSTAMP:20260419T130422Z
UID:6e2c13cf-64ea-435c-8604-4d0494547ba1
DTSTART:20260420T170000
DTEND:20260420T180000
DESCRIPTION:
LOCATION:
SUMMARY:HSBB w/St Joseph Christian
END:VEVENT
BEGIN:VEVENT
DTSTAMP:20260419T130422Z
UID:4812de62-aed6-428a-aab9-71af89e7fc19
DTSTART:20260420T190000
DTEND:20260420T200000
DESCRIPTION:
LOCATION:
SUMMARY:Board of Education Meeting
END:VEVENT
BEGIN:VEVENT
DTSTAMP:20260419T130422Z
UID:411f80bc-ce3d-4b70-87c9-30998f78f93d
DTSTART:20260421T120000
DTEND:20260421T123000
DESCRIPTION:
LOCATION:
SUMMARY:HST @Worth County Tiger Relays
END:VEVENT
BEGIN:VEVENT
DTSTAMP:20260419T130422Z
UID:90dab690-1648-495e-8c36-26405c33160c
DTSTART:20260421T160000
DTEND:20260421T163000
DESCRIPTION:
LOCATION:
SUMMARY:JHT @North Platte JH Invitational
END:VEVENT
BEGIN:VEVENT
DTSTAMP:20260419T130422Z
UID:95d20477-746e-40ed-9516-32d1036cad5f
DTSTART:20260421T163000
DTEND:20260421T173000
DESCRIPTION:
LOCATION:
SUMMARY:HSBB @East Buchanan
END:VEVENT
BEGIN:VEVENT
DTSTAMP:20260419T130422Z
UID:cabc563b-4c59-4e28-a6d4-1bda8be9a88c
DTSTART;VALUE=DATE:20260422
DTEND;VALUE=DATE:20260424
DESCRIPTION:
LOCATION:
SUMMARY:FCCLA Regional Officer Training
END:VEVENT
BEGIN:VEVENT
DTSTAMP:20260419T130422Z
UID:7a6784bb-9d9a-42ce-8961-f3623b4eeb8b
DTSTART:20260422T090000
DTEND:20260422T093000
DESCRIPTION:
LOCATION:
SUMMARY:HSG @Stanberry Invitational
END:VEVENT
BEGIN:VEVENT
DTSTAMP:20260419T130422Z
UID:d737a7b5-d479-40fd-9532-d7b8ed1ff619
DTSTART:20260422T190000
DTEND:20260422T193000
DESCRIPTION:
LOCATION:
SUMMARY:FFA Area Awards Night 7pm
END:VEVENT
BEGIN:VEVENT
DTSTAMP:20260419T130422Z
UID:c2076c95-eabb-4fb6-89a9-f756b809da57
DTSTART:20260423T160000
DTEND:20260423T170000
DESCRIPTION:
LOCATION:
SUMMARY:HST @St Joseph Christian
END:VEVENT
BEGIN:VEVENT
DTSTAMP:20260419T130422Z
UID:4cdbabe6-c25d-48fd-8301-24e5ee5f2c01
DTSTART:20260423T160000
DTEND:20260423T163000
DESCRIPTION:
LOCATION:
SUMMARY:JHT @Maryville Middle School Meet
END:VEVENT
BEGIN:VEVENT
DTSTAMP:20260419T130422Z
UID:da9e5dc0-3f1b-45e8-844a-658a28c2a339
DTSTART:20260423T170000
DTEND:20260423T180000
DESCRIPTION:
LOCATION:
SUMMARY:HSBB @Princeton
END:VEVENT
BEGIN:VEVENT
DTSTAMP:20260419T130422Z
UID:71f96192-0880-4705-ae65-73a8286f850a
DTSTART:20260424T150000
DTEND:20260424T160000
DESCRIPTION:
LOCATION:
SUMMARY:STUCO Interviews
END:VEVENT
BEGIN:VEVENT
DTSTAMP:20260419T130422Z
UID:ad629ee4-8634-4577-a1e8-cf8df0b36bfc
DTSTART:20260425T183000
DTEND:20260425T213000
DESCRIPTION:
LOCATION:
SUMMARY:Prom
END:VEVENT
BEGIN:VEVENT
DTSTAMP:20260419T130422Z
UID:8b0c6cc9-7cce-412c-9d55-2dd7c17208b8
DTSTART:20260427T090000
DTEND:20260427T093000
DESCRIPTION:
LOCATION:
SUMMARY:HSG @Albany
END:VEVENT
BEGIN:VEVENT
DTSTAMP:20260419T130422Z
UID:ffbed31e-0e84-4955-97c5-7e74e2734681
DTSTART:20260427T170000
DTEND:20260427T180000
DESCRIPTION:
LOCATION:
SUMMARY:HSBB w/Albany
END:VEVENT
BEGIN:VEVENT
DTSTAMP:20260419T130422Z
UID:478efe2e-2bd5-4b5d-b7f4-580f5cd5e588
DTSTART:20260428T153000
DTEND:20260428T160000
DESCRIPTION:
LOCATION:
SUMMARY:HST @Stanberry Bulldog Relays
END:VEVENT
BEGIN:VEVENT
DTSTAMP:20260419T130422Z
UID:439c1367-e212-42f5-aed2-3728ad92e8e7
DTSTART:20260428T160000
DTEND:20260428T170000
DESCRIPTION:
LOCATION:
SUMMARY:JHT @Tarkio JH Indian Relays
END:VEVENT
BEGIN:VEVENT
DTSTAMP:20260419T130422Z
UID:498740b2-7408-4386-b7ad-1f0e73847d6d
DTSTART:20260428T160000
DTEND:20260428T163000
DESCRIPTION:
LOCATION:
SUMMARY:Scholar Bowl Quarterfinals-Location TBD
END:VEVENT
BEGIN:VEVENT
DTSTAMP:20260419T130422Z
UID:82652a54-24dc-4866-93bd-9033ba634eaf
DTSTART:20260428T170000
DTEND:20260428T180000
DESCRIPTION:
LOCATION:
SUMMARY:HSBB w/North Nodaway
END:VEVENT
BEGIN:VEVENT
DTSTAMP:20260419T130422Z
UID:5c0b5f09-717b-4421-aba0-b0c371faed9c
DTSTART:20260429T173000
DTEND:20260429T180000
DESCRIPTION:
LOCATION:
SUMMARY:Spring Music Concert 
END:VEVENT
BEGIN:VEVENT
DTSTAMP:20260419T130422Z
UID:58543d2e-0857-4c68-96d6-23a8c1353b62
DTSTART:20260429T190000
DTEND:20260429T193000
DESCRIPTION:
LOCATION:
SUMMARY:King City FFA Awards Night 7pm
END:VEVENT
BEGIN:VEVENT
DTSTAMP:20260419T130422Z
UID:b44cb5db-8167-4f1f-ab14-c137db7e1465
DTSTART:20260430T153000
DTEND:20260430T160000
DESCRIPTION:
LOCATION:
SUMMARY:HST @HS Cardinal Relays
END:VEVENT
BEGIN:VEVENT
DTSTAMP:20260419T130422Z
UID:a6609d02-3bac-4ab5-be0c-c681dc3f13c5
DTSTART:20260430T160000
DTEND:20260430T163000
DESCRIPTION:
LOCATION:
SUMMARY:JHT @Worth County JH Tiger Relays
END:VEVENT
BEGIN:VEVENT
DTSTAMP:20260419T130422Z
UID:d754313d-33ac-4778-bbb8-8b7913b611ca
DTSTART:20260430T163000
DTEND:20260430T173000
DESCRIPTION:
LOCATION:
SUMMARY:HSBB @Stanberry
END:VEVENT
BEGIN:VEVENT
DTSTAMP:20260419T130422Z
UID:ef46028c-ce05-401d-a23d-e955e44f8bd2
DTSTART;VALUE=DATE:20260501
DTEND;VALUE=DATE:20260502
DESCRIPTION:
LOCATION:
SUMMARY:Senior Trip-All Day
END:VEVENT
BEGIN:VEVENT
DTSTAMP:20260419T130422Z
UID:2da87b61-bca8-456b-ab03-aded67c1fcef
DTSTART:20260503T110000
DTEND:20260503T130000
DESCRIPTION:
LOCATION:
SUMMARY:FFA Pork Chop Dinner
END:VEVENT
BEGIN:VEVENT
DTSTAMP:20260419T130422Z
UID:ef0a8311-958b-4863-97e8-006fab8ccdc8
DTSTART:20260504T090000
DTEND:20260504T093000
DESCRIPTION:
LOCATION:
SUMMARY:HSG GRC Tourny
END:VEVENT
BEGIN:VEVENT
DTSTAMP:20260419T130422Z
UID:920afe53-420e-456c-9676-d4481f0c5332
DTSTART:20260504T163000
DTEND:20260504T173000
DESCRIPTION:
LOCATION:
SUMMARY:HSBB w/South Harrison
END:VEVENT
BEGIN:VEVENT
DTSTAMP:20260419T130422Z
UID:7e0ece38-9cd5-4ba8-a3a8-125d3d5eeeb8
DTSTART:20260504T180000
DTEND:20260504T210000
DESCRIPTION:
LOCATION:
SUMMARY:KATS Night
END:VEVENT
BEGIN:VEVENT
DTSTAMP:20260419T130422Z
UID:28a2aec0-1efb-418b-87cd-14c99e97c670
DTSTART:20260505T110000
DTEND:20260505T120000
DESCRIPTION:
LOCATION:
SUMMARY:JHT & HST @GRC Meet
END:VEVENT
BEGIN:VEVENT
DTSTAMP:20260419T130422Z
UID:55c739b9-e26f-4304-936d-33d90a607731
DTSTART:20260505T154000
DTEND:20260505T164000
DESCRIPTION:
LOCATION:
SUMMARY:HSG @Maysville
END:VEVENT
BEGIN:VEVENT
DTSTAMP:20260419T130422Z
UID:8d244668-856b-4361-ba4c-8fea4e47189e
DTSTART:20260506T160000
DTEND:20260506T170000
DESCRIPTION:
LOCATION:
SUMMARY:JVG @Stanberry
END:VEVENT
BEGIN:VEVENT
DTSTAMP:20260419T130422Z
UID:ec19ac0c-d39f-4b27-af41-f677dcb12af5
DTSTART:20260506T190000
DTEND:20260506T210000
DESCRIPTION:
LOCATION:
SUMMARY:FFA End of Year Party 7pm
END:VEVENT
BEGIN:VEVENT
DTSTAMP:20260419T130422Z
UID:9d6a41b8-321e-4f0f-bfb2-df5961b53e9b
DTSTART;VALUE=DATE:20260507
DTEND;VALUE=DATE:20260508
DESCRIPTION:
LOCATION:
SUMMARY:Seniors' Last Day/Decision Day
END:VEVENT
BEGIN:VEVENT
DTSTAMP:20260419T130422Z
UID:7fb7f9dc-233f-4ff3-80e0-bceb5437ab88
DTSTART:20260507T163000
DTEND:20260507T173000
DESCRIPTION:
LOCATION:
SUMMARY:HSBB @Dekalb
END:VEVENT
BEGIN:VEVENT
DTSTAMP:20260419T130422Z
UID:a73c96ef-158e-4d98-99a8-e5a733fc48a8
DTSTART;VALUE=DATE:20260508
DTEND;VALUE=DATE:20260509
DESCRIPTION:
LOCATION:
SUMMARY:Scholar Bowl State Tournament @University of Missouri
END:VEVENT
BEGIN:VEVENT
DTSTAMP:20260419T130422Z
UID:3478545b-ef83-47e7-98ac-9e712b6440dd
DTSTART:20260508T170000
DTEND:20260508T180000
DESCRIPTION:
LOCATION:
SUMMARY:HSBB w/North Harrison
END:VEVENT
BEGIN:VEVENT
DTSTAMP:20260419T130422Z
UID:f300d405-1270-4dcb-976e-aafdd59fcd32
DTSTART:20260508T190000
DTEND:20260508T193000
DESCRIPTION:
LOCATION:
SUMMARY:FCCLA Banquet 7:00 pm in Commons
END:VEVENT
BEGIN:VEVENT
DTSTAMP:20260419T130422Z
UID:0bdfea8a-e76a-44be-9eb8-b7ba690cd1e0
DTSTART:20260510T140000
DTEND:20260510T150000
DESCRIPTION:
LOCATION:KC HS Gym
SUMMARY:Commencement
END:VEVENT
BEGIN:VEVENT
DTSTAMP:20260419T130422Z
UID:0c74c47f-fe0e-49d2-84bc-c9801c28ebd7
DTSTART:20260511T080000
DTEND:20260511T090000
DESCRIPTION:
LOCATION:
SUMMARY:HSG Districts @Chillicothe
END:VEVENT
BEGIN:VEVENT
DTSTAMP:20260419T130422Z
UID:84875d4b-c5d2-46c0-96a0-ed0dad280ba3
DTSTART:20260511T180000
DTEND:20260511T190000
DESCRIPTION:
LOCATION:
SUMMARY:End of the Year Staff Celebration
END:VEVENT
BEGIN:VEVENT
DTSTAMP:20260419T130422Z
UID:e7f38cc8-c7c6-4aaf-95fe-12692f7aa3f2
DTSTART:20260512T170000
DTEND:20260512T180000
DESCRIPTION:
LOCATION:
SUMMARY:HSBB w/Osborn
END:VEVENT
BEGIN:VEVENT
DTSTAMP:20260419T130422Z
UID:927bed0f-ef76-4786-9d7e-e4bed51a44a6
DTSTART;VALUE=DATE:20260513
DTEND;VALUE=DATE:20260514
DESCRIPTION:
LOCATION:
SUMMARY:Elem. Track & Field Day
END:VEVENT
BEGIN:VEVENT
DTSTAMP:20260419T130422Z
UID:835bf94d-9ab1-4dab-b134-a296b7572f4b
DTSTART:20260513T163000
DTEND:20260513T170000
DESCRIPTION:
LOCATION:
SUMMARY:HSBB @South Holt 
END:VEVENT
BEGIN:VEVENT
DTSTAMP:20260419T130422Z
UID:6d9b616b-6c60-40d3-ad49-3f210bac40f6
DTSTART:20260515T121500
DTEND:20260515T151500
DESCRIPTION:
LOCATION:
SUMMARY:Classes End-School Dismissed
END:VEVENT
BEGIN:VEVENT
DTSTAMP:20260419T130422Z
UID:92b15086-139b-4e18-8d74-dc944a8eb57c
DTSTART;VALUE=DATE:20260613
DTEND;VALUE=DATE:20260614
DESCRIPTION:
LOCATION:
SUMMARY:ACT
END:VEVENT
BEGIN:VEVENT
DTSTAMP:20260419T130422Z
UID:3b14eb76-778d-4118-ab28-68aa67bd4b3d
DTSTART;VALUE=DATE:20260706
DTEND;VALUE=DATE:20260711
DESCRIPTION:
LOCATION:Washington\, DC\, USA
SUMMARY:FCCLA National Leadership Conference
END:VEVENT
BEGIN:VEVENT
DTSTAMP:20260419T130422Z
UID:128af190-2d35-4e87-833e-248d749c2654
DTSTART:20260903T073000
DTEND:20260903T080000
DESCRIPTION:
LOCATION:
SUMMARY:Picture Day 
END:VEVENT
BEGIN:VEVENT
DTSTAMP:20260419T130422Z
UID:0d016400-fa36-4257-9e0a-46afa224a8f3
DTSTART:20261008T080000
DTEND:20261008T083000
DESCRIPTION:
LOCATION:
SUMMARY:Make Up Picture Day 
END:VEVENT
BEGIN:VEVENT
DTSTAMP:20260419T130422Z
UID:d01b6a11-7a83-4d2c-af8b-17abb5d2dbe9
DTSTART:20270408T080000
DTEND:20270408T083000
DESCRIPTION:
LOCATION:
SUMMARY:Senior Cap and Gown Pictures
END:VEVENT
END:VCALENDAR
