BEGIN:VCALENDAR
VERSION:2.0
PRODID:icalendar-ruby
CALSCALE:GREGORIAN
BEGIN:VTIMEZONE
TZID:America/New_York
BEGIN:DAYLIGHT
DTSTART:20260308T030000
TZOFFSETFROM:-0500
TZOFFSETTO:-0400
RRULE:FREQ=YEARLY;BYDAY=2SU;BYMONTH=3
TZNAME:EDT
END:DAYLIGHT
BEGIN:STANDARD
DTSTART:20261101T010000
TZOFFSETFROM:-0400
TZOFFSETTO:-0500
RRULE:FREQ=YEARLY;BYDAY=1SU;BYMONTH=11
TZNAME:EST
END:STANDARD
END:VTIMEZONE
BEGIN:VEVENT
DTSTAMP:20260423T004431Z
UID:e6af06c0-5a26-4d7a-b687-0ed9f565a9ba
DTSTART:20260507T190000
DTEND:20260507T203000
DESCRIPTION:
LOCATION:
SUMMARY:Highland Spring Contert
END:VEVENT
BEGIN:VEVENT
DTSTAMP:20260423T004431Z
UID:5e3b4bdf-2e32-4358-89af-2432bc7cf6ff
DTSTART:20260512T183000
DTEND:20260512T193000
DESCRIPTION:
LOCATION:Godwin School
SUMMARY:Invention Convention
END:VEVENT
BEGIN:VEVENT
DTSTAMP:20260423T004431Z
UID:ad998d29-d4e6-43a9-a008-ff149a5752ca
DTSTART;VALUE=DATE:20260525
DTEND;VALUE=DATE:20260526
DESCRIPTION:
LOCATION:
SUMMARY:Memorial Day - School Closed
END:VEVENT
BEGIN:VEVENT
DTSTAMP:20260423T004431Z
UID:1440f57a-db5e-4ecd-b379-57d6a8f9dc03
DTSTART;VALUE=DATE:20260527
DTEND;VALUE=DATE:20260528
DESCRIPTION:9:20 - 1st Grade\n10:50 - 2nd Grade\n2:05 - 4th Grade
LOCATION:
SUMMARY:Summer Reading Assembly 
END:VEVENT
BEGIN:VEVENT
DTSTAMP:20260423T004431Z
UID:4ba922a8-860f-416a-aeca-4246457e7f22
DTSTART;VALUE=DATE:20260601
DTEND;VALUE=DATE:20260602
DESCRIPTION:9:25 - Kindergarten\n\n11:40 - 5th Grade
LOCATION:
SUMMARY:Summer Reading Assembly
END:VEVENT
BEGIN:VEVENT
DTSTAMP:20260423T004431Z
UID:f5557d98-825f-41f5-8af5-e93101241d4e
DTSTART;VALUE=DATE:20260602
DTEND;VALUE=DATE:20260603
DESCRIPTION:
LOCATION:
SUMMARY:6th Grade YMCA Trip
END:VEVENT
BEGIN:VEVENT
DTSTAMP:20260423T004431Z
UID:29b2af4a-3e87-4229-8406-f48faf511d88
DTSTART;VALUE=DATE:20260602
DTEND;VALUE=DATE:20260603
DESCRIPTION:2:05 - 3rd Grade
LOCATION:
SUMMARY:Summer Reading Assembly
END:VEVENT
BEGIN:VEVENT
DTSTAMP:20260423T004431Z
UID:40a12d18-4898-415e-a5c9-14d20f84dcdd
DTSTART;VALUE=DATE:20260624
DTEND;VALUE=DATE:20260625
DESCRIPTION:
LOCATION:
SUMMARY:Early Dismissal at 12:30PM
END:VEVENT
BEGIN:VEVENT
DTSTAMP:20260423T004431Z
UID:521ced45-c22c-4c29-bacf-59a1e862378e
DTSTART;VALUE=DATE:20260625
DTEND;VALUE=DATE:20260626
DESCRIPTION:
LOCATION:
SUMMARY:Early Dismissal at 12:30PM
END:VEVENT
BEGIN:VEVENT
DTSTAMP:20260423T004431Z
UID:df0e5103-4525-4d79-9728-160fc5d0b0fe
DTSTART;VALUE=DATE:20260626
DTEND;VALUE=DATE:20260627
DESCRIPTION:
LOCATION:
SUMMARY:Early Dismissal at 12:30PM
END:VEVENT
END:VCALENDAR
