BEGIN:VCALENDAR
VERSION:2.0
PRODID:icalendar-ruby
CALSCALE:GREGORIAN
BEGIN:VTIMEZONE
TZID:America/Chicago
BEGIN:DAYLIGHT
DTSTART:20260308T030000
TZOFFSETFROM:-0600
TZOFFSETTO:-0500
RRULE:FREQ=YEARLY;BYDAY=2SU;BYMONTH=3
TZNAME:CDT
END:DAYLIGHT
BEGIN:STANDARD
DTSTART:20261101T010000
TZOFFSETFROM:-0500
TZOFFSETTO:-0600
RRULE:FREQ=YEARLY;BYDAY=1SU;BYMONTH=11
TZNAME:CST
END:STANDARD
END:VTIMEZONE
BEGIN:VEVENT
DTSTAMP:20260420T125012Z
UID:969fefcb-874d-4276-a3dc-f01b50641ec6
DTSTART:20260420T130000
DTEND:20260420T180000
DESCRIPTION:
LOCATION:
SUMMARY:Golf Preseason League Tournament at St. Marys
END:VEVENT
BEGIN:VEVENT
DTSTAMP:20260420T125012Z
UID:8ee61176-518d-4f1e-8d36-9b0fb7c62836
DTSTART:20260420T140000
DTEND:20260420T180000
DESCRIPTION:
LOCATION:
SUMMARY:JV Golf at Anderson County
END:VEVENT
BEGIN:VEVENT
DTSTAMP:20260420T125012Z
UID:a771fd07-251a-4f98-8779-f1e823373057
DTSTART:20260420T163000
DTEND:20260420T200000
DESCRIPTION:
LOCATION:
SUMMARY:Baseball vs Nemaha Central (Home)
END:VEVENT
BEGIN:VEVENT
DTSTAMP:20260420T125012Z
UID:b34af1b4-9972-48fc-8030-b844f95690ca
DTSTART:20260420T163000
DTEND:20260420T190000
DESCRIPTION:
LOCATION:
SUMMARY:Softball JV vs Nemaha Central
END:VEVENT
BEGIN:VEVENT
DTSTAMP:20260420T125012Z
UID:2a91eade-1bb7-4fee-a6d1-b4a5f82d6d6c
DTSTART:20260420T163000
DTEND:20260420T190000
DESCRIPTION:
LOCATION:
SUMMARY:Varsity Softball Home vs Nemaha Central
END:VEVENT
BEGIN:VEVENT
DTSTAMP:20260420T125012Z
UID:46392239-ec50-4f68-8f60-eb227dc55e39
DTSTART:20260421T130000
DTEND:20260421T180000
DESCRIPTION:
LOCATION:
SUMMARY:Golf Nemaha Central Invitational
END:VEVENT
BEGIN:VEVENT
DTSTAMP:20260420T125012Z
UID:38a79147-ef5c-4eb1-95d5-7ff0b0d54c42
DTSTART:20260421T130000
DTEND:20260421T190000
DESCRIPTION:
LOCATION:
SUMMARY:PLMS Track @ Home\, Perry-Lecompton Relays
END:VEVENT
BEGIN:VEVENT
DTSTAMP:20260420T125012Z
UID:8b8a549b-77fe-40e1-b65f-e2fa82df7ba1
DTSTART:20260421T150000
DTEND:20260421T190000
DESCRIPTION:
LOCATION:
SUMMARY:Golf Big East JV Preseason @ Jeff West
END:VEVENT
BEGIN:VEVENT
DTSTAMP:20260420T125012Z
UID:79c40b3f-ae2c-4f17-872c-336860964018
DTSTART:20260421T150000
DTEND:20260421T180000
DESCRIPTION:
LOCATION:
SUMMARY:Golf @ West Franklin (JV)
END:VEVENT
BEGIN:VEVENT
DTSTAMP:20260420T125012Z
UID:284aea6c-740f-4b29-bf62-afcf26f48126
DTSTART:20260421T163000
DTEND:20260421T180000
DESCRIPTION:
LOCATION:
SUMMARY:Baseball JV @ Nemaha Central (Away)
END:VEVENT
BEGIN:VEVENT
DTSTAMP:20260420T125012Z
UID:0aa829d0-388f-417c-99a7-e206c5314cb7
DTSTART:20260422T160000
DTEND:20260422T200000
DESCRIPTION:
LOCATION:
SUMMARY:Track @ Pleasant Ridge Invitational (Fr/So)
END:VEVENT
BEGIN:VEVENT
DTSTAMP:20260420T125012Z
UID:018dedc0-462e-48ba-bed3-7c5d89fc2ac8
DTSTART;VALUE=DATE:20260423
DTEND;VALUE=DATE:20260426
DESCRIPTION:
LOCATION:
SUMMARY:Baseball @ KCC Tournament
END:VEVENT
BEGIN:VEVENT
DTSTAMP:20260420T125012Z
UID:797a37b5-74f6-4f53-86f5-5d9729a9d2b3
DTSTART:20260423T130000
DTEND:20260423T183000
DESCRIPTION:
LOCATION:
SUMMARY:PLMS Track @ Sabetha (Away)
END:VEVENT
BEGIN:VEVENT
DTSTAMP:20260420T125012Z
UID:0b38063a-19b0-4e58-b459-77e5d36c7e9d
DTSTART:20260423T163000
DTEND:20260423T190000
DESCRIPTION:
LOCATION:
SUMMARY:Softball JV vs Rossville
END:VEVENT
BEGIN:VEVENT
DTSTAMP:20260420T125012Z
UID:e3d4b5b1-69a6-4b02-a5e3-1ff36f06ed95
DTSTART:20260423T163000
DTEND:20260423T190000
DESCRIPTION:
LOCATION:
SUMMARY:Varsity Softball Home vs Rossville
END:VEVENT
BEGIN:VEVENT
DTSTAMP:20260420T125012Z
UID:f8f9a297-238d-4ac6-8897-53d4e159fa8f
DTSTART:20260424T153000
DTEND:20260424T200000
DESCRIPTION:
LOCATION:
SUMMARY:Track @ Eudora Invitational
END:VEVENT
BEGIN:VEVENT
DTSTAMP:20260420T125012Z
UID:09234d17-fb3f-41ab-b246-4878a56f28f0
DTSTART:20260425T080000
DTEND:20260425T160000
DESCRIPTION:
LOCATION:
SUMMARY:State Music Festivals - Solos and Small Ensembles
END:VEVENT
BEGIN:VEVENT
DTSTAMP:20260420T125012Z
UID:d653d8bc-fcda-4b8b-86c2-7e829146200a
DTSTART:20260425T180000
DTEND:20260425T193000
DESCRIPTION:
LOCATION:
SUMMARY:Cheer Banquet
END:VEVENT
BEGIN:VEVENT
DTSTAMP:20260420T125012Z
UID:7b7b365f-a087-4047-b7a8-41aa856115ff
DTSTART:20260427T163000
DTEND:20260427T200000
DESCRIPTION:
LOCATION:
SUMMARY:Baseball @ Hiawatha (Away)
END:VEVENT
BEGIN:VEVENT
DTSTAMP:20260420T125012Z
UID:20cd80c3-ea39-4d51-8e8e-de7dad9f88cf
DTSTART:20260427T163000
DTEND:20260427T190000
DESCRIPTION:
LOCATION:
SUMMARY:Varsity Softball Away @ Hiawatha
END:VEVENT
BEGIN:VEVENT
DTSTAMP:20260420T125012Z
UID:b0f4b7f1-cbdf-4118-8dc2-4e1fbe2c195d
DTSTART:20260428T100000
DTEND:20260428T180000
DESCRIPTION:
LOCATION:
SUMMARY:Golf @ St. Marys Invitational
END:VEVENT
BEGIN:VEVENT
DTSTAMP:20260420T125012Z
UID:43cab10c-9627-4b2c-89de-3f5a1555683f
DTSTART:20260428T153000
DTEND:20260428T190000
DESCRIPTION:
LOCATION:
SUMMARY:PLMS Track @ Eudora Inv (Away)
END:VEVENT
BEGIN:VEVENT
DTSTAMP:20260420T125012Z
UID:718c9f6a-c3da-400c-8875-035831368af6
DTSTART:20260428T163000
DTEND:20260428T180000
DESCRIPTION:
LOCATION:
SUMMARY:Baseball JV vs Hiawatha (Home)
END:VEVENT
BEGIN:VEVENT
DTSTAMP:20260420T125012Z
UID:b6c2cc22-dfb7-4d6d-a924-4160cae92ac1
DTSTART:20260429T183000
DTEND:20260429T191500
DESCRIPTION:
LOCATION:
SUMMARY:5th & 6th Vocal Concert
END:VEVENT
BEGIN:VEVENT
DTSTAMP:20260420T125012Z
UID:1b9aa6f3-0ffa-40e8-bb73-5feded6f9323
DTSTART:20260429T193000
DTEND:20260429T200000
DESCRIPTION:
LOCATION:
SUMMARY:7th & 8th Vocal Concert
END:VEVENT
BEGIN:VEVENT
DTSTAMP:20260420T125012Z
UID:7f7dd9b3-7db0-4b3e-8828-3a7cf52f931f
DTSTART:20260430T140000
DTEND:20260430T190000
DESCRIPTION:
LOCATION:
SUMMARY:PLMS Track @ Mission Valley (Away)
END:VEVENT
BEGIN:VEVENT
DTSTAMP:20260420T125012Z
UID:f8a181f9-aa8a-41db-b9ec-626954d18fd4
DTSTART:20260430T150000
DTEND:20260430T180000
DESCRIPTION:
LOCATION:
SUMMARY:Golf Horton JV Invitational
END:VEVENT
BEGIN:VEVENT
DTSTAMP:20260420T125012Z
UID:a55d1f6f-1c95-419f-b18f-3217f8756890
DTSTART:20260430T163000
DTEND:20260430T200000
DESCRIPTION:
LOCATION:
SUMMARY:Baseball vs Jefferson West (Home)
END:VEVENT
BEGIN:VEVENT
DTSTAMP:20260420T125012Z
UID:cbad77ad-178c-46c1-aa80-9a47a17fc814
DTSTART:20260501T130000
DTEND:20260501T170000
DESCRIPTION:
LOCATION:
SUMMARY:JV Golf at Lyndon
END:VEVENT
BEGIN:VEVENT
DTSTAMP:20260420T125012Z
UID:940b0124-7a42-47ab-bb45-524174b8a20d
DTSTART:20260501T150000
DTEND:20260501T200000
DESCRIPTION:
LOCATION:
SUMMARY:Track @ Topeka Seaman Relays
END:VEVENT
BEGIN:VEVENT
DTSTAMP:20260420T125012Z
UID:74752a36-426b-4550-acac-8294dbd550bd
DTSTART:20260501T160000
DTEND:20260501T190000
DESCRIPTION:
LOCATION:
SUMMARY:JV Softball at Sabetha
END:VEVENT
BEGIN:VEVENT
DTSTAMP:20260420T125012Z
UID:9353dcea-8ee3-4216-8286-50566affab79
DTSTART:20260501T163000
DTEND:20260501T180000
DESCRIPTION:
LOCATION:
SUMMARY:Baseball JV @ Jefferson West (Away)
END:VEVENT
BEGIN:VEVENT
DTSTAMP:20260420T125012Z
UID:23c3d4cd-a04d-43cc-ba36-2fa6bd9a1f48
DTSTART:20260502T183000
DTEND:20260502T193000
DESCRIPTION:
LOCATION:
SUMMARY:Pop Show
END:VEVENT
BEGIN:VEVENT
DTSTAMP:20260420T125012Z
UID:829bca10-89ce-44d9-a71f-ba44b372595c
DTSTART:20260504T150000
DTEND:20260504T180000
DESCRIPTION:
LOCATION:
SUMMARY:Golf @ Holton
END:VEVENT
BEGIN:VEVENT
DTSTAMP:20260420T125012Z
UID:f256ae32-339c-44f0-86cf-3ddfdef1c373
DTSTART:20260504T160000
DTEND:20260504T200000
DESCRIPTION:
LOCATION:
SUMMARY:Track Perry-Lecompton Invitational (Fr/So)
END:VEVENT
BEGIN:VEVENT
DTSTAMP:20260420T125012Z
UID:369e6d03-6759-434b-9f52-828a34fddb03
DTSTART:20260504T163000
DTEND:20260504T200000
DESCRIPTION:
LOCATION:
SUMMARY:Baseball @ Riley County (Away)
END:VEVENT
BEGIN:VEVENT
DTSTAMP:20260420T125012Z
UID:72d7f16c-02be-4c57-bbd5-9902778c028c
DTSTART:20260504T163000
DTEND:20260504T190000
DESCRIPTION:
LOCATION:
SUMMARY:Varsity Softball Away @ Riley County
END:VEVENT
BEGIN:VEVENT
DTSTAMP:20260420T125012Z
UID:237be05b-2b3c-4c6c-bb71-ee4bf38e7f6a
DTSTART:20260505T130000
DTEND:20260505T180000
DESCRIPTION:
LOCATION:
SUMMARY:Varsity Golf at Humboldt
END:VEVENT
BEGIN:VEVENT
DTSTAMP:20260420T125012Z
UID:654eb42c-1561-4603-9199-92d95f92a7f2
DTSTART:20260505T140000
DTEND:20260505T200000
DESCRIPTION:
LOCATION:
SUMMARY:PLMS Track at West Franklin
END:VEVENT
BEGIN:VEVENT
DTSTAMP:20260420T125012Z
UID:985b4cc7-4615-4148-8bc9-6dddcc543c14
DTSTART:20260505T163000
DTEND:20260505T180000
DESCRIPTION:
LOCATION:
SUMMARY:Baseball JV vs Riley County (Home)
END:VEVENT
BEGIN:VEVENT
DTSTAMP:20260420T125012Z
UID:2ec33f47-904e-4056-a3fa-f74f01491cc2
DTSTART:20260505T163000
DTEND:20260505T190000
DESCRIPTION:
LOCATION:
SUMMARY:Softball JV @ Riley County
END:VEVENT
BEGIN:VEVENT
DTSTAMP:20260420T125012Z
UID:35abbf1c-262b-4edd-ab0e-f0c2104e0fc8
DTSTART:20260506T080000
DTEND:20260506T140000
DESCRIPTION:
LOCATION:
SUMMARY:Golf Jeff West JV Invitational II
END:VEVENT
BEGIN:VEVENT
DTSTAMP:20260420T125012Z
UID:4765c718-0c59-4991-b1c5-08bf60803f59
DTSTART:20260506T183000
DTEND:20260506T200000
DESCRIPTION:
LOCATION:
SUMMARY:5th - 12th Band Concert 
END:VEVENT
BEGIN:VEVENT
DTSTAMP:20260420T125012Z
UID:7c4cf8e7-33dd-4c0c-ae78-57c927bbe836
DTSTART:20260506T190000
DTEND:20260506T200000
DESCRIPTION:
LOCATION:
SUMMARY:5th-12th Band Extravaganza! 
END:VEVENT
BEGIN:VEVENT
DTSTAMP:20260420T125012Z
UID:342bac6a-b90c-419e-9c32-e29e295a4b6e
DTSTART:20260507T130000
DTEND:20260507T180000
DESCRIPTION:
LOCATION:
SUMMARY:Golf Perry-Lecompton Invitational
END:VEVENT
BEGIN:VEVENT
DTSTAMP:20260420T125012Z
UID:a9cb5409-31dd-40f6-a188-427ffe8d5a99
DTSTART:20260507T163000
DTEND:20260507T200000
DESCRIPTION:
LOCATION:
SUMMARY:Baseball Home vs Royal Valley (Senior Night)
END:VEVENT
BEGIN:VEVENT
DTSTAMP:20260420T125012Z
UID:18eb15a1-9631-431e-af8b-c0d01708115a
DTSTART:20260507T163000
DTEND:20260507T190000
DESCRIPTION:
LOCATION:
SUMMARY:Softball JV vs Royal Valley
END:VEVENT
BEGIN:VEVENT
DTSTAMP:20260420T125012Z
UID:efea3537-84c0-415c-91b4-f9ef615201d6
DTSTART:20260507T163000
DTEND:20260507T190000
DESCRIPTION:
LOCATION:
SUMMARY:Varsity Softball Home vs Royal Valley (Senior Night)
END:VEVENT
BEGIN:VEVENT
DTSTAMP:20260420T125012Z
UID:1cd7b9e8-e425-4ae0-9568-3de0e176f5a4
DTSTART:20260508T150000
DTEND:20260508T200000
DESCRIPTION:
LOCATION:
SUMMARY:Track @ Jefferson County North Invitational
END:VEVENT
BEGIN:VEVENT
DTSTAMP:20260420T125012Z
UID:69a7fd0e-a1fa-4ccd-ba9c-27fcfc984728
DTSTART:20260508T163000
DTEND:20260508T180000
DESCRIPTION:
LOCATION:
SUMMARY:Baseball JV @ Royal Valley (Away)
END:VEVENT
BEGIN:VEVENT
DTSTAMP:20260420T125012Z
UID:7312ab14-d22d-4b20-860a-9c3b30deb7b7
DTSTART;VALUE=DATE:20260509
DTEND;VALUE=DATE:20260510
DESCRIPTION:
LOCATION:
SUMMARY:ACT Registration Deadline for June Test
END:VEVENT
BEGIN:VEVENT
DTSTAMP:20260420T125012Z
UID:4d433f2e-d2ca-4c50-93e3-1379182fe5c5
DTSTART:20260511T090000
DTEND:20260511T150000
DESCRIPTION:
LOCATION:
SUMMARY:Golf Big East League Golf at Silver Lake
END:VEVENT
BEGIN:VEVENT
DTSTAMP:20260420T125012Z
UID:295a6212-b313-4db2-a1f4-ff7413f7d9ba
DTSTART:20260511T130000
DTEND:20260511T190000
DESCRIPTION:
LOCATION:
SUMMARY:PLMS 8th Grade Track @ Big East League Meet @ Silver Lake (Away)
END:VEVENT
BEGIN:VEVENT
DTSTAMP:20260420T125012Z
UID:32c42625-96ec-4e66-88a3-2e7af53c2aac
DTSTART:20260511T163000
DTEND:20260511T200000
DESCRIPTION:
LOCATION:
SUMMARY:Varsity Softball Home vs Lawrence High
END:VEVENT
BEGIN:VEVENT
DTSTAMP:20260420T125012Z
UID:b25988ac-87d1-4055-b070-7dddc34008ff
DTSTART:20260511T183000
DTEND:20260511T203000
DESCRIPTION:
LOCATION:
SUMMARY:Board of Education Meeting
END:VEVENT
BEGIN:VEVENT
DTSTAMP:20260420T125012Z
UID:540fba05-30de-4cbd-927b-31fb0a9f1f80
DTSTART;VALUE=DATE:20260512
DTEND;VALUE=DATE:20260513
DESCRIPTION:
LOCATION:
SUMMARY:PLHS Senior Class Last Day
END:VEVENT
BEGIN:VEVENT
DTSTAMP:20260420T125012Z
UID:66ac3ce7-d488-4581-b2d6-2543881e7b8a
DTSTART:20260512T130000
DTEND:20260512T190000
DESCRIPTION:
LOCATION:
SUMMARY:PLMS 7th Grade Track @ Big East League Meet @ Sabetha (Away)
END:VEVENT
BEGIN:VEVENT
DTSTAMP:20260420T125012Z
UID:b85ba261-94ed-4e9a-a9d9-c863dff46ef5
DTSTART:20260512T150000
DTEND:20260512T180000
DESCRIPTION:
LOCATION:
SUMMARY:Golf Big East JV League Golf @ Holton
END:VEVENT
BEGIN:VEVENT
DTSTAMP:20260420T125012Z
UID:73bca85e-e5d5-4072-a620-7faa96842135
DTSTART;VALUE=DATE:20260513
DTEND;VALUE=DATE:20260514
DESCRIPTION:
LOCATION:
SUMMARY:PLMS League Track Rain Date
END:VEVENT
BEGIN:VEVENT
DTSTAMP:20260420T125012Z
UID:a438afd2-6aa9-43fc-b45d-044cd55e549d
DTSTART:20260513T183000
DTEND:20260513T200000
DESCRIPTION:
LOCATION:
SUMMARY:4th Grade Concert - Little Theater
END:VEVENT
BEGIN:VEVENT
DTSTAMP:20260420T125012Z
UID:535353b6-d859-4e8f-83c4-b92bcab7e41f
DTSTART;VALUE=DATE:20260514
DTEND;VALUE=DATE:20260516
DESCRIPTION:
LOCATION:
SUMMARY:Baseball Regionals
END:VEVENT
BEGIN:VEVENT
DTSTAMP:20260420T125012Z
UID:d87f88f8-afee-4384-935b-b3af2b48d499
DTSTART:20260514T150000
DTEND:20260514T200000
DESCRIPTION:
LOCATION:
SUMMARY:Track @ Big East League @ St Mary's
END:VEVENT
BEGIN:VEVENT
DTSTAMP:20260420T125012Z
UID:da0e1cc8-4287-4d2b-ac48-48993049c9b0
DTSTART:20260515T084500
DTEND:20260515T163000
DESCRIPTION:
LOCATION:
SUMMARY:8th Grade Class Trip
END:VEVENT
BEGIN:VEVENT
DTSTAMP:20260420T125012Z
UID:ecb3b840-7382-4fb5-9b97-7f85260c16a4
DTSTART:20260515T090000
DTEND:20260515T103000
DESCRIPTION:
LOCATION:
SUMMARY:Senior Recognition Assembly
END:VEVENT
BEGIN:VEVENT
DTSTAMP:20260420T125012Z
UID:6eb41c2f-5616-4f70-9ab5-39ea45f97087
DTSTART:20260515T120000
DTEND:20260515T130000
DESCRIPTION:
LOCATION:
SUMMARY:Senior Luncheon
END:VEVENT
BEGIN:VEVENT
DTSTAMP:20260420T125012Z
UID:adfff548-1d86-4efc-97bc-bd17ba7cfaf0
DTSTART:20260516T130000
DTEND:20260516T140000
DESCRIPTION:
LOCATION:
SUMMARY:PLHS Graduation
END:VEVENT
BEGIN:VEVENT
DTSTAMP:20260420T125012Z
UID:1bed6853-65b7-46f3-9254-533456b74705
DTSTART;VALUE=DATE:20260518
DTEND;VALUE=DATE:20260519
DESCRIPTION:
LOCATION:
SUMMARY:Golf Regionals
END:VEVENT
BEGIN:VEVENT
DTSTAMP:20260420T125012Z
UID:e9df99b2-2851-4ba8-9f7d-ef4a46a0f048
DTSTART;VALUE=DATE:20260518
DTEND;VALUE=DATE:20260521
DESCRIPTION:
LOCATION:
SUMMARY:Softball V @ Regionals
END:VEVENT
BEGIN:VEVENT
DTSTAMP:20260420T125012Z
UID:03d8a661-8180-475e-8723-50d1e7a06d97
DTSTART:20260518T190000
DTEND:20260518T200000
DESCRIPTION:
LOCATION:
SUMMARY:PLMS 8th Grade Promotion
END:VEVENT
BEGIN:VEVENT
DTSTAMP:20260420T125012Z
UID:7e426160-8d4f-496a-987a-e89ec88ce57c
DTSTART;VALUE=DATE:20260520
DTEND;VALUE=DATE:20260521
DESCRIPTION:
LOCATION:
SUMMARY:Last Day of School
END:VEVENT
BEGIN:VEVENT
DTSTAMP:20260420T125012Z
UID:51f33a5c-4cee-4266-b8c4-bd1cd40c602e
DTSTART;VALUE=DATE:20260521
DTEND;VALUE=DATE:20260522
DESCRIPTION:
LOCATION:
SUMMARY:Regional Track at Osage City
END:VEVENT
BEGIN:VEVENT
DTSTAMP:20260420T125012Z
UID:4eff2a1a-41b4-445a-944c-53e1bd58586a
DTSTART;VALUE=DATE:20260526
DTEND;VALUE=DATE:20260528
DESCRIPTION:
LOCATION:
SUMMARY:Golf State
END:VEVENT
BEGIN:VEVENT
DTSTAMP:20260420T125012Z
UID:3912a343-fc03-43fc-8a9c-84a146fb01d8
DTSTART;VALUE=DATE:20260528
DTEND;VALUE=DATE:20260530
DESCRIPTION:
LOCATION:
SUMMARY:State Baseball
END:VEVENT
BEGIN:VEVENT
DTSTAMP:20260420T125012Z
UID:c630fb52-2b37-4052-8465-74b863867146
DTSTART;VALUE=DATE:20260528
DTEND;VALUE=DATE:20260530
DESCRIPTION:
LOCATION:
SUMMARY:State Softball
END:VEVENT
BEGIN:VEVENT
DTSTAMP:20260420T125012Z
UID:ae54a18d-5597-437a-b04d-94abb6834dd2
DTSTART;VALUE=DATE:20260529
DTEND;VALUE=DATE:20260531
DESCRIPTION:
LOCATION:
SUMMARY:State Track @ Wichita State University
END:VEVENT
BEGIN:VEVENT
DTSTAMP:20260420T125012Z
UID:4c4d0b69-5437-4920-a3d9-1169a905bcb2
DTSTART;VALUE=DATE:20260606
DTEND;VALUE=DATE:20260607
DESCRIPTION:
LOCATION:
SUMMARY:ACT Registration Deadline for July Test
END:VEVENT
BEGIN:VEVENT
DTSTAMP:20260420T125012Z
UID:01a1e373-7ffa-4c54-9488-e20d307a66b6
DTSTART:20260608T183000
DTEND:20260608T203000
DESCRIPTION:
LOCATION:
SUMMARY:Board of Education Meeting
END:VEVENT
BEGIN:VEVENT
DTSTAMP:20260420T125012Z
UID:16838e7c-bc20-443f-9d99-2e0e3a2f5000
DTSTART;VALUE=DATE:20260613
DTEND;VALUE=DATE:20260614
DESCRIPTION:
LOCATION:
SUMMARY:ACT Test Date
END:VEVENT
BEGIN:VEVENT
DTSTAMP:20260420T125012Z
UID:cc5a6f65-37c3-4ded-b52d-cb4d7eeb8ff8
DTSTART;VALUE=DATE:20260711
DTEND;VALUE=DATE:20260712
DESCRIPTION:
LOCATION:
SUMMARY:ACT Test Date
END:VEVENT
BEGIN:VEVENT
DTSTAMP:20260420T125012Z
UID:a96ebc52-61b7-45ee-9ae1-cca9400a7071
DTSTART:20260918T150000
DTEND:20260918T190000
DESCRIPTION:
LOCATION:
SUMMARY:Tennis Marysville Quad (V)
END:VEVENT
END:VCALENDAR
