BEGIN:VCALENDAR
VERSION:2.0
PRODID:icalendar-ruby
CALSCALE:GREGORIAN
BEGIN:VTIMEZONE
TZID:America/Chicago
BEGIN:DAYLIGHT
DTSTART:20260308T030000
TZOFFSETFROM:-0600
TZOFFSETTO:-0500
RRULE:FREQ=YEARLY;BYDAY=2SU;BYMONTH=3
TZNAME:CDT
END:DAYLIGHT
BEGIN:STANDARD
DTSTART:20261101T010000
TZOFFSETFROM:-0500
TZOFFSETTO:-0600
RRULE:FREQ=YEARLY;BYDAY=1SU;BYMONTH=11
TZNAME:CST
END:STANDARD
END:VTIMEZONE
BEGIN:VEVENT
DTSTAMP:20260423T124337Z
UID:5ebfe428-6ff6-453f-bf7f-98fc2a75f3b0
DTSTART;VALUE=DATE:20260427
DTEND;VALUE=DATE:20260428
DESCRIPTION:
LOCATION:
SUMMARY:No School - MSI Day - Possible Snow Day Make-Up Day
END:VEVENT
BEGIN:VEVENT
DTSTAMP:20260423T124337Z
UID:2a9e6901-f7f2-40cf-b813-e099c84c108a
DTSTART;VALUE=DATE:20260428
DTEND;VALUE=DATE:20260429
DESCRIPTION:
LOCATION:
SUMMARY:Madison Trip-4Bl\, 4M\, 4P (8:15-6:00 pm)
END:VEVENT
BEGIN:VEVENT
DTSTAMP:20260423T124337Z
UID:87b828c8-8d04-4136-b34e-73b56c88d121
DTSTART;VALUE=DATE:20260429
DTEND;VALUE=DATE:20260430
DESCRIPTION:
LOCATION:
SUMMARY:Madison Trip - 4Bu\, 4H (8:15-6:00 pm)
END:VEVENT
BEGIN:VEVENT
DTSTAMP:20260423T124337Z
UID:9d742587-a60d-4336-a80b-37feec67dd7b
DTSTART;VALUE=DATE:20260520
DTEND;VALUE=DATE:20260521
DESCRIPTION:
LOCATION:
SUMMARY:Elementary Track Meet at MHS\, 8:30-3:00
END:VEVENT
BEGIN:VEVENT
DTSTAMP:20260423T124337Z
UID:a6e2c4bb-3500-42e3-9655-a1085289ca21
DTSTART;VALUE=DATE:20260521
DTEND;VALUE=DATE:20260522
DESCRIPTION:
LOCATION:
SUMMARY:Elementary Track Meet\, rain date
END:VEVENT
BEGIN:VEVENT
DTSTAMP:20260423T124337Z
UID:08e727ab-c1f5-4ae9-af30-1b294e5a96df
DTSTART;VALUE=DATE:20260525
DTEND;VALUE=DATE:20260526
DESCRIPTION:
LOCATION:
SUMMARY:No School - Memorial Day
END:VEVENT
BEGIN:VEVENT
DTSTAMP:20260423T124337Z
UID:8c3e0a94-6e9b-4897-85fd-e69c9acc8e6f
DTSTART;VALUE=DATE:20260529
DTEND;VALUE=DATE:20260530
DESCRIPTION:
LOCATION:
SUMMARY:Last Day for Students\, Dismissal at 12:15
END:VEVENT
END:VCALENDAR
