BEGIN:VCALENDAR
VERSION:2.0
PRODID:icalendar-ruby
CALSCALE:GREGORIAN
BEGIN:VTIMEZONE
TZID:America/New_York
BEGIN:DAYLIGHT
DTSTART:20260308T030000
TZOFFSETFROM:-0500
TZOFFSETTO:-0400
RRULE:FREQ=YEARLY;BYDAY=2SU;BYMONTH=3
TZNAME:EDT
END:DAYLIGHT
BEGIN:STANDARD
DTSTART:20261101T010000
TZOFFSETFROM:-0400
TZOFFSETTO:-0500
RRULE:FREQ=YEARLY;BYDAY=1SU;BYMONTH=11
TZNAME:EST
END:STANDARD
END:VTIMEZONE
BEGIN:VEVENT
DTSTAMP:20260423T153721Z
UID:9072f277-1dfe-4966-acd3-fc2587615599
DTSTART:20260429T091500
DTEND:20260429T141500
DESCRIPTION:<p>Wednesday\, April 29\, is an early release day. Jordan opera
 tes on the <a target="_blank" rel="noopener noreferrer nofollow" href="htt
 ps://docs.google.com/document/d/1ud-iTPz0NfY0vChm4Yc7eTMteRxraxOktPe_cG8yx
 xE/edit?usp=sharing">Early Release Bell Schedule</a>.</p>
LOCATION:
SUMMARY:Early Release Day
END:VEVENT
BEGIN:VEVENT
DTSTAMP:20260423T153721Z
UID:33fac278-4632-49d9-8060-e5c205e7b26c
DTSTART;VALUE=DATE:20260504
DTEND;VALUE=DATE:20260516
DESCRIPTION:
LOCATION:6900 Garrett Rd\, Durham\, NC 27707\, USA
SUMMARY:AP Exams
END:VEVENT
BEGIN:VEVENT
DTSTAMP:20260423T153721Z
UID:b2b1aa65-5bc5-492e-be58-921795564c7f
DTSTART:20260507T091500
DTEND:20260507T161500
DESCRIPTION:<p>As outlined in the JHS Grading Plan\, progress reports will 
 be sent home via hard copy at every progress reporting period.</p>
LOCATION:
SUMMARY:Quarter 4 Progress Report Distribution
END:VEVENT
BEGIN:VEVENT
DTSTAMP:20260423T153721Z
UID:f79423d0-90a2-4d7c-8517-292a665682b6
DTSTART:20260511T164500
DTEND:20260511T174500
DESCRIPTION:<p>The School Improvement Team will meet <a target="_blank" rel
 ="noopener noreferrer nofollow" href="https://meet.google.com/wik-xajd-nee
 ">virtually</a>.</p>
LOCATION:Virtual
SUMMARY:May School Improvement Team Meeting
END:VEVENT
BEGIN:VEVENT
DTSTAMP:20260423T153721Z
UID:98eabac7-fbae-4b7a-a9e7-a2add9de5a91
DTSTART:20260512T180000
DTEND:20260512T190000
DESCRIPTION:<p>Families will receive updates on their child’s progress in
  the pathway program\, learn what is required to maintain pathway status\,
  and have an opportunity to ask questions and receive support. Click <a ta
 rget="_blank" rel="noopener noreferrer nofollow" href="https://teams.micro
 soft.com/l/meetup-join/19%3ameeting_MDNiNzcyZTAtZTZhOC00NzhkLTgzNjctMzdjYz
 AzMGFmYTIx%40thread.v2/0?context=%7b%22Tid%22%3a%22a62d3eca-d9fa-405d-83d5
 -f5681390bd5a%22%2c%22Oid%22%3a%221c871944-a218-419e-97c1-77124cd9893b%22%
 7d">here</a> for meeting link. </p>
LOCATION:
SUMMARY:Virtual Spring Agriculture Education Pathway Night
END:VEVENT
BEGIN:VEVENT
DTSTAMP:20260423T153721Z
UID:0e9f72c0-bb0c-4678-bd6e-391eafdb554e
DTSTART:20260513T180000
DTEND:20260513T190000
DESCRIPTION:<p>The PTSA will meet at 6:00 p.m. in the media center. All are
  welcome to attend. </p>
LOCATION:JHS Media Center
SUMMARY:JHS PTSA Meeting
END:VEVENT
BEGIN:VEVENT
DTSTAMP:20260423T153721Z
UID:7a2d15b9-fe86-4fbf-96aa-c35761532b14
DTSTART;VALUE=DATE:20260518
DTEND;VALUE=DATE:20260523
DESCRIPTION:
LOCATION:6806 Garrett Rd\, Durham\, NC 27707\, USA
SUMMARY:Makeup AP Exams
END:VEVENT
BEGIN:VEVENT
DTSTAMP:20260423T153721Z
UID:99b1cac6-704a-4b98-ba8a-ae91a0c5b00b
DTSTART:20260520T091500
DTEND:20260520T161500
DESCRIPTION:<p>Jordan operates on the <a target="_blank" rel="noopener nore
 ferrer nofollow" href="https://docs.google.com/document/d/1TkYTRjKvpUHN-bl
 q0zoRM4cuSIbljRPoTd72kD1N7Sw/edit?tab=t.0" relative-link="">one-hour activ
 ity period bell schedule</a>. </p>
LOCATION:
SUMMARY:One-Hour Activity Period Bell Schedule
END:VEVENT
BEGIN:VEVENT
DTSTAMP:20260423T153721Z
UID:267fce64-6571-4863-93de-7428a5b9f2df
DTSTART:20260521T100000
DTEND:20260521T113000
DESCRIPTION:
LOCATION:6806 Garrett Rd\, Durham\, NC 27707\, USA
SUMMARY:Senior Recognition Ceremony
END:VEVENT
BEGIN:VEVENT
DTSTAMP:20260423T153721Z
UID:a87fb234-1b75-4e88-baff-3cc140bb485e
DTSTART:20260523T190000
DTEND:20260523T230000
DESCRIPTION:
LOCATION:807 E Main St Suite 350\, Durham\, NC 27701\, USA
SUMMARY:Prom
END:VEVENT
BEGIN:VEVENT
DTSTAMP:20260423T153721Z
UID:c8d1456f-f6ee-4b42-bba3-38cf99a60d6a
DTSTART;VALUE=DATE:20260525
DTEND;VALUE=DATE:20260526
DESCRIPTION:<p>School is closed in observance of Memorial Day.</p>
LOCATION:
SUMMARY:Holiday 
END:VEVENT
BEGIN:VEVENT
DTSTAMP:20260423T153721Z
UID:1a4769e6-3b47-4d77-beee-8ef2c14a5aff
DTSTART:20260528T140000
DTEND:20260528T161500
DESCRIPTION:
LOCATION:
SUMMARY:Senior Fest
END:VEVENT
BEGIN:VEVENT
DTSTAMP:20260423T153721Z
UID:a74c4c68-4e3e-4a19-8484-8980b30a6112
DTSTART:20260603T190000
DTEND:20260603T200000
DESCRIPTION:
LOCATION:JHS Media Center
SUMMARY:JHS Athletic Booster Club
END:VEVENT
BEGIN:VEVENT
DTSTAMP:20260423T153721Z
UID:1148839a-c37e-400b-bf25-f339d3b56efc
DTSTART:20260609T133000
DTEND:20260609T153000
DESCRIPTION:<p>Seniors will meet in the Auditorium for Graduation Rehearsal
 </p>
LOCATION:Jordan Auditorium
SUMMARY:Graduation Rehearsal on Campus
END:VEVENT
BEGIN:VEVENT
DTSTAMP:20260423T153721Z
UID:03564882-36a1-44a7-83d3-1fc84810247e
DTSTART;VALUE=DATE:20260610
DTEND;VALUE=DATE:20260611
DESCRIPTION:<p>Quarter 4 marking period ends.</p>
LOCATION:
SUMMARY:End of Quarter 4
END:VEVENT
BEGIN:VEVENT
DTSTAMP:20260423T153721Z
UID:26e03b2c-d596-4c20-8852-f144b38f43f9
DTSTART:20260610T160000
DTEND:20260610T173000
DESCRIPTION:
LOCATION:115 Whitford Dr\, Durham\, NC 27708\, USA
SUMMARY:Graduation Rehearsal at Duke
END:VEVENT
BEGIN:VEVENT
DTSTAMP:20260423T153721Z
UID:87d3dbd3-ab0d-4208-b2a1-36ae1457ca97
DTSTART;VALUE=DATE:20260611
DTEND;VALUE=DATE:20260612
DESCRIPTION:<p>School is closed to students due to a required teacher workd
 ay.</p>
LOCATION:
SUMMARY:Required Teacher Workday
END:VEVENT
BEGIN:VEVENT
DTSTAMP:20260423T153721Z
UID:e66e8256-0aaa-40b1-ac40-670ddcfb93d8
DTSTART;VALUE=DATE:20260612
DTEND;VALUE=DATE:20260613
DESCRIPTION:<p>School is closed to students due to a required teacher workd
 ay.</p>
LOCATION:
SUMMARY:Required Teacher Workday
END:VEVENT
BEGIN:VEVENT
DTSTAMP:20260423T153721Z
UID:c0004f02-c414-48d3-ac91-46463b645684
DTSTART:20260612T170000
DTEND:20260612T180000
DESCRIPTION:
LOCATION:115 Whitford Dr\, Durham\, NC 27708\, USA
SUMMARY:Jordan Graduation
END:VEVENT
BEGIN:VEVENT
DTSTAMP:20260423T153721Z
UID:3421a85a-f8d9-4713-8407-347bb32a7052
DTSTART:20260612T183000
DTEND:20260612T193000
DESCRIPTION:
LOCATION:6806 Garrett Rd\, Durham\, NC 27707\, USA
SUMMARY:Diploma Pick up
END:VEVENT
END:VCALENDAR
