BEGIN:VCALENDAR
VERSION:2.0
PRODID:icalendar-ruby
CALSCALE:GREGORIAN
BEGIN:VTIMEZONE
TZID:America/Chicago
BEGIN:DAYLIGHT
DTSTART:20260308T030000
TZOFFSETFROM:-0600
TZOFFSETTO:-0500
RRULE:FREQ=YEARLY;BYDAY=2SU;BYMONTH=3
TZNAME:CDT
END:DAYLIGHT
BEGIN:STANDARD
DTSTART:20261101T010000
TZOFFSETFROM:-0500
TZOFFSETTO:-0600
RRULE:FREQ=YEARLY;BYDAY=1SU;BYMONTH=11
TZNAME:CST
END:STANDARD
END:VTIMEZONE
BEGIN:VEVENT
DTSTAMP:20260423T101532Z
UID:5a1b98c6-129f-4e7c-8521-6e7d064f53cd
DTSTART:20260423T120000
DTEND:20260423T140000
DESCRIPTION:
LOCATION:
SUMMARY:3rd & 4th grade High Rollers
END:VEVENT
BEGIN:VEVENT
DTSTAMP:20260423T101532Z
UID:cf4d91a2-c7c1-48d9-a796-a2568eff0900
DTSTART;VALUE=DATE:20260424
DTEND;VALUE=DATE:20260425
DESCRIPTION:
LOCATION:
SUMMARY:No 4K Stoddard 
END:VEVENT
BEGIN:VEVENT
DTSTAMP:20260423T101532Z
UID:87670ea3-8531-419e-ad88-867240bc67aa
DTSTART;VALUE=DATE:20260504
DTEND;VALUE=DATE:20260509
DESCRIPTION:
LOCATION:
SUMMARY:Teacher/Staff Appreciation Week
END:VEVENT
BEGIN:VEVENT
DTSTAMP:20260423T101532Z
UID:2e41e76c-a9f0-4db6-acc2-0447df379717
DTSTART;VALUE=DATE:20260511
DTEND;VALUE=DATE:20260512
DESCRIPTION:
LOCATION:
SUMMARY:Pirate Pals (5th Grade)
END:VEVENT
BEGIN:VEVENT
DTSTAMP:20260423T101532Z
UID:4af01b7e-37a1-42dd-934c-aac095281e8a
DTSTART:20260513T163000
DTEND:20260513T180000
DESCRIPTION:
LOCATION:Stoddard Elementary School\, 300 N Cottage St\, Stoddard\, WI 5465
 8\, USA
SUMMARY:The More You Know\, The More You Glow Literacy Night 
END:VEVENT
BEGIN:VEVENT
DTSTAMP:20260423T101532Z
UID:2d3f3e4f-3b7e-4037-ab51-69cacfbbbb07
DTSTART;VALUE=DATE:20260515
DTEND;VALUE=DATE:20260516
DESCRIPTION:
LOCATION:
SUMMARY:Pirate Pals (5th Grade)
END:VEVENT
END:VCALENDAR
