BEGIN:VCALENDAR
VERSION:2.0
PRODID:icalendar-ruby
CALSCALE:GREGORIAN
BEGIN:VTIMEZONE
TZID:America/Chicago
BEGIN:DAYLIGHT
DTSTART:20260308T030000
TZOFFSETFROM:-0600
TZOFFSETTO:-0500
RRULE:FREQ=YEARLY;BYDAY=2SU;BYMONTH=3
TZNAME:CDT
END:DAYLIGHT
BEGIN:STANDARD
DTSTART:20261101T010000
TZOFFSETFROM:-0500
TZOFFSETTO:-0600
RRULE:FREQ=YEARLY;BYDAY=1SU;BYMONTH=11
TZNAME:CST
END:STANDARD
END:VTIMEZONE
BEGIN:VEVENT
DTSTAMP:20260423T121037Z
UID:927d3307-3405-4357-9e3e-8c75cf5ce3ae
DTSTART:20260423T110000
DTEND:20260423T144500
DESCRIPTION:
LOCATION:
SUMMARY:Roller Skating Grades 3 and 4
END:VEVENT
BEGIN:VEVENT
DTSTAMP:20260423T121037Z
UID:9f1e97fd-33ee-49f8-89c6-0edc7b4d5e46
DTSTART;VALUE=DATE:20260424
DTEND;VALUE=DATE:20260425
DESCRIPTION:
LOCATION:
SUMMARY:No 4K-Prairie View Elementary
END:VEVENT
BEGIN:VEVENT
DTSTAMP:20260423T121037Z
UID:83b01752-22ed-48ad-8a3f-b2dd2ab56473
DTSTART;VALUE=DATE:20260504
DTEND;VALUE=DATE:20260505
DESCRIPTION:
LOCATION:
SUMMARY:Pirate Pals (5th Grade)
END:VEVENT
BEGIN:VEVENT
DTSTAMP:20260423T121037Z
UID:bdc126c2-ffb0-485f-99f3-370b5bbb95c6
DTSTART;VALUE=DATE:20260508
DTEND;VALUE=DATE:20260509
DESCRIPTION:
LOCATION:
SUMMARY:Pirate Pals (5th Grade)
END:VEVENT
BEGIN:VEVENT
DTSTAMP:20260423T121037Z
UID:9bb1eab8-311b-41f6-b26e-22abd4467602
DTSTART;VALUE=DATE:20260515
DTEND;VALUE=DATE:20260516
DESCRIPTION:
LOCATION:
SUMMARY:4th grade -Madison
END:VEVENT
BEGIN:VEVENT
DTSTAMP:20260423T121037Z
UID:38732145-e33b-4180-bbb0-4ba18c9fc1d2
DTSTART;VALUE=DATE:20260527
DTEND;VALUE=DATE:20260528
DESCRIPTION:
LOCATION:
SUMMARY:3rd grade-Grant County Solar Site
END:VEVENT
BEGIN:VEVENT
DTSTAMP:20260423T121037Z
UID:3967babf-f655-4531-918c-02345c8ea267
DTSTART:20260528T123000
DTEND:20260528T143000
DESCRIPTION:
LOCATION:
SUMMARY:Fun Day at Stoddard
END:VEVENT
BEGIN:VEVENT
DTSTAMP:20260423T121037Z
UID:da8ed37e-f3b2-428c-80cf-67a92308c4bf
DTSTART;VALUE=DATE:20260529
DTEND;VALUE=DATE:20260530
DESCRIPTION:
LOCATION:
SUMMARY:No 4K-Prairie View Elementary
END:VEVENT
BEGIN:VEVENT
DTSTAMP:20260423T121037Z
UID:6103141f-6773-4241-8226-53d954e7a75c
DTSTART:20260601T140000
DTEND:20260601T143000
DESCRIPTION:
LOCATION:
SUMMARY:4K Graduation 
END:VEVENT
BEGIN:VEVENT
DTSTAMP:20260423T121037Z
UID:884c2e0f-06a5-49b3-b971-9c6b2374eab2
DTSTART:20260603T100000
DTEND:20260603T103000
DESCRIPTION:
LOCATION:
SUMMARY:5th grade Promotion
END:VEVENT
END:VCALENDAR
