BEGIN:VCALENDAR
VERSION:2.0
PRODID:icalendar-ruby
CALSCALE:GREGORIAN
BEGIN:VTIMEZONE
TZID:America/New_York
BEGIN:DAYLIGHT
DTSTART:20260308T030000
TZOFFSETFROM:-0500
TZOFFSETTO:-0400
RRULE:FREQ=YEARLY;BYDAY=2SU;BYMONTH=3
TZNAME:EDT
END:DAYLIGHT
BEGIN:STANDARD
DTSTART:20261101T010000
TZOFFSETFROM:-0400
TZOFFSETTO:-0500
RRULE:FREQ=YEARLY;BYDAY=1SU;BYMONTH=11
TZNAME:EST
END:STANDARD
END:VTIMEZONE
BEGIN:VEVENT
DTSTAMP:20260423T085337Z
UID:c55a7c95-ebba-43f1-9d78-61eb1318b7bc
DTSTART;VALUE=DATE:20260421
DTEND;VALUE=DATE:20260424
DESCRIPTION:
LOCATION:
SUMMARY:3rd Grade Math MSTEP Testing
END:VEVENT
BEGIN:VEVENT
DTSTAMP:20260423T085337Z
UID:8707b475-5093-42cb-beeb-087eb6281cf5
DTSTART;VALUE=DATE:20260428
DTEND;VALUE=DATE:20260501
DESCRIPTION:
LOCATION:
SUMMARY:4th Grade ELA MSTEP Testing
END:VEVENT
BEGIN:VEVENT
DTSTAMP:20260423T085337Z
UID:3192b729-9389-4eac-a753-08f3917e7722
DTSTART;VALUE=DATE:20260505
DTEND;VALUE=DATE:20260508
DESCRIPTION:
LOCATION:
SUMMARY:4th Grade Math MSTEP Testing
END:VEVENT
BEGIN:VEVENT
DTSTAMP:20260423T085337Z
UID:05b840df-f81b-4f86-ad61-a71e5a8c6520
DTSTART:20260519T183000
DTEND:20260519T193000
DESCRIPTION:
LOCATION:
SUMMARY:3rd Grade Music Performance
END:VEVENT
BEGIN:VEVENT
DTSTAMP:20260423T085337Z
UID:474e0f57-3476-4ff2-bb24-b53f44d3b21a
DTSTART;VALUE=DATE:20260603
DTEND;VALUE=DATE:20260604
DESCRIPTION:
LOCATION:
SUMMARY:Half Day of School 11:30 am Dismissal
END:VEVENT
BEGIN:VEVENT
DTSTAMP:20260423T085337Z
UID:a895c22e-88bc-4abf-a7cd-51a30b91663c
DTSTART;VALUE=DATE:20260604
DTEND;VALUE=DATE:20260605
DESCRIPTION:
LOCATION:
SUMMARY:Half Day of School 11:30 am Dismissal
END:VEVENT
END:VCALENDAR
