BEGIN:VCALENDAR
VERSION:2.0
PRODID:icalendar-ruby
CALSCALE:GREGORIAN
BEGIN:VTIMEZONE
TZID:America/New_York
BEGIN:DAYLIGHT
DTSTART:20260308T030000
TZOFFSETFROM:-0500
TZOFFSETTO:-0400
RRULE:FREQ=YEARLY;BYDAY=2SU;BYMONTH=3
TZNAME:EDT
END:DAYLIGHT
BEGIN:STANDARD
DTSTART:20261101T010000
TZOFFSETFROM:-0400
TZOFFSETTO:-0500
RRULE:FREQ=YEARLY;BYDAY=1SU;BYMONTH=11
TZNAME:EST
END:STANDARD
END:VTIMEZONE
BEGIN:VEVENT
DTSTAMP:20260423T085232Z
UID:93a6a4f0-3f5f-487c-831f-7df6efd78e95
DTSTART:20260424T133000
DTEND:20260424T193000
DESCRIPTION:
LOCATION:Kent City High School Athletic Field\, 200 N Clover St\, Kent City
 \, MI 49330\, USA
SUMMARY:Track @ Kent City Invite
END:VEVENT
BEGIN:VEVENT
DTSTAMP:20260423T085232Z
UID:fca15339-e1ed-4360-9ab8-7e825c46ba66
DTSTART:20260424T180000
DTEND:20260424T203000
DESCRIPTION:
LOCATION:Lawton High School\, 101 Blue Pride Dr\, Lawton\, MI 49065\, USA
SUMMARY:Soccer vs. Bangor
END:VEVENT
BEGIN:VEVENT
DTSTAMP:20260423T085232Z
UID:d024ab80-d722-4d3c-925b-69c092e82e7a
DTSTART;VALUE=DATE:20260425
DTEND;VALUE=DATE:20260426
DESCRIPTION:
LOCATION:The Old Winery Venue\, 646 N Nursery St\, Lawton\, MI 49065\, USA
SUMMARY:Prom
END:VEVENT
BEGIN:VEVENT
DTSTAMP:20260423T085232Z
UID:8f557305-4d54-43d7-b284-3c91e9ce71b2
DTSTART:20260425T090000
DTEND:20260425T140000
DESCRIPTION:
LOCATION:
SUMMARY:Golf Blue Devil Invite
END:VEVENT
BEGIN:VEVENT
DTSTAMP:20260423T085232Z
UID:83fedda3-f690-4ca0-b495-9a24ebc97adc
DTSTART;VALUE=DATE:20260505
DTEND;VALUE=DATE:20260506
DESCRIPTION:
LOCATION:
SUMMARY:AP U.S. Government & Politics test
END:VEVENT
BEGIN:VEVENT
DTSTAMP:20260423T085232Z
UID:2057b2b6-a152-4245-9940-de4989a66799
DTSTART;VALUE=DATE:20260506
DTEND;VALUE=DATE:20260507
DESCRIPTION:
LOCATION:
SUMMARY:AP English Literature & Composition Test
END:VEVENT
BEGIN:VEVENT
DTSTAMP:20260423T085232Z
UID:95c79bd6-6e2f-47f8-880c-4ae226164026
DTSTART;VALUE=DATE:20260511
DTEND;VALUE=DATE:20260512
DESCRIPTION:
LOCATION:
SUMMARY:AP Calculus Test
END:VEVENT
BEGIN:VEVENT
DTSTAMP:20260423T085232Z
UID:ba137656-7941-4017-8839-c923ae3cba09
DTSTART:20260512T173000
DTEND:20260512T200000
DESCRIPTION:
LOCATION:
SUMMARY:Senior Awards Night
END:VEVENT
BEGIN:VEVENT
DTSTAMP:20260423T085232Z
UID:94b8df42-761a-4339-b027-10f4bbe15ef5
DTSTART;VALUE=DATE:20260514
DTEND;VALUE=DATE:20260515
DESCRIPTION:
LOCATION:
SUMMARY:AP Spanish Test
END:VEVENT
BEGIN:VEVENT
DTSTAMP:20260423T085232Z
UID:e1652cde-fb3e-4ca3-9c73-dadac76b290f
DTSTART:20260514T183000
DTEND:20260514T193000
DESCRIPTION:
LOCATION:HS gym
SUMMARY:College Arts presentation
END:VEVENT
BEGIN:VEVENT
DTSTAMP:20260423T085232Z
UID:7fbc9e46-560e-4fbb-af6d-99f8245fbc34
DTSTART;VALUE=DATE:20260515
DTEND;VALUE=DATE:20260516
DESCRIPTION:
LOCATION:
SUMMARY:Seniors' last "regular" day of school
END:VEVENT
BEGIN:VEVENT
DTSTAMP:20260423T085232Z
UID:e6113277-a499-4463-b968-f3d6f905df34
DTSTART;VALUE=DATE:20260518
DTEND;VALUE=DATE:20260519
DESCRIPTION:
LOCATION:
SUMMARY:Senior Exams (1st - 3rd hours)
END:VEVENT
BEGIN:VEVENT
DTSTAMP:20260423T085232Z
UID:a3a98b64-4bd6-4192-9739-d185761f20d3
DTSTART;VALUE=DATE:20260519
DTEND;VALUE=DATE:20260520
DESCRIPTION:
LOCATION:
SUMMARY:Senior Exams (4th - 5th hours)
END:VEVENT
BEGIN:VEVENT
DTSTAMP:20260423T085232Z
UID:54e32ba4-ecc9-4490-ad2b-8a0934b38c29
DTSTART;VALUE=DATE:20260525
DTEND;VALUE=DATE:20260526
DESCRIPTION:
LOCATION:
SUMMARY:No School - Memorial Day
END:VEVENT
BEGIN:VEVENT
DTSTAMP:20260423T085232Z
UID:d4174d41-73d2-4cea-a412-16622f4a48df
DTSTART;VALUE=DATE:20260527
DTEND;VALUE=DATE:20260528
DESCRIPTION:
LOCATION:
SUMMARY:Senior Trip
END:VEVENT
BEGIN:VEVENT
DTSTAMP:20260423T085232Z
UID:69cff6d6-a6e9-469a-bba4-4fcddd2ee0a2
DTSTART:20260529T121500
DTEND:20260529T141500
DESCRIPTION:
LOCATION:
SUMMARY:Senior Walk & Graduation practice
END:VEVENT
BEGIN:VEVENT
DTSTAMP:20260423T085232Z
UID:0981bb29-d31f-43b8-ad20-1edd94a6804e
DTSTART:20260529T180000
DTEND:20260529T193000
DESCRIPTION:
LOCATION:
SUMMARY:Graduation
END:VEVENT
BEGIN:VEVENT
DTSTAMP:20260423T085232Z
UID:d1dd9342-950c-4786-896d-722c0300442b
DTSTART;VALUE=DATE:20260603
DTEND;VALUE=DATE:20260604
DESCRIPTION:
LOCATION:
SUMMARY:Final Exams
END:VEVENT
BEGIN:VEVENT
DTSTAMP:20260423T085232Z
UID:573e5f5e-7569-4847-943f-325d24907e27
DTSTART;VALUE=DATE:20260603
DTEND;VALUE=DATE:20260604
DESCRIPTION:
LOCATION:
SUMMARY:Half Day for Students
END:VEVENT
BEGIN:VEVENT
DTSTAMP:20260423T085232Z
UID:28d080b8-ecef-4a3c-ab63-cc16c6fdcccc
DTSTART;VALUE=DATE:20260604
DTEND;VALUE=DATE:20260605
DESCRIPTION:
LOCATION:
SUMMARY:Final Day of School!!
END:VEVENT
BEGIN:VEVENT
DTSTAMP:20260423T085232Z
UID:904f3b51-dfb2-4e44-a53e-20c0c932fdf0
DTSTART;VALUE=DATE:20260604
DTEND;VALUE=DATE:20260605
DESCRIPTION:
LOCATION:
SUMMARY:Final Exams
END:VEVENT
BEGIN:VEVENT
DTSTAMP:20260423T085232Z
UID:af0da316-6505-4963-918d-e4ff15b8c0ff
DTSTART;VALUE=DATE:20260604
DTEND;VALUE=DATE:20260605
DESCRIPTION:
LOCATION:
SUMMARY:Half Day for Students
END:VEVENT
END:VCALENDAR
