BEGIN:VCALENDAR
VERSION:2.0
PRODID:icalendar-ruby
CALSCALE:GREGORIAN
BEGIN:VTIMEZONE
TZID:America/Denver
BEGIN:DAYLIGHT
DTSTART:20260308T030000
TZOFFSETFROM:-0700
TZOFFSETTO:-0600
RRULE:FREQ=YEARLY;BYDAY=2SU;BYMONTH=3
TZNAME:MDT
END:DAYLIGHT
BEGIN:STANDARD
DTSTART:20261101T010000
TZOFFSETFROM:-0600
TZOFFSETTO:-0700
RRULE:FREQ=YEARLY;BYDAY=1SU;BYMONTH=11
TZNAME:MST
END:STANDARD
END:VTIMEZONE
BEGIN:VEVENT
DTSTAMP:20260425T222720Z
UID:42c741d0-0591-4d44-9ffe-1626f02f378b
DTSTART:20260522T083000
DTEND:20260522T123000
DESCRIPTION:<p>Ramah Elementary students will dive into the technical world
  of robotics and how it shapes society. </p>
LOCATION:Ramah Elementary 
SUMMARY:Secret World of Robots Assembly
END:VEVENT
BEGIN:VEVENT
DTSTAMP:20260425T222720Z
UID:f1a51ef8-4f77-4695-92c9-ec6b464b0c1f
DTSTART:20260526T080000
DTEND:20260526T144500
DESCRIPTION:<p>RAE students will visit the Mining Museum to learn about the
  history of mining in NM and experience the interactive exhibits that simu
 late mining. </p>
LOCATION:Mining Museum - Grants NM
SUMMARY:Mining Museum Field Trip
END:VEVENT
BEGIN:VEVENT
DTSTAMP:20260425T222720Z
UID:0ee134ce-c8d3-4a76-ab6c-e75566bccb2c
DTSTART:20260602T083000
DTEND:20260602T123000
DESCRIPTION:<p><span>RAE students will have hands-on experience with robots
 \, virtual reality\, 3D printing\, art\, and engineering. </span></p>
LOCATION:Ramah Elementary
SUMMARY:STEAM Museum Assembly
END:VEVENT
END:VCALENDAR
