BEGIN:VCALENDAR
VERSION:2.0
PRODID:icalendar-ruby
CALSCALE:GREGORIAN
BEGIN:VTIMEZONE
TZID:America/Denver
BEGIN:DAYLIGHT
DTSTART:20260308T030000
TZOFFSETFROM:-0700
TZOFFSETTO:-0600
RRULE:FREQ=YEARLY;BYDAY=2SU;BYMONTH=3
TZNAME:MDT
END:DAYLIGHT
BEGIN:STANDARD
DTSTART:20261101T010000
TZOFFSETFROM:-0600
TZOFFSETTO:-0700
RRULE:FREQ=YEARLY;BYDAY=1SU;BYMONTH=11
TZNAME:MST
END:STANDARD
END:VTIMEZONE
BEGIN:VEVENT
DTSTAMP:20260421T220015Z
UID:38d64630-503b-4f7d-92f2-a4ce2a78477b
DTSTART:20260421T080000
DTEND:20260422T024500
DESCRIPTION:<p>NM-MSSA in full swing starting Tuesday\, April 21 to Wednesd
 ay\, April 22\, 2026. Please be here. We are aiming for perfect attendance
  for all 5th and 6th graders. <strong><em>Who do you predict will be PERFE
 CT!</em></strong></p>
LOCATION:Navajo\, NM 87328\, USA
SUMMARY:5th & 6th Grade NM-MSSA Testing
END:VEVENT
BEGIN:VEVENT
DTSTAMP:20260421T220015Z
UID:3ce38d30-98e4-4686-83f6-fc03cef7b740
DTSTART;VALUE=DATE:20260427
DTEND;VALUE=DATE:20260428
DESCRIPTION:
LOCATION:
SUMMARY:Navajo Sovereignty Day - No School 
END:VEVENT
BEGIN:VEVENT
DTSTAMP:20260421T220015Z
UID:01e4b042-540a-4232-a2c3-1ad559a7ca33
DTSTART;VALUE=DATE:20260525
DTEND;VALUE=DATE:20260526
DESCRIPTION:
LOCATION:
SUMMARY:Memorial Day - No School 
END:VEVENT
BEGIN:VEVENT
DTSTAMP:20260421T220015Z
UID:5fc35781-036f-41b5-acd5-58238e506633
DTSTART;VALUE=DATE:20260609
DTEND;VALUE=DATE:20260610
DESCRIPTION:
LOCATION:
SUMMARY:Last Day of School (Tentative) 
END:VEVENT
BEGIN:VEVENT
DTSTAMP:20260421T220015Z
UID:5692c59c-85ce-40d1-946a-4460c65b36f4
DTSTART;VALUE=DATE:20260609
DTEND;VALUE=DATE:20260610
DESCRIPTION:
LOCATION:
SUMMARY:Quarter 4 Ends
END:VEVENT
END:VCALENDAR
