BEGIN:VCALENDAR
VERSION:2.0
PRODID:icalendar-ruby
CALSCALE:GREGORIAN
BEGIN:VTIMEZONE
TZID:America/Chicago
BEGIN:DAYLIGHT
DTSTART:20260308T030000
TZOFFSETFROM:-0600
TZOFFSETTO:-0500
RRULE:FREQ=YEARLY;BYDAY=2SU;BYMONTH=3
TZNAME:CDT
END:DAYLIGHT
BEGIN:STANDARD
DTSTART:20261101T010000
TZOFFSETFROM:-0500
TZOFFSETTO:-0600
RRULE:FREQ=YEARLY;BYDAY=1SU;BYMONTH=11
TZNAME:CST
END:STANDARD
END:VTIMEZONE
BEGIN:VEVENT
DTSTAMP:20260425T125328Z
UID:1d002aae-cdd2-4943-9b5a-a42c70cc698e
DTSTART:20260427T170000
DTEND:20260427T190000
DESCRIPTION:<p>To view the meeting's agenda\, follow the link: <a href="htt
 ps://townofnolensvilletn.sites.thrillshare.com/page/live-stream-and-agenda
 s" target="_blank" rel="noopener noreferrer nofollow" path-prefix="">https
 ://townofnolensvilletn.sites.thrillshare.com/page/live-stream-and-agendas<
 /a></p>
LOCATION:7218 Nolensville Rd\, Nolensville\, TN 37135\, USA
SUMMARY:Town Commission Work Session
END:VEVENT
BEGIN:VEVENT
DTSTAMP:20260425T125328Z
UID:1bbd8da8-6d7a-4532-b7fb-961d70916ca8
DTSTART:20260502T100000
DTEND:20260502T170000
DESCRIPTION:<p><span>The Nolensville Buttercup Festival celebrates the ART\
 , MUSIC\, FOOD\, &amp\; CREATIVITY\, embodying our small-town\, BIG-❤️
  spirit. By uniting artisans\, businesses &amp\; performers\, it creates a
  vibrant space where neighbors come together to celebrate the history of N
 olensville.</span></p><p style="text-align: left"><span>Join us for our 20
 26 Historic Nolensville Buttercup Festival on Saturday\, May 2!</span></p>
LOCATION:7265 Nolensville Rd\, Nolensville\, TN 37135\, USA
SUMMARY:Historic Nolensville Buttercup Festival
END:VEVENT
BEGIN:VEVENT
DTSTAMP:20260425T125328Z
UID:6b887424-9b62-4f79-8378-856f86dcf059
DTSTART:20260507T183000
DTEND:20260507T200000
DESCRIPTION:<p><span>To view the meeting's agenda\, follow the link: </span
 ><a href="https://townofnolensvilletn.sites.thrillshare.com/page/live-stre
 am-and-agendas" target="_blank" rel="noopener noreferrer nofollow" path-pr
 efix="">https://townofnolensvilletn.sites.thrillshare.com/page/live-stream
 -and-agendas</a></p>
LOCATION:7218 Nolensville Rd\, Nolensville\, TN 37135\, USA
SUMMARY:Town Commission Meeting
END:VEVENT
BEGIN:VEVENT
DTSTAMP:20260425T125328Z
UID:41d382e1-c540-40f5-91c2-25643cb9ca27
DTSTART:20260509T120000
DTEND:20260509T130000
DESCRIPTION:<p>Join us Saturday\, May 9 at 12:00 p.m. for the ribbon cuttin
 g of Spartan Martial Arts.</p>
LOCATION:7175 Nolensville Rd Suite 205 Nolensville\, TN 37135
SUMMARY:Spartan Martial Arts Ribbon Cutting
END:VEVENT
BEGIN:VEVENT
DTSTAMP:20260425T125328Z
UID:860fd2a0-6506-4b18-8d30-7eb4141e7b99
DTSTART:20260512T170000
DTEND:20260512T183000
DESCRIPTION:<p>To view the meeting's agenda\, follow the link: <a target="_
 blank" rel="noopener noreferrer nofollow" href="https://townofnolensvillet
 n.sites.thrillshare.com/page/live-stream-and-agendas" path-prefix="">https
 ://townofnolensvilletn.sites.thrillshare.com/page/live-stream-and-agendas<
 /a></p>
LOCATION:7218 Nolensville Rd\, Nolensville\, TN 37135\, USA
SUMMARY:Trail\, Arts\, Park\, and Streetscapes Advisory Committee Meeting
END:VEVENT
BEGIN:VEVENT
DTSTAMP:20260425T125328Z
UID:1df5c5a9-1c55-448f-8e04-ce4b3c99dc1b
DTSTART:20260512T183000
DTEND:20260512T200000
DESCRIPTION:<p>To view the meeting's agenda\, follow the link: <a href="htt
 ps://townofnolensvilletn.sites.thrillshare.com/page/live-stream-and-agenda
 s" target="_blank" rel="noopener noreferrer nofollow" path-prefix="">https
 ://townofnolensvilletn.sites.thrillshare.com/page/live-stream-and-agendas<
 /a></p>
LOCATION:7218 Nolensville Rd\, Nolensville\, TN 37135\, USA
SUMMARY:Planning Commission
END:VEVENT
BEGIN:VEVENT
DTSTAMP:20260425T125328Z
UID:4f789717-80c3-40a3-8703-7f5fce599681
DTSTART:20260514T163000
DTEND:20260514T180000
DESCRIPTION:<p>To view the meeting's agenda\, follow the link: <a target="_
 blank" rel="noopener noreferrer nofollow" href="https://townofnolensvillet
 n.sites.thrillshare.com/page/live-stream-and-agendas">https://townofnolens
 villetn.sites.thrillshare.com/page/live-stream-and-agendas</a></p>
LOCATION:7218 Nolensville Rd\, Nolensville\, TN 37135\, USA
SUMMARY:Town Events Advisory Committee
END:VEVENT
BEGIN:VEVENT
DTSTAMP:20260425T125328Z
UID:31c6824e-1295-4f7f-952f-a05054c79102
DTSTART:20260518T170000
DTEND:20260518T190000
DESCRIPTION:<p>To view the meeting's agenda\, follow the link: <a href="htt
 ps://townofnolensvilletn.sites.thrillshare.com/page/live-stream-and-agenda
 s" target="_blank" rel="noopener noreferrer nofollow" path-prefix="">https
 ://townofnolensvilletn.sites.thrillshare.com/page/live-stream-and-agendas<
 /a></p>
LOCATION:7218 Nolensville Rd\, Nolensville\, TN 37135\, USA
SUMMARY:Town Commission Work Session
END:VEVENT
BEGIN:VEVENT
DTSTAMP:20260425T125328Z
UID:2e46b188-266c-475d-9acf-0ee58f8698be
DTSTART:20260528T160000
DTEND:20260528T173000
DESCRIPTION:<p><span>To view the meeting's agenda\, follow the link: </span
 ><a target="_blank" rel="noopener noreferrer nofollow" href="https://towno
 fnolensvilletn.sites.thrillshare.com/page/live-stream-and-agendas">https:/
 /townofnolensvilletn.sites.thrillshare.com/page/live-stream-and-agendas</a
 ></p>
LOCATION:7218 Nolensville Rd\, Nolensville\, TN 37135\, USA
SUMMARY:Economic Development Advisory Committee Meeting
END:VEVENT
BEGIN:VEVENT
DTSTAMP:20260425T125328Z
UID:3cc748b3-71ce-4d5a-9eb1-c03e0087a08e
DTSTART:20260604T183000
DTEND:20260604T200000
DESCRIPTION:<p><span>To view the meeting's agenda\, follow the link: </span
 ><a href="https://townofnolensvilletn.sites.thrillshare.com/page/live-stre
 am-and-agendas" target="_blank" rel="noopener noreferrer nofollow" path-pr
 efix="">https://townofnolensvilletn.sites.thrillshare.com/page/live-stream
 -and-agendas</a></p>
LOCATION:7218 Nolensville Rd\, Nolensville\, TN 37135\, USA
SUMMARY:Town Commission Meeting
END:VEVENT
BEGIN:VEVENT
DTSTAMP:20260425T125328Z
UID:aceb8154-ea61-47ea-814b-35daff0d705b
DTSTART:20260609T170000
DTEND:20260609T183000
DESCRIPTION:<p>To view the meeting's agenda\, follow the link: <a target="_
 blank" rel="noopener noreferrer nofollow" href="https://townofnolensvillet
 n.sites.thrillshare.com/page/live-stream-and-agendas" path-prefix="">https
 ://townofnolensvilletn.sites.thrillshare.com/page/live-stream-and-agendas<
 /a></p>
LOCATION:7218 Nolensville Rd\, Nolensville\, TN 37135\, USA
SUMMARY:Trail\, Arts\, Park\, and Streetscapes Advisory Committee Meeting
END:VEVENT
BEGIN:VEVENT
DTSTAMP:20260425T125328Z
UID:a50dc5e9-e43b-46e1-bbdf-74508d3b8433
DTSTART:20260609T183000
DTEND:20260609T200000
DESCRIPTION:<p>To view the meeting's agenda\, follow the link: <a href="htt
 ps://townofnolensvilletn.sites.thrillshare.com/page/live-stream-and-agenda
 s" target="_blank" rel="noopener noreferrer nofollow" path-prefix="">https
 ://townofnolensvilletn.sites.thrillshare.com/page/live-stream-and-agendas<
 /a></p>
LOCATION:7218 Nolensville Rd\, Nolensville\, TN 37135\, USA
SUMMARY:Planning Commission
END:VEVENT
BEGIN:VEVENT
DTSTAMP:20260425T125328Z
UID:e90e2ef5-cfc4-4ae1-abcb-ee452b7e92fb
DTSTART:20260611T163000
DTEND:20260611T180000
DESCRIPTION:<p>To view the meeting's agenda\, follow the link: <a target="_
 blank" rel="noopener noreferrer nofollow" href="https://townofnolensvillet
 n.sites.thrillshare.com/page/live-stream-and-agendas" path-prefix="">https
 ://townofnolensvilletn.sites.thrillshare.com/page/live-stream-and-agendas<
 /a></p>
LOCATION:7218 Nolensville Rd\, Nolensville\, TN 37135\, USA
SUMMARY:Town Events Advisory Committee
END:VEVENT
BEGIN:VEVENT
DTSTAMP:20260425T125328Z
UID:d97ec6fd-5d55-4f36-831e-9faa516aa45e
DTSTART:20260615T170000
DTEND:20260615T190000
DESCRIPTION:<p>To view the meeting's agenda\, follow the link: <a href="htt
 ps://townofnolensvilletn.sites.thrillshare.com/page/live-stream-and-agenda
 s" target="_blank" rel="noopener noreferrer nofollow" path-prefix="">https
 ://townofnolensvilletn.sites.thrillshare.com/page/live-stream-and-agendas<
 /a></p>
LOCATION:7218 Nolensville Rd\, Nolensville\, TN 37135\, USA
SUMMARY:Town Commission Work Session
END:VEVENT
BEGIN:VEVENT
DTSTAMP:20260425T125328Z
UID:8174637b-4011-4270-9498-7017537a30b9
DTSTART:20260625T160000
DTEND:20260625T173000
DESCRIPTION:<p><span>To view the meeting's agenda\, follow the link: </span
 ><a target="_blank" rel="noopener noreferrer nofollow" href="https://towno
 fnolensvilletn.sites.thrillshare.com/page/live-stream-and-agendas">https:/
 /townofnolensvilletn.sites.thrillshare.com/page/live-stream-and-agendas</a
 ></p>
LOCATION:7218 Nolensville Rd\, Nolensville\, TN 37135\, USA
SUMMARY:Economic Development Advisory Committee Meeting
END:VEVENT
BEGIN:VEVENT
DTSTAMP:20260425T125328Z
UID:ef176bcf-a23b-4b0c-bb1d-b3f0cda321ee
DTSTART:20260706T183000
DTEND:20260706T200000
DESCRIPTION:<p>To view the meeting's agenda\, follow the link: <a href="htt
 ps://townofnolensvilletn.sites.thrillshare.com/page/live-stream-and-agenda
 s" target="_blank" rel="noopener noreferrer nofollow" path-prefix="">https
 ://townofnolensvilletn.sites.thrillshare.com/page/live-stream-and-agendas<
 /a></p>
LOCATION:7218 Nolensville Rd\, Nolensville\, TN 37135\, USA
SUMMARY:Town Commission Meeting
END:VEVENT
BEGIN:VEVENT
DTSTAMP:20260425T125328Z
UID:29543cfa-802f-4f8d-a4c7-be5a58ff6ba8
DTSTART:20260709T163000
DTEND:20260709T180000
DESCRIPTION:<p>To view the meeting's agenda\, follow the link: <a target="_
 blank" rel="noopener noreferrer nofollow" href="https://townofnolensvillet
 n.sites.thrillshare.com/page/live-stream-and-agendas" path-prefix="">https
 ://townofnolensvilletn.sites.thrillshare.com/page/live-stream-and-agendas<
 /a></p>
LOCATION:7218 Nolensville Rd\, Nolensville\, TN 37135\, USA
SUMMARY:Town Events Advisory Committee
END:VEVENT
BEGIN:VEVENT
DTSTAMP:20260425T125328Z
UID:097cd7d5-7efc-4314-a091-883885a396f6
DTSTART:20260714T170000
DTEND:20260714T183000
DESCRIPTION:<p>To view the meeting's agenda\, follow the link: <a target="_
 blank" rel="noopener noreferrer nofollow" href="https://townofnolensvillet
 n.sites.thrillshare.com/page/live-stream-and-agendas" path-prefix="">https
 ://townofnolensvilletn.sites.thrillshare.com/page/live-stream-and-agendas<
 /a></p>
LOCATION:7218 Nolensville Rd\, Nolensville\, TN 37135\, USA
SUMMARY:Trail\, Arts\, Park\, and Streetscapes Advisory Committee Meeting
END:VEVENT
BEGIN:VEVENT
DTSTAMP:20260425T125328Z
UID:ab8bfc05-cd22-43ee-9fa2-c142d9d135e6
DTSTART:20260714T183000
DTEND:20260714T200000
DESCRIPTION:<p>To view the meeting's agenda\, follow the link: <a href="htt
 ps://townofnolensvilletn.sites.thrillshare.com/page/live-stream-and-agenda
 s" target="_blank" rel="noopener noreferrer nofollow" path-prefix="">https
 ://townofnolensvilletn.sites.thrillshare.com/page/live-stream-and-agendas<
 /a></p>
LOCATION:7218 Nolensville Rd\, Nolensville\, TN 37135\, USA
SUMMARY:Planning Commission
END:VEVENT
BEGIN:VEVENT
DTSTAMP:20260425T125328Z
UID:37e957d4-b421-4dee-bc22-5882765837c3
DTSTART:20260723T160000
DTEND:20260723T173000
DESCRIPTION:<p><span>To view the meeting's agenda\, follow the link: </span
 ><a target="_blank" rel="noopener noreferrer nofollow" href="https://towno
 fnolensvilletn.sites.thrillshare.com/page/live-stream-and-agendas">https:/
 /townofnolensvilletn.sites.thrillshare.com/page/live-stream-and-agendas</a
 ></p>
LOCATION:7218 Nolensville Rd\, Nolensville\, TN 37135\, USA
SUMMARY:Economic Development Advisory Committee Meeting
END:VEVENT
BEGIN:VEVENT
DTSTAMP:20260425T125328Z
UID:5847c525-99e5-4032-a906-bd0738cb8b27
DTSTART:20260727T170000
DTEND:20260727T190000
DESCRIPTION:<p>To view the meeting's agenda\, follow the link: <a href="htt
 ps://townofnolensvilletn.sites.thrillshare.com/page/live-stream-and-agenda
 s" target="_blank" rel="noopener noreferrer nofollow" path-prefix="">https
 ://townofnolensvilletn.sites.thrillshare.com/page/live-stream-and-agendas<
 /a></p>
LOCATION:7218 Nolensville Rd\, Nolensville\, TN 37135\, USA
SUMMARY:Town Commission Work Session
END:VEVENT
BEGIN:VEVENT
DTSTAMP:20260425T125328Z
UID:f3560b6f-1355-498a-9dec-4833599bc3ed
DTSTART:20260806T183000
DTEND:20260806T200000
DESCRIPTION:<p>To view the meeting's agenda\, follow the link: <a href="htt
 ps://townofnolensvilletn.sites.thrillshare.com/page/live-stream-and-agenda
 s" target="_blank" rel="noopener noreferrer nofollow" path-prefix="">https
 ://townofnolensvilletn.sites.thrillshare.com/page/live-stream-and-agendas<
 /a></p>
LOCATION:7218 Nolensville Rd\, Nolensville\, TN 37135\, USA
SUMMARY:Town Commission Meeting
END:VEVENT
BEGIN:VEVENT
DTSTAMP:20260425T125328Z
UID:ed5b85c0-1969-4ef1-a407-caba4acd13e4
DTSTART:20260811T170000
DTEND:20260811T183000
DESCRIPTION:<p>To view the meeting's agenda\, follow the link: <a target="_
 blank" rel="noopener noreferrer nofollow" href="https://townofnolensvillet
 n.sites.thrillshare.com/page/live-stream-and-agendas" path-prefix="">https
 ://townofnolensvilletn.sites.thrillshare.com/page/live-stream-and-agendas<
 /a></p>
LOCATION:7218 Nolensville Rd\, Nolensville\, TN 37135\, USA
SUMMARY:Trail\, Arts\, Park\, and Streetscapes Advisory Committee Meeting
END:VEVENT
BEGIN:VEVENT
DTSTAMP:20260425T125328Z
UID:09e13d67-f9bb-4761-8244-710b23993240
DTSTART:20260811T183000
DTEND:20260811T200000
DESCRIPTION:<p>To view the meeting's agenda\, follow the link: <a href="htt
 ps://townofnolensvilletn.sites.thrillshare.com/page/live-stream-and-agenda
 s" target="_blank" rel="noopener noreferrer nofollow" path-prefix="">https
 ://townofnolensvilletn.sites.thrillshare.com/page/live-stream-and-agendas<
 /a></p>
LOCATION:7218 Nolensville Rd\, Nolensville\, TN 37135\, USA
SUMMARY:Planning Commission
END:VEVENT
BEGIN:VEVENT
DTSTAMP:20260425T125328Z
UID:b2a4ca35-64b7-4bb0-ade0-20b2013bdb80
DTSTART:20260813T163000
DTEND:20260813T180000
DESCRIPTION:<p>To view the meeting's agenda\, follow the link: <a target="_
 blank" rel="noopener noreferrer nofollow" href="https://townofnolensvillet
 n.sites.thrillshare.com/page/live-stream-and-agendas" path-prefix="">https
 ://townofnolensvilletn.sites.thrillshare.com/page/live-stream-and-agendas<
 /a></p>
LOCATION:7218 Nolensville Rd\, Nolensville\, TN 37135\, USA
SUMMARY:Town Events Advisory Committee
END:VEVENT
BEGIN:VEVENT
DTSTAMP:20260425T125328Z
UID:0f329efc-c831-4326-a51e-bc71901ddfec
DTSTART:20260824T170000
DTEND:20260824T190000
DESCRIPTION:<p>To view the meeting's agenda\, follow the link: <a href="htt
 ps://townofnolensvilletn.sites.thrillshare.com/page/live-stream-and-agenda
 s" target="_blank" rel="noopener noreferrer nofollow" path-prefix="">https
 ://townofnolensvilletn.sites.thrillshare.com/page/live-stream-and-agendas<
 /a></p>
LOCATION:7218 Nolensville Rd\, Nolensville\, TN 37135\, USA
SUMMARY:Town Commission Work Session
END:VEVENT
BEGIN:VEVENT
DTSTAMP:20260425T125328Z
UID:11e81cf7-a456-481c-a869-413e5fa457fa
DTSTART:20260827T160000
DTEND:20260827T173000
DESCRIPTION:<p><span>To view the meeting's agenda\, follow the link: </span
 ><a target="_blank" rel="noopener noreferrer nofollow" href="https://towno
 fnolensvilletn.sites.thrillshare.com/page/live-stream-and-agendas">https:/
 /townofnolensvilletn.sites.thrillshare.com/page/live-stream-and-agendas</a
 ></p>
LOCATION:7218 Nolensville Rd\, Nolensville\, TN 37135\, USA
SUMMARY:Economic Development Advisory Committee Meeting
END:VEVENT
BEGIN:VEVENT
DTSTAMP:20260425T125328Z
UID:f66cfba9-4d5d-4dc7-8b69-8d1370a3664d
DTSTART:20260903T183000
DTEND:20260903T200000
DESCRIPTION:<p>To view the meeting's agenda\, follow the link: <a href="htt
 ps://townofnolensvilletn.sites.thrillshare.com/page/live-stream-and-agenda
 s" target="_blank" rel="noopener noreferrer nofollow" path-prefix="">https
 ://townofnolensvilletn.sites.thrillshare.com/page/live-stream-and-agendas<
 /a></p>
LOCATION:7218 Nolensville Rd\, Nolensville\, TN 37135\, USA
SUMMARY:Town Commission Meeting
END:VEVENT
BEGIN:VEVENT
DTSTAMP:20260425T125328Z
UID:a2a6b56c-312b-4bce-a1ec-1a4d6d8b6410
DTSTART:20260908T170000
DTEND:20260908T183000
DESCRIPTION:<p>To view the meeting's agenda\, follow the link: <a target="_
 blank" rel="noopener noreferrer nofollow" href="https://townofnolensvillet
 n.sites.thrillshare.com/page/live-stream-and-agendas" path-prefix="">https
 ://townofnolensvilletn.sites.thrillshare.com/page/live-stream-and-agendas<
 /a></p>
LOCATION:7218 Nolensville Rd\, Nolensville\, TN 37135\, USA
SUMMARY:Trail\, Arts\, Park\, and Streetscapes Advisory Committee Meeting
END:VEVENT
BEGIN:VEVENT
DTSTAMP:20260425T125328Z
UID:90b050ac-1614-4a7a-a8bc-fe026f76f777
DTSTART:20260908T183000
DTEND:20260908T200000
DESCRIPTION:<p>To view the meeting's agenda\, follow the link: <a href="htt
 ps://townofnolensvilletn.sites.thrillshare.com/page/live-stream-and-agenda
 s" target="_blank" rel="noopener noreferrer nofollow" path-prefix="">https
 ://townofnolensvilletn.sites.thrillshare.com/page/live-stream-and-agendas<
 /a></p>
LOCATION:7218 Nolensville Rd\, Nolensville\, TN 37135\, USA
SUMMARY:Planning Commission
END:VEVENT
BEGIN:VEVENT
DTSTAMP:20260425T125328Z
UID:c11d9116-3b30-4e21-bd1b-5954657ce39a
DTSTART:20260910T163000
DTEND:20260910T180000
DESCRIPTION:<p>To view the meeting's agenda\, follow the link: <a target="_
 blank" rel="noopener noreferrer nofollow" href="https://townofnolensvillet
 n.sites.thrillshare.com/page/live-stream-and-agendas" path-prefix="">https
 ://townofnolensvilletn.sites.thrillshare.com/page/live-stream-and-agendas<
 /a></p>
LOCATION:7218 Nolensville Rd\, Nolensville\, TN 37135\, USA
SUMMARY:Town Events Advisory Committee
END:VEVENT
BEGIN:VEVENT
DTSTAMP:20260425T125328Z
UID:278d38ce-0aa8-414b-b6c5-fe43fecebbb0
DTSTART:20260921T170000
DTEND:20260921T190000
DESCRIPTION:<p>To view the meeting's agenda\, follow the link: <a href="htt
 ps://townofnolensvilletn.sites.thrillshare.com/page/live-stream-and-agenda
 s" target="_blank" rel="noopener noreferrer nofollow" path-prefix="">https
 ://townofnolensvilletn.sites.thrillshare.com/page/live-stream-and-agendas<
 /a></p>
LOCATION:7218 Nolensville Rd\, Nolensville\, TN 37135\, USA
SUMMARY:Town Commission Work Session
END:VEVENT
BEGIN:VEVENT
DTSTAMP:20260425T125328Z
UID:13081a7e-ff28-4bbd-b776-e35bf704c616
DTSTART:20260924T160000
DTEND:20260924T173000
DESCRIPTION:<p><span>To view the meeting's agenda\, follow the link: </span
 ><a target="_blank" rel="noopener noreferrer nofollow" href="https://towno
 fnolensvilletn.sites.thrillshare.com/page/live-stream-and-agendas">https:/
 /townofnolensvilletn.sites.thrillshare.com/page/live-stream-and-agendas</a
 ></p>
LOCATION:7218 Nolensville Rd\, Nolensville\, TN 37135\, USA
SUMMARY:Economic Development Advisory Committee Meeting
END:VEVENT
BEGIN:VEVENT
DTSTAMP:20260425T125328Z
UID:9baa530c-e4c7-4ba2-a9ab-7ae85915a203
DTSTART:20261001T183000
DTEND:20261001T200000
DESCRIPTION:<p>To view the meeting's agenda\, follow the link: <a href="htt
 ps://townofnolensvilletn.sites.thrillshare.com/page/live-stream-and-agenda
 s" target="_blank" rel="noopener noreferrer nofollow" path-prefix="">https
 ://townofnolensvilletn.sites.thrillshare.com/page/live-stream-and-agendas<
 /a></p>
LOCATION:7218 Nolensville Rd\, Nolensville\, TN 37135\, USA
SUMMARY:Town Commission Meeting
END:VEVENT
BEGIN:VEVENT
DTSTAMP:20260425T125328Z
UID:ca3adcb3-3647-401e-8fe9-dc3b9c41073f
DTSTART:20261008T163000
DTEND:20261008T180000
DESCRIPTION:<p>To view the meeting's agenda\, follow the link: <a target="_
 blank" rel="noopener noreferrer nofollow" href="https://townofnolensvillet
 n.sites.thrillshare.com/page/live-stream-and-agendas" path-prefix="">https
 ://townofnolensvilletn.sites.thrillshare.com/page/live-stream-and-agendas<
 /a></p>
LOCATION:7218 Nolensville Rd\, Nolensville\, TN 37135\, USA
SUMMARY:Town Events Advisory Committee
END:VEVENT
BEGIN:VEVENT
DTSTAMP:20260425T125328Z
UID:b589fc4b-7175-48e5-8b13-c9e5a7bf67ef
DTSTART:20261013T170000
DTEND:20261013T183000
DESCRIPTION:<p>To view the meeting's agenda\, follow the link: <a target="_
 blank" rel="noopener noreferrer nofollow" href="https://townofnolensvillet
 n.sites.thrillshare.com/page/live-stream-and-agendas" path-prefix="">https
 ://townofnolensvilletn.sites.thrillshare.com/page/live-stream-and-agendas<
 /a></p>
LOCATION:7218 Nolensville Rd\, Nolensville\, TN 37135\, USA
SUMMARY:Trail\, Arts\, Park\, and Streetscapes Advisory Committee Meeting
END:VEVENT
BEGIN:VEVENT
DTSTAMP:20260425T125328Z
UID:120c1e49-079c-4828-b781-5c17244dc5cb
DTSTART:20261020T180000
DTEND:20261020T200000
DESCRIPTION:<p>To view the meeting's agenda\, follow the link: <a href="htt
 ps://townofnolensvilletn.sites.thrillshare.com/page/live-stream-and-agenda
 s" target="_blank" rel="noopener noreferrer nofollow" path-prefix="">https
 ://townofnolensvilletn.sites.thrillshare.com/page/live-stream-and-agendas<
 /a></p>
LOCATION:7218 Nolensville Rd\, Nolensville\, TN 37135\, USA
SUMMARY:Planning Commission
END:VEVENT
BEGIN:VEVENT
DTSTAMP:20260425T125328Z
UID:321acc05-c6c3-41ca-aa67-2ad8033fada7
DTSTART:20261022T160000
DTEND:20261022T173000
DESCRIPTION:<p><span>To view the meeting's agenda\, follow the link: </span
 ><a target="_blank" rel="noopener noreferrer nofollow" href="https://towno
 fnolensvilletn.sites.thrillshare.com/page/live-stream-and-agendas">https:/
 /townofnolensvilletn.sites.thrillshare.com/page/live-stream-and-agendas</a
 ></p>
LOCATION:7218 Nolensville Rd\, Nolensville\, TN 37135\, USA
SUMMARY:Economic Development Advisory Committee Meeting
END:VEVENT
BEGIN:VEVENT
DTSTAMP:20260425T125328Z
UID:f8f8d9c6-d9bc-413c-859c-eb8db73e84fe
DTSTART:20261026T170000
DTEND:20261026T190000
DESCRIPTION:<p>To view the meeting's agenda\, follow the link: <a href="htt
 ps://townofnolensvilletn.sites.thrillshare.com/page/live-stream-and-agenda
 s" target="_blank" rel="noopener noreferrer nofollow" path-prefix="">https
 ://townofnolensvilletn.sites.thrillshare.com/page/live-stream-and-agendas<
 /a></p>
LOCATION:7218 Nolensville Rd\, Nolensville\, TN 37135\, USA
SUMMARY:Town Commission Work Session
END:VEVENT
BEGIN:VEVENT
DTSTAMP:20260425T125328Z
UID:7e205a63-373f-4c4e-9884-ee6e72d626dc
DTSTART:20261105T183000
DTEND:20261105T200000
DESCRIPTION:<p>To view the meeting's agenda\, follow the link: <a href="htt
 ps://townofnolensvilletn.sites.thrillshare.com/page/live-stream-and-agenda
 s" target="_blank" rel="noopener noreferrer nofollow" path-prefix="">https
 ://townofnolensvilletn.sites.thrillshare.com/page/live-stream-and-agendas<
 /a></p>
LOCATION:7218 Nolensville Rd\, Nolensville\, TN 37135\, USA
SUMMARY:Town Commission Meeting
END:VEVENT
BEGIN:VEVENT
DTSTAMP:20260425T125328Z
UID:ef7c3433-5319-4d4b-980c-1c6f702bca2b
DTSTART:20261110T170000
DTEND:20261110T183000
DESCRIPTION:<p>To view the meeting's agenda\, follow the link: <a target="_
 blank" rel="noopener noreferrer nofollow" href="https://townofnolensvillet
 n.sites.thrillshare.com/page/live-stream-and-agendas" path-prefix="">https
 ://townofnolensvilletn.sites.thrillshare.com/page/live-stream-and-agendas<
 /a></p>
LOCATION:7218 Nolensville Rd\, Nolensville\, TN 37135\, USA
SUMMARY:Trail\, Arts\, Park\, and Streetscapes Advisory Committee Meeting
END:VEVENT
BEGIN:VEVENT
DTSTAMP:20260425T125328Z
UID:c4e512d2-f362-43fb-8956-f0623d8c137c
DTSTART:20261110T180000
DTEND:20261110T200000
DESCRIPTION:<p>To view the meeting's agenda\, follow the link: <a href="htt
 ps://townofnolensvilletn.sites.thrillshare.com/page/live-stream-and-agenda
 s" target="_blank" rel="noopener noreferrer nofollow" path-prefix="">https
 ://townofnolensvilletn.sites.thrillshare.com/page/live-stream-and-agendas<
 /a></p>
LOCATION:7218 Nolensville Rd\, Nolensville\, TN 37135\, USA
SUMMARY:Planning Commission
END:VEVENT
BEGIN:VEVENT
DTSTAMP:20260425T125328Z
UID:3efc7aa6-f2ae-425a-9d9f-25879278c536
DTSTART:20261112T163000
DTEND:20261112T180000
DESCRIPTION:<p>To view the meeting's agenda\, follow the link: <a target="_
 blank" rel="noopener noreferrer nofollow" href="https://townofnolensvillet
 n.sites.thrillshare.com/page/live-stream-and-agendas" path-prefix="">https
 ://townofnolensvilletn.sites.thrillshare.com/page/live-stream-and-agendas<
 /a></p>
LOCATION:7218 Nolensville Rd\, Nolensville\, TN 37135\, USA
SUMMARY:Town Events Advisory Committee
END:VEVENT
BEGIN:VEVENT
DTSTAMP:20260425T125328Z
UID:a3fe4f37-dc59-459a-aa19-7aa221942cef
DTSTART:20261203T183000
DTEND:20261203T200000
DESCRIPTION:<p>To view the meeting's agenda\, follow the link: <a href="htt
 ps://townofnolensvilletn.sites.thrillshare.com/page/live-stream-and-agenda
 s" target="_blank" rel="noopener noreferrer nofollow" path-prefix="">https
 ://townofnolensvilletn.sites.thrillshare.com/page/live-stream-and-agendas<
 /a></p>
LOCATION:7218 Nolensville Rd\, Nolensville\, TN 37135\, USA
SUMMARY:Town Commission Meeting
END:VEVENT
BEGIN:VEVENT
DTSTAMP:20260425T125328Z
UID:e72491bd-b8f8-4dd8-a471-613727b47f90
DTSTART:20261208T170000
DTEND:20261208T183000
DESCRIPTION:<p>To view the meeting's agenda\, follow the link: <a target="_
 blank" rel="noopener noreferrer nofollow" href="https://townofnolensvillet
 n.sites.thrillshare.com/page/live-stream-and-agendas" path-prefix="">https
 ://townofnolensvilletn.sites.thrillshare.com/page/live-stream-and-agendas<
 /a></p>
LOCATION:7218 Nolensville Rd\, Nolensville\, TN 37135\, USA
SUMMARY:Trail\, Arts\, Park\, and Streetscapes Advisory Committee Meeting
END:VEVENT
BEGIN:VEVENT
DTSTAMP:20260425T125328Z
UID:933df1e3-efc3-40d7-a2ac-545e079f0737
DTSTART:20261208T180000
DTEND:20261208T200000
DESCRIPTION:<p>To view the meeting's agenda\, follow the link: <a href="htt
 ps://townofnolensvilletn.sites.thrillshare.com/page/live-stream-and-agenda
 s" target="_blank" rel="noopener noreferrer nofollow" path-prefix="">https
 ://townofnolensvilletn.sites.thrillshare.com/page/live-stream-and-agendas<
 /a></p>
LOCATION:7218 Nolensville Rd\, Nolensville\, TN 37135\, USA
SUMMARY:Planning Commission
END:VEVENT
BEGIN:VEVENT
DTSTAMP:20260425T125328Z
UID:ba5a08ff-03be-4415-8b97-55ef1ef5ec10
DTSTART:20261210T163000
DTEND:20261210T180000
DESCRIPTION:<p>To view the meeting's agenda\, follow the link: <a target="_
 blank" rel="noopener noreferrer nofollow" href="https://townofnolensvillet
 n.sites.thrillshare.com/page/live-stream-and-agendas" path-prefix="">https
 ://townofnolensvilletn.sites.thrillshare.com/page/live-stream-and-agendas<
 /a></p>
LOCATION:7218 Nolensville Rd\, Nolensville\, TN 37135\, USA
SUMMARY:Town Events Advisory Committee
END:VEVENT
BEGIN:VEVENT
DTSTAMP:20260425T125328Z
UID:aac960e6-08db-4c44-9028-8d69f06522a7
DTSTART:20261214T170000
DTEND:20261214T183000
DESCRIPTION:<p>To view the meeting's agenda\, follow the link: <a target="_
 blank" rel="noopener noreferrer nofollow" href="https://townofnolensvillet
 n.sites.thrillshare.com/page/live-stream-and-agendas" path-prefix="">https
 ://townofnolensvilletn.sites.thrillshare.com/page/live-stream-and-agendas<
 /a></p>
LOCATION:7218 Nolensville Rd\, Nolensville\, TN 37135\, USA
SUMMARY:Town Commission Work Session
END:VEVENT
BEGIN:VEVENT
DTSTAMP:20260425T125328Z
UID:7b4ef1c5-6189-479b-a8ef-6997399b3c16
DTSTART:20270107T183000
DTEND:20270107T200000
DESCRIPTION:<p>To view the meeting's agenda\, follow the link: <a href="htt
 ps://townofnolensvilletn.sites.thrillshare.com/page/live-stream-and-agenda
 s" target="_blank" rel="noopener noreferrer nofollow" path-prefix="">https
 ://townofnolensvilletn.sites.thrillshare.com/page/live-stream-and-agendas<
 /a></p>
LOCATION:7218 Nolensville Rd\, Nolensville\, TN 37135\, USA
SUMMARY:Town Commission Meeting
END:VEVENT
BEGIN:VEVENT
DTSTAMP:20260425T125328Z
UID:3ba469e7-8306-4be8-9bd9-fc593308f4b9
DTSTART:20270112T180000
DTEND:20270112T200000
DESCRIPTION:<p>To view the meeting's agenda\, follow the link: <a href="htt
 ps://townofnolensvilletn.sites.thrillshare.com/page/live-stream-and-agenda
 s" target="_blank" rel="noopener noreferrer nofollow" path-prefix="">https
 ://townofnolensvilletn.sites.thrillshare.com/page/live-stream-and-agendas<
 /a></p>
LOCATION:7218 Nolensville Rd\, Nolensville\, TN 37135\, USA
SUMMARY:Planning Commission
END:VEVENT
END:VCALENDAR
