BEGIN:VCALENDAR
VERSION:2.0
PRODID:icalendar-ruby
CALSCALE:GREGORIAN
BEGIN:VTIMEZONE
TZID:America/Chicago
BEGIN:DAYLIGHT
DTSTART:20260308T030000
TZOFFSETFROM:-0600
TZOFFSETTO:-0500
RRULE:FREQ=YEARLY;BYDAY=2SU;BYMONTH=3
TZNAME:CDT
END:DAYLIGHT
BEGIN:STANDARD
DTSTART:20261101T010000
TZOFFSETFROM:-0500
TZOFFSETTO:-0600
RRULE:FREQ=YEARLY;BYDAY=1SU;BYMONTH=11
TZNAME:CST
END:STANDARD
END:VTIMEZONE
BEGIN:VEVENT
DTSTAMP:20260425T170059Z
UID:8846d73b-a9d1-4d75-9753-df780b769f8a
DTSTART;VALUE=DATE:20260424
DTEND;VALUE=DATE:20260426
DESCRIPTION:
LOCATION:
SUMMARY:Track Sectionals
END:VEVENT
BEGIN:VEVENT
DTSTAMP:20260425T170059Z
UID:947ea72e-0a37-4abe-99aa-6e52d1863f6a
DTSTART;VALUE=DATE:20260424
DTEND;VALUE=DATE:20260426
DESCRIPTION:
LOCATION:
SUMMARY:V Softball @ Hoover Classic
END:VEVENT
BEGIN:VEVENT
DTSTAMP:20260425T170059Z
UID:86e012b2-84c0-40a0-8d6b-15412a8a5fb6
DTSTART;VALUE=DATE:20260425
DTEND;VALUE=DATE:20260426
DESCRIPTION:students $5\; adults $10\nshowtimes: Friday 7:00 pm\, Saturday 
 2:00 pm and 7:00 pm\, Sunday 2:00 pm
LOCATION:MJHS Auditorium
SUMMARY:Spring Play: TRAP  2:00pm and 7:00pm
END:VEVENT
BEGIN:VEVENT
DTSTAMP:20260425T170059Z
UID:61941a7d-b595-4a2b-a0b4-514300fdf09e
DTSTART;VALUE=DATE:20260426
DTEND;VALUE=DATE:20260427
DESCRIPTION:students $5\; adults $10\nshowtimes: Friday 7:00 pm\, Saturday 
 2:00 pm and 7:00 pm\, Sunday 2:00 pm
LOCATION:MJHS Auditorium
SUMMARY:Spring Play: TRAP  2:00pm
END:VEVENT
BEGIN:VEVENT
DTSTAMP:20260425T170059Z
UID:41daa0e5-4947-4bbb-89cd-655788f6abb4
DTSTART;VALUE=DATE:20260427
DTEND;VALUE=DATE:20260428
DESCRIPTION:
LOCATION:
SUMMARY:V Softball Home vs Hayden
END:VEVENT
BEGIN:VEVENT
DTSTAMP:20260425T170059Z
UID:f5e33dae-d873-48e1-87fc-0775b0da7eaa
DTSTART;VALUE=DATE:20260428
DTEND;VALUE=DATE:20260429
DESCRIPTION:
LOCATION:
SUMMARY:Choir & Percussion Ensemble Spring Concerts
END:VEVENT
BEGIN:VEVENT
DTSTAMP:20260425T170059Z
UID:4fc54f1f-9963-485a-8b23-a9711cf7dfbd
DTSTART;VALUE=DATE:20260428
DTEND;VALUE=DATE:20260429
DESCRIPTION:Leader Academy fundraiser\; Gardendale CFA store - Spirit Night
  on mobile app orders
LOCATION:
SUMMARY:Tentative: CFA Sprit Night
END:VEVENT
BEGIN:VEVENT
DTSTAMP:20260425T170059Z
UID:68a1be21-7961-46a7-980f-13bfd6cebb08
DTSTART;VALUE=DATE:20260428
DTEND;VALUE=DATE:20260429
DESCRIPTION:
LOCATION:
SUMMARY:V Softball @ Vestavia 
END:VEVENT
BEGIN:VEVENT
DTSTAMP:20260425T170059Z
UID:d978c3ca-0b9d-48c3-9f00-ece0319d5e5f
DTSTART;VALUE=DATE:20260429
DTEND;VALUE=DATE:20260430
DESCRIPTION:
LOCATION:
SUMMARY:EL Field Trip
END:VEVENT
BEGIN:VEVENT
DTSTAMP:20260425T170059Z
UID:d6db77d1-8906-4bdc-9ecc-6f363a0197ac
DTSTART;VALUE=DATE:20260429
DTEND;VALUE=DATE:20260430
DESCRIPTION:
LOCATION:AG Shop
SUMMARY:FFA meeting (2nd period)
END:VEVENT
BEGIN:VEVENT
DTSTAMP:20260425T170059Z
UID:0a054d73-2df8-427e-830c-4d702261cf95
DTSTART;VALUE=DATE:20260429
DTEND;VALUE=DATE:20260503
DESCRIPTION:
LOCATION:
SUMMARY:Track State Championship
END:VEVENT
BEGIN:VEVENT
DTSTAMP:20260425T170059Z
UID:deed6b49-d6af-48b7-8806-d6efeaa71f8a
DTSTART;VALUE=DATE:20260430
DTEND;VALUE=DATE:20260501
DESCRIPTION:5:00 - 6:00 pm in the library\; contact person: rparker@jefcoed
 .com
LOCATION:MJHS Library
SUMMARY:Ex Ed Parent Transition Night
END:VEVENT
BEGIN:VEVENT
DTSTAMP:20260425T170059Z
UID:8ec14cfd-b7cb-43e4-a6ca-27d44e9cda6f
DTSTART;VALUE=DATE:20260430
DTEND;VALUE=DATE:20260501
DESCRIPTION:Top Golf
LOCATION:
SUMMARY:FCCLA Field Trip
END:VEVENT
BEGIN:VEVENT
DTSTAMP:20260425T170059Z
UID:4332c043-b984-4c6e-9432-80427b478202
DTSTART;VALUE=DATE:20260430
DTEND;VALUE=DATE:20260501
DESCRIPTION:
LOCATION:
SUMMARY:Jazz Festival @ Corner High
END:VEVENT
BEGIN:VEVENT
DTSTAMP:20260425T170059Z
UID:05faf110-a9f3-471a-826d-35be68e00fa5
DTSTART;VALUE=DATE:20260430
DTEND;VALUE=DATE:20260501
DESCRIPTION:Lunchroom\, 6:00pm.
LOCATION:
SUMMARY:Tennis Banquet
END:VEVENT
BEGIN:VEVENT
DTSTAMP:20260425T170059Z
UID:6569c7be-aa25-49c6-9325-240e2e30956b
DTSTART:20260430T083000
DTEND:20260430T093000
DESCRIPTION:
LOCATION:
SUMMARY:College Decision Day - Wear Your Colors
END:VEVENT
BEGIN:VEVENT
DTSTAMP:20260425T170059Z
UID:6f7bcc71-bf14-4deb-a27e-59d12864aa34
DTSTART:20260430T180000
DTEND:20260430T190000
DESCRIPTION:This meeting will take place in the auditorium.
LOCATION:
SUMMARY:MJHS M to M Parent Meeting
END:VEVENT
BEGIN:VEVENT
DTSTAMP:20260425T170059Z
UID:d9e901db-cd8d-4124-a39d-a7d82772a443
DTSTART;VALUE=DATE:20260501
DTEND;VALUE=DATE:20260502
DESCRIPTION:
LOCATION:
SUMMARY:E-Learning Day
END:VEVENT
BEGIN:VEVENT
DTSTAMP:20260425T170059Z
UID:e98b910e-5724-4678-8d3f-74c8ff78c3f9
DTSTART:20260501T073000
DTEND:20260501T163000
DESCRIPTION:
LOCATION:
SUMMARY:E-Learning Day
END:VEVENT
BEGIN:VEVENT
DTSTAMP:20260425T170059Z
UID:73a4d9b9-6bfb-4104-a175-bfe4f377d8c5
DTSTART;VALUE=DATE:20260504
DTEND;VALUE=DATE:20260507
DESCRIPTION:
LOCATION:
SUMMARY:Basketball Tryouts
END:VEVENT
BEGIN:VEVENT
DTSTAMP:20260425T170059Z
UID:0d842074-ba89-458d-8f60-34232c6baf0a
DTSTART:20260504T080000
DTEND:20260504T120000
DESCRIPTION:
LOCATION:
SUMMARY:AP Biology 
END:VEVENT
BEGIN:VEVENT
DTSTAMP:20260425T170059Z
UID:5c7230a1-cee2-4c59-b402-ea479c33c396
DTSTART:20260504T120000
DTEND:20260504T160000
DESCRIPTION:
LOCATION:
SUMMARY:AP Microecon
END:VEVENT
BEGIN:VEVENT
DTSTAMP:20260425T170059Z
UID:1cbaef8a-a905-40ec-97eb-39a5e37b7016
DTSTART;VALUE=DATE:20260505
DTEND;VALUE=DATE:20260506
DESCRIPTION:8:15 - 11th Grade\n9:00 - 10th Grade\n9:45 - 9th Grade
LOCATION:
SUMMARY:Underclassmen Awards Day
END:VEVENT
BEGIN:VEVENT
DTSTAMP:20260425T170059Z
UID:ab9cf5e3-4723-4b97-88da-c2c38905ddf7
DTSTART;VALUE=DATE:20260505
DTEND;VALUE=DATE:20260506
DESCRIPTION:
LOCATION:
SUMMARY:12:00 AP Gov
END:VEVENT
BEGIN:VEVENT
DTSTAMP:20260425T170059Z
UID:6732abde-5dcf-4732-8540-539e5172d4cf
DTSTART;VALUE=DATE:20260505
DTEND;VALUE=DATE:20260506
DESCRIPTION:6:30 pm
LOCATION:MJHS Auditorium
SUMMARY:Spring Band Concert
END:VEVENT
BEGIN:VEVENT
DTSTAMP:20260425T170059Z
UID:3fc8ee35-de79-4c7c-a4b2-5038632e481a
DTSTART;VALUE=DATE:20260506
DTEND;VALUE=DATE:20260507
DESCRIPTION:
LOCATION:
SUMMARY:Academy of Craft Signing Day
END:VEVENT
BEGIN:VEVENT
DTSTAMP:20260425T170059Z
UID:1f646186-1fbd-4b0d-90c2-7e61d6051e86
DTSTART;VALUE=DATE:20260507
DTEND;VALUE=DATE:20260508
DESCRIPTION:
LOCATION:
SUMMARY:12:00 AP Stats
END:VEVENT
BEGIN:VEVENT
DTSTAMP:20260425T170059Z
UID:9070f86b-dc52-4892-b0c9-64ac03382160
DTSTART;VALUE=DATE:20260507
DTEND;VALUE=DATE:20260508
DESCRIPTION:
LOCATION:
SUMMARY:NJMS Spring Concert
END:VEVENT
BEGIN:VEVENT
DTSTAMP:20260425T170059Z
UID:43d5f4a1-67ae-47d0-af9f-06fbe65ce2a9
DTSTART;VALUE=DATE:20260507
DTEND;VALUE=DATE:20260508
DESCRIPTION:Cafeteria\n\n6:00-7:30
LOCATION:
SUMMARY:Soccer Banquet
END:VEVENT
BEGIN:VEVENT
DTSTAMP:20260425T170059Z
UID:eaddf09b-cfe9-4c78-8b74-244586c923f1
DTSTART;VALUE=DATE:20260508
DTEND;VALUE=DATE:20260509
DESCRIPTION:During Regular Classtime
LOCATION:
SUMMARY:Senior Exams 1/3
END:VEVENT
BEGIN:VEVENT
DTSTAMP:20260425T170059Z
UID:2b5014b8-de81-43d2-9f43-e35a782f5dc2
DTSTART:20260508T080000
DTEND:20260508T120000
DESCRIPTION:
LOCATION:
SUMMARY:AP US History
END:VEVENT
BEGIN:VEVENT
DTSTAMP:20260425T170059Z
UID:e2ca85cf-810b-4b14-a22f-2e6fb57273b9
DTSTART:20260508T120000
DTEND:20260508T150000
DESCRIPTION:
LOCATION:
SUMMARY:AP Macro
END:VEVENT
BEGIN:VEVENT
DTSTAMP:20260425T170059Z
UID:bb4b6f66-f2c1-4e53-9253-3740d4f82f71
DTSTART;VALUE=DATE:20260511
DTEND;VALUE=DATE:20260512
DESCRIPTION:During Regular Class time
LOCATION:
SUMMARY:Senior Exams 4/5 
END:VEVENT
BEGIN:VEVENT
DTSTAMP:20260425T170059Z
UID:d13ae935-132f-4558-b391-4cf070a4a8cf
DTSTART:20260511T080000
DTEND:20260511T120000
DESCRIPTION:
LOCATION:
SUMMARY:AP Cal
END:VEVENT
BEGIN:VEVENT
DTSTAMP:20260425T170059Z
UID:5ecd981e-38ab-4659-9a15-2346bbdfa3d1
DTSTART;VALUE=DATE:20260512
DTEND;VALUE=DATE:20260513
DESCRIPTION:During Regular Class Time
LOCATION:
SUMMARY:Exams 4th & 5th
END:VEVENT
BEGIN:VEVENT
DTSTAMP:20260425T170059Z
UID:7e298043-61d6-41f2-955d-4de566bf02d2
DTSTART;VALUE=DATE:20260512
DTEND;VALUE=DATE:20260513
DESCRIPTION:During Regular Class Time
LOCATION:
SUMMARY:Senior 2/Make Up
END:VEVENT
BEGIN:VEVENT
DTSTAMP:20260425T170059Z
UID:d2bfcbb5-54c6-4097-b542-29b202d22373
DTSTART:20260512T080000
DTEND:20260512T120000
DESCRIPTION:
LOCATION:
SUMMARY:AP Pre Cal
END:VEVENT
BEGIN:VEVENT
DTSTAMP:20260425T170059Z
UID:fe478241-5c8c-44c4-9fe8-4ee31c995b94
DTSTART:20260512T100000
DTEND:20260512T120000
DESCRIPTION:
LOCATION:
SUMMARY:Board Committee Meeting
END:VEVENT
BEGIN:VEVENT
DTSTAMP:20260425T170059Z
UID:d9dd2998-9a03-4af7-9e97-60025d93ddac
DTSTART;VALUE=DATE:20260513
DTEND;VALUE=DATE:20260514
DESCRIPTION:8:30 in the Competition Gym.
LOCATION:
SUMMARY:Senior Awards Day
END:VEVENT
BEGIN:VEVENT
DTSTAMP:20260425T170059Z
UID:edee72ec-1e69-4704-8607-7dad54b14e5a
DTSTART:20260513T080000
DTEND:20260513T120000
DESCRIPTION:
LOCATION:
SUMMARY:AP Lang
END:VEVENT
BEGIN:VEVENT
DTSTAMP:20260425T170059Z
UID:b326c1f5-b7f8-4b2f-8f10-58d0fd670b7b
DTSTART;VALUE=DATE:20260514
DTEND;VALUE=DATE:20260515
DESCRIPTION:During Regular Class Time
LOCATION:
SUMMARY:Exams 1st/3rd
END:VEVENT
BEGIN:VEVENT
DTSTAMP:20260425T170059Z
UID:d7aaf28c-08b7-4c11-91d6-688c6d4c93a2
DTSTART;VALUE=DATE:20260514
DTEND;VALUE=DATE:20260515
DESCRIPTION:5:00 to 9:00 in the Cafeteria.
LOCATION:
SUMMARY:FFA Awards Night
END:VEVENT
BEGIN:VEVENT
DTSTAMP:20260425T170059Z
UID:ba9d1142-cb9c-48bf-a7e3-bc2cd20a4980
DTSTART;VALUE=DATE:20260514
DTEND;VALUE=DATE:20260515
DESCRIPTION:
LOCATION:
SUMMARY:Senior Elementary Walk
END:VEVENT
BEGIN:VEVENT
DTSTAMP:20260425T170059Z
UID:9cccede2-500d-418f-9dda-5ed743905341
DTSTART:20260514T120000
DTEND:20260514T150000
DESCRIPTION:
LOCATION:
SUMMARY:AP Comp Sci
END:VEVENT
BEGIN:VEVENT
DTSTAMP:20260425T170059Z
UID:aae52892-d78d-4057-8160-5626a867b8a5
DTSTART;VALUE=DATE:20260515
DTEND;VALUE=DATE:20260516
DESCRIPTION:
LOCATION:
SUMMARY:Make-up Exams
END:VEVENT
BEGIN:VEVENT
DTSTAMP:20260425T170059Z
UID:e742657a-e21d-4f9f-92dd-e75ff1f2ebc1
DTSTART;VALUE=DATE:20260518
DTEND;VALUE=DATE:20260519
DESCRIPTION:
LOCATION:
SUMMARY:Senior Clearance Forms Due
END:VEVENT
BEGIN:VEVENT
DTSTAMP:20260425T170059Z
UID:53f13c3c-d424-4452-851a-614b787990d3
DTSTART;VALUE=DATE:20260519
DTEND;VALUE=DATE:20260520
DESCRIPTION:
LOCATION:
SUMMARY:Grade Level PST Meetings
END:VEVENT
BEGIN:VEVENT
DTSTAMP:20260425T170059Z
UID:918d52be-3ff1-485f-a293-77d3be51bb01
DTSTART;VALUE=DATE:20260521
DTEND;VALUE=DATE:20260522
DESCRIPTION:7:00pm @ Jimmie Trotter Stadium (weather permitting)
LOCATION:
SUMMARY:Graduation Ceremony: Class of 2026
END:VEVENT
BEGIN:VEVENT
DTSTAMP:20260425T170059Z
UID:dbe28a24-6364-4b3b-ba2d-7dfe4fd4c072
DTSTART:20260521T073000
DTEND:20260521T163000
DESCRIPTION:
LOCATION:
SUMMARY:Last Day for Students-End of 2nd Semester
END:VEVENT
BEGIN:VEVENT
DTSTAMP:20260425T170059Z
UID:706380e2-f50f-44f1-91a2-ba93516b8b21
DTSTART:20260521T100000
DTEND:20260521T120000
DESCRIPTION:
LOCATION:
SUMMARY:Board Meeting
END:VEVENT
BEGIN:VEVENT
DTSTAMP:20260425T170059Z
UID:e70c8534-3958-41f7-8ede-36f5d99663d8
DTSTART;VALUE=DATE:20260522
DTEND;VALUE=DATE:20260523
DESCRIPTION:
LOCATION:
SUMMARY:Teacher Work Day
END:VEVENT
BEGIN:VEVENT
DTSTAMP:20260425T170059Z
UID:4d3e7b05-9227-4e20-aab6-7af9577f061e
DTSTART:20260522T073000
DTEND:20260522T163000
DESCRIPTION:
LOCATION:
SUMMARY:Teacher Workday
END:VEVENT
BEGIN:VEVENT
DTSTAMP:20260425T170059Z
UID:7cf5e448-78cc-4440-9c03-6238d29f8374
DTSTART;VALUE=DATE:20260525
DTEND;VALUE=DATE:20260526
DESCRIPTION:Offices closed
LOCATION:
SUMMARY:Memorial Day 
END:VEVENT
BEGIN:VEVENT
DTSTAMP:20260425T170059Z
UID:8aec86bd-0d04-4997-89dd-874ca15231a3
DTSTART:20260525T073000
DTEND:20260525T163000
DESCRIPTION:
LOCATION:
SUMMARY:Memorial Day-Schools & Offices Closed
END:VEVENT
BEGIN:VEVENT
DTSTAMP:20260425T170059Z
UID:a266d353-30f2-42ed-8e23-25c86cfa6b0d
DTSTART:20260618T000000
DTEND:20260619T000000
DESCRIPTION:
LOCATION:
SUMMARY:Juneteenth - Schools & Offices Closed
END:VEVENT
BEGIN:VEVENT
DTSTAMP:20260425T170059Z
UID:75b0f015-502c-47bb-b40c-b97566edd0da
DTSTART:20260618T073000
DTEND:20260618T163000
DESCRIPTION:
LOCATION:
SUMMARY:Juneteenth - Schools & Offices Closed
END:VEVENT
BEGIN:VEVENT
DTSTAMP:20260425T170059Z
UID:cd7bf545-5e1b-4dd1-ade6-2ad1f423f74e
DTSTART:20260619T073000
DTEND:20260619T163000
DESCRIPTION:
LOCATION:
SUMMARY:Juneteenth - Schools & Offices Closed
END:VEVENT
BEGIN:VEVENT
DTSTAMP:20260425T170059Z
UID:b9ce4c7b-98d5-408e-be41-6fec3f78ed37
DTSTART:20260625T100000
DTEND:20260625T120000
DESCRIPTION:
LOCATION:
SUMMARY:Board Meeting
END:VEVENT
BEGIN:VEVENT
DTSTAMP:20260425T170059Z
UID:e065db05-0c7b-4ea7-973b-ea6e0a1036e2
DTSTART;VALUE=DATE:20260627
DTEND;VALUE=DATE:20260628
DESCRIPTION:
LOCATION:
SUMMARY:Miss Jefferson County Pageant
END:VEVENT
BEGIN:VEVENT
DTSTAMP:20260425T170059Z
UID:acb1faf9-27b2-4b51-9232-124a8dc72729
DTSTART;VALUE=DATE:20260713
DTEND;VALUE=DATE:20260715
DESCRIPTION:
LOCATION:
SUMMARY:Senior Portraits 
END:VEVENT
BEGIN:VEVENT
DTSTAMP:20260425T170059Z
UID:2fb1bb44-a67a-4282-87f6-df4ec50c30ce
DTSTART;VALUE=DATE:20260720
DTEND;VALUE=DATE:20260725
DESCRIPTION:
LOCATION:
SUMMARY:Drum Camp
END:VEVENT
BEGIN:VEVENT
DTSTAMP:20260425T170059Z
UID:31909af5-015b-49b9-a101-3755ca8e40de
DTSTART;VALUE=DATE:20260727
DTEND;VALUE=DATE:20260801
DESCRIPTION:
LOCATION:
SUMMARY:Band Camp
END:VEVENT
BEGIN:VEVENT
DTSTAMP:20260425T170059Z
UID:83895d76-02ff-4d99-8593-4f773cfbcc85
DTSTART;VALUE=DATE:20260728
DTEND;VALUE=DATE:20260729
DESCRIPTION:
LOCATION:
SUMMARY:Seniors and Freshmen Registration
END:VEVENT
BEGIN:VEVENT
DTSTAMP:20260425T170059Z
UID:80b6eee7-719c-41ed-8b65-f8805cd92d47
DTSTART;VALUE=DATE:20260729
DTEND;VALUE=DATE:20260730
DESCRIPTION:
LOCATION:
SUMMARY:Juniors and Sophomore Registration
END:VEVENT
BEGIN:VEVENT
DTSTAMP:20260425T170059Z
UID:158fb41d-cc99-4371-ad85-14daaa2cd311
DTSTART;VALUE=DATE:20260730
DTEND;VALUE=DATE:20260731
DESCRIPTION:
LOCATION:
SUMMARY:Freshman Orientation
END:VEVENT
BEGIN:VEVENT
DTSTAMP:20260425T170059Z
UID:957d5b92-1c3d-4719-a9af-1c3d4ea86cff
DTSTART;VALUE=DATE:20260803
DTEND;VALUE=DATE:20260806
DESCRIPTION:
LOCATION:
SUMMARY:Band Camp
END:VEVENT
BEGIN:VEVENT
DTSTAMP:20260425T170059Z
UID:1720df7e-9d91-4bae-9f4c-4cab7cfa4033
DTSTART;VALUE=DATE:20260804
DTEND;VALUE=DATE:20260805
DESCRIPTION:
LOCATION:
SUMMARY:Make Up Registration
END:VEVENT
BEGIN:VEVENT
DTSTAMP:20260425T170059Z
UID:57e939e4-10b1-4b44-a59f-746d26cab5d0
DTSTART;VALUE=DATE:20260821
DTEND;VALUE=DATE:20260822
DESCRIPTION:
LOCATION:
SUMMARY:Home Football vs. Fultondale (Senior Night)
END:VEVENT
BEGIN:VEVENT
DTSTAMP:20260425T170059Z
UID:da456a14-9f69-4005-b3b2-bc6420216ce8
DTSTART;VALUE=DATE:20260828
DTEND;VALUE=DATE:20260829
DESCRIPTION:
LOCATION:
SUMMARY:Football @ Shades Valley
END:VEVENT
BEGIN:VEVENT
DTSTAMP:20260425T170059Z
UID:d0153155-ca05-4a47-8900-589cebbac050
DTSTART;VALUE=DATE:20260904
DTEND;VALUE=DATE:20260905
DESCRIPTION:
LOCATION:
SUMMARY:Home Football vs. Parker
END:VEVENT
BEGIN:VEVENT
DTSTAMP:20260425T170059Z
UID:fe2019f6-dcc6-4496-a24f-a3f9c14b38e1
DTSTART;VALUE=DATE:20260911
DTEND;VALUE=DATE:20260912
DESCRIPTION:
LOCATION:
SUMMARY:Football @ Cullman
END:VEVENT
BEGIN:VEVENT
DTSTAMP:20260425T170059Z
UID:8af8aeff-4ece-416c-bcaa-746d062eeaa7
DTSTART;VALUE=DATE:20260918
DTEND;VALUE=DATE:20260919
DESCRIPTION:
LOCATION:
SUMMARY:Home Football vs. Gardendale
END:VEVENT
BEGIN:VEVENT
DTSTAMP:20260425T170059Z
UID:6052c070-43e2-4dc1-a6f4-3cba9448eca1
DTSTART;VALUE=DATE:20261001
DTEND;VALUE=DATE:20261002
DESCRIPTION:
LOCATION:
SUMMARY:Football @ Jackson Olin
END:VEVENT
BEGIN:VEVENT
DTSTAMP:20260425T170059Z
UID:b082f4b5-ac9b-4c31-9141-820fe9e1e8b0
DTSTART:20261008T000000
DTEND:20261009T000000
DESCRIPTION:
LOCATION:JEFCOED-Calendar
SUMMARY:Aspiring Leaders School Site Visits
END:VEVENT
BEGIN:VEVENT
DTSTAMP:20260425T170059Z
UID:3e2434b2-f69b-4a34-be10-702d663c6acb
DTSTART;VALUE=DATE:20261009
DTEND;VALUE=DATE:20261010
DESCRIPTION:
LOCATION:
SUMMARY:Home Football vs. Minor
END:VEVENT
BEGIN:VEVENT
DTSTAMP:20260425T170059Z
UID:0084bac5-4752-4ebd-81d7-f50d50b23f05
DTSTART;VALUE=DATE:20261009
DTEND;VALUE=DATE:20261010
DESCRIPTION:1:00-6:30\n\nBoth Gyms are needed.
LOCATION:
SUMMARY:Little Girls Auxiliary Camp
END:VEVENT
BEGIN:VEVENT
DTSTAMP:20260425T170059Z
UID:38f0ae0a-050d-4f77-ac4c-83a6d771a595
DTSTART;VALUE=DATE:20261016
DTEND;VALUE=DATE:20261017
DESCRIPTION:
LOCATION:
SUMMARY:Football @ Jasper
END:VEVENT
BEGIN:VEVENT
DTSTAMP:20260425T170059Z
UID:655d6452-1ad0-4aa2-92bf-05b941559aee
DTSTART;VALUE=DATE:20261023
DTEND;VALUE=DATE:20261024
DESCRIPTION:
LOCATION:
SUMMARY:Football @ Huffman
END:VEVENT
BEGIN:VEVENT
DTSTAMP:20260425T170059Z
UID:9b0f7944-e7e1-41c7-a2e4-87b2766246ba
DTSTART;VALUE=DATE:20261030
DTEND;VALUE=DATE:20261031
DESCRIPTION:
LOCATION:
SUMMARY:Home Football vs. Northridge
END:VEVENT
BEGIN:VEVENT
DTSTAMP:20260425T170059Z
UID:0ba1b138-8e27-4f1d-8128-ccb803cad0a3
DTSTART;VALUE=DATE:20270409
DTEND;VALUE=DATE:20270410
DESCRIPTION:Stone Bridge Farms\n6:00pm
LOCATION:
SUMMARY:Prom
END:VEVENT
END:VCALENDAR
