BEGIN:VCALENDAR
VERSION:2.0
PRODID:icalendar-ruby
CALSCALE:GREGORIAN
BEGIN:VTIMEZONE
TZID:America/Chicago
BEGIN:DAYLIGHT
DTSTART:20260308T030000
TZOFFSETFROM:-0600
TZOFFSETTO:-0500
RRULE:FREQ=YEARLY;BYDAY=2SU;BYMONTH=3
TZNAME:CDT
END:DAYLIGHT
BEGIN:STANDARD
DTSTART:20261101T010000
TZOFFSETFROM:-0500
TZOFFSETTO:-0600
RRULE:FREQ=YEARLY;BYDAY=1SU;BYMONTH=11
TZNAME:CST
END:STANDARD
END:VTIMEZONE
BEGIN:VEVENT
DTSTAMP:20260423T144624Z
UID:886dc105-2b65-4f7b-bc80-ec86d42ee9e0
DTSTART:20260423T100000
DTEND:20260423T120000
DESCRIPTION:
LOCATION:
SUMMARY:Board Meeting
END:VEVENT
BEGIN:VEVENT
DTSTAMP:20260423T144624Z
UID:ac7dcd21-af1d-44e6-b39c-c1905dd02cd1
DTSTART:20260501T073000
DTEND:20260501T163000
DESCRIPTION:
LOCATION:
SUMMARY:E-Learning Day
END:VEVENT
BEGIN:VEVENT
DTSTAMP:20260423T144624Z
UID:e5d3bf5f-8e68-4f80-b7c7-0e9351223040
DTSTART:20260512T100000
DTEND:20260512T120000
DESCRIPTION:
LOCATION:
SUMMARY:Board Committee Meeting
END:VEVENT
BEGIN:VEVENT
DTSTAMP:20260423T144624Z
UID:73e6ea7e-e22a-4b20-8058-f4a81acf1b0e
DTSTART:20260521T073000
DTEND:20260521T163000
DESCRIPTION:
LOCATION:
SUMMARY:Last Day for Students-End of 2nd Semester
END:VEVENT
BEGIN:VEVENT
DTSTAMP:20260423T144624Z
UID:475fe9c7-91e5-48f0-a0dd-10834248075b
DTSTART:20260521T100000
DTEND:20260521T120000
DESCRIPTION:
LOCATION:
SUMMARY:Board Meeting
END:VEVENT
BEGIN:VEVENT
DTSTAMP:20260423T144624Z
UID:979275b2-e40d-42ca-92bb-fce52d9e32c7
DTSTART:20260522T073000
DTEND:20260522T163000
DESCRIPTION:
LOCATION:
SUMMARY:Teacher Workday
END:VEVENT
BEGIN:VEVENT
DTSTAMP:20260423T144624Z
UID:1ae56c5b-b58e-4519-9706-9a66d0a5ccde
DTSTART:20260525T073000
DTEND:20260525T163000
DESCRIPTION:
LOCATION:
SUMMARY:Memorial Day-Schools & Offices Closed
END:VEVENT
BEGIN:VEVENT
DTSTAMP:20260423T144624Z
UID:6677e914-3d39-49ee-9ced-5bc7e401d365
DTSTART:20260618T000000
DTEND:20260619T000000
DESCRIPTION:
LOCATION:
SUMMARY:Juneteenth - Schools & Offices Closed
END:VEVENT
BEGIN:VEVENT
DTSTAMP:20260423T144624Z
UID:4a701cd1-f355-47f7-8ef5-62422261e83c
DTSTART:20260618T073000
DTEND:20260618T163000
DESCRIPTION:
LOCATION:
SUMMARY:Juneteenth - Schools & Offices Closed
END:VEVENT
BEGIN:VEVENT
DTSTAMP:20260423T144624Z
UID:ea079701-bab5-4977-bc48-0b8639e34a92
DTSTART:20260619T073000
DTEND:20260619T163000
DESCRIPTION:
LOCATION:
SUMMARY:Juneteenth - Schools & Offices Closed
END:VEVENT
BEGIN:VEVENT
DTSTAMP:20260423T144624Z
UID:2a376056-e072-4387-ace9-547477f38a41
DTSTART:20261008T000000
DTEND:20261009T000000
DESCRIPTION:
LOCATION:JEFCOED-Calendar
SUMMARY:Aspiring Leaders School Site Visits
END:VEVENT
END:VCALENDAR
