BEGIN:VCALENDAR
VERSION:2.0
PRODID:icalendar-ruby
CALSCALE:GREGORIAN
BEGIN:VTIMEZONE
TZID:America/New_York
BEGIN:DAYLIGHT
DTSTART:20260308T030000
TZOFFSETFROM:-0500
TZOFFSETTO:-0400
RRULE:FREQ=YEARLY;BYDAY=2SU;BYMONTH=3
TZNAME:EDT
END:DAYLIGHT
BEGIN:STANDARD
DTSTART:20261101T010000
TZOFFSETFROM:-0400
TZOFFSETTO:-0500
RRULE:FREQ=YEARLY;BYDAY=1SU;BYMONTH=11
TZNAME:EST
END:STANDARD
END:VTIMEZONE
BEGIN:VEVENT
DTSTAMP:20260425T112049Z
UID:25069180-fc59-4d85-b8cf-0c8d91d9e6e7
DTSTART;VALUE=DATE:20260427
DTEND;VALUE=DATE:20260428
DESCRIPTION:
LOCATION:
SUMMARY:Day 6 Rotation
END:VEVENT
BEGIN:VEVENT
DTSTAMP:20260425T112049Z
UID:af83cbc9-4cd0-4985-9781-98837c53d92d
DTSTART;VALUE=DATE:20260428
DTEND;VALUE=DATE:20260429
DESCRIPTION:
LOCATION:
SUMMARY:Day 1 Rotation
END:VEVENT
BEGIN:VEVENT
DTSTAMP:20260425T112049Z
UID:8a9d42b6-61b2-46a1-a1f4-1d5754328c56
DTSTART;VALUE=DATE:20260429
DTEND;VALUE=DATE:20260430
DESCRIPTION:
LOCATION:
SUMMARY:Day 2 Rotation
END:VEVENT
BEGIN:VEVENT
DTSTAMP:20260425T112049Z
UID:8eb51994-2f2f-43a0-983b-03ef224df724
DTSTART:20260429T170000
DTEND:20260429T190000
DESCRIPTION:Colonie Town Library
LOCATION:629 Albany Shaker Rd\, Loudonville\, NY 12211
SUMMARY:District Art Reception K-5
END:VEVENT
BEGIN:VEVENT
DTSTAMP:20260425T112049Z
UID:f7c495ea-62ea-4fa5-b7fb-a1a7708ee897
DTSTART;VALUE=DATE:20260430
DTEND;VALUE=DATE:20260501
DESCRIPTION:
LOCATION:
SUMMARY:Day 3 Rotation
END:VEVENT
BEGIN:VEVENT
DTSTAMP:20260425T112049Z
UID:66384874-2376-4595-ace8-b5f69d8dcf55
DTSTART;VALUE=DATE:20260501
DTEND;VALUE=DATE:20260502
DESCRIPTION:
LOCATION:
SUMMARY:Day 4 Rotation
END:VEVENT
BEGIN:VEVENT
DTSTAMP:20260425T112049Z
UID:4952f3db-08da-4900-9a5a-a6e7db3c3a73
DTSTART;VALUE=DATE:20260504
DTEND;VALUE=DATE:20260505
DESCRIPTION:
LOCATION:
SUMMARY:Day 5 Rotation
END:VEVENT
BEGIN:VEVENT
DTSTAMP:20260425T112049Z
UID:745cb0dc-a285-482c-868d-2ac2af707985
DTSTART;VALUE=DATE:20260505
DTEND;VALUE=DATE:20260506
DESCRIPTION:
LOCATION:
SUMMARY:Day 6 Rotation
END:VEVENT
BEGIN:VEVENT
DTSTAMP:20260425T112049Z
UID:9fe09df0-84ba-4642-89de-4800baaf7671
DTSTART;VALUE=DATE:20260506
DTEND;VALUE=DATE:20260507
DESCRIPTION:
LOCATION:
SUMMARY:Day 1 Rotation
END:VEVENT
BEGIN:VEVENT
DTSTAMP:20260425T112049Z
UID:27de7d40-83d3-49d9-a7a4-88c562debb42
DTSTART;VALUE=DATE:20260507
DTEND;VALUE=DATE:20260508
DESCRIPTION:
LOCATION:
SUMMARY:Day 2 Rotation
END:VEVENT
BEGIN:VEVENT
DTSTAMP:20260425T112049Z
UID:4845a7d2-5047-4bc3-b064-8ac53ba2dbfd
DTSTART;VALUE=DATE:20260508
DTEND;VALUE=DATE:20260509
DESCRIPTION:
LOCATION:
SUMMARY:Day 3 Rotation
END:VEVENT
BEGIN:VEVENT
DTSTAMP:20260425T112049Z
UID:9bad8901-797b-4a33-bdff-74d1d79f7d91
DTSTART;VALUE=DATE:20260511
DTEND;VALUE=DATE:20260512
DESCRIPTION:
LOCATION:
SUMMARY:Day 4 Rotation
END:VEVENT
BEGIN:VEVENT
DTSTAMP:20260425T112049Z
UID:1b31e3d6-b7dd-444a-a86e-587bb01deaa9
DTSTART;VALUE=DATE:20260512
DTEND;VALUE=DATE:20260513
DESCRIPTION:
LOCATION:
SUMMARY:Day 5 Rotation
END:VEVENT
BEGIN:VEVENT
DTSTAMP:20260425T112049Z
UID:2fb528a8-4006-48da-8490-9d2811b8d3be
DTSTART:20260512T183000
DTEND:20260512T193000
DESCRIPTION:Library
LOCATION:349 Osborne Rd\, Albany\, NY 12211
SUMMARY:LO PTA Meeting 
END:VEVENT
BEGIN:VEVENT
DTSTAMP:20260425T112049Z
UID:91538649-05de-467a-90c6-b73fd7543123
DTSTART;VALUE=DATE:20260513
DTEND;VALUE=DATE:20260514
DESCRIPTION:
LOCATION:
SUMMARY:Day 6 Rotation
END:VEVENT
BEGIN:VEVENT
DTSTAMP:20260425T112049Z
UID:daa731ef-8811-4f95-b8af-7f96105570cf
DTSTART;VALUE=DATE:20260514
DTEND;VALUE=DATE:20260515
DESCRIPTION:
LOCATION:
SUMMARY:Day 1 Rotation
END:VEVENT
BEGIN:VEVENT
DTSTAMP:20260425T112049Z
UID:74ec62fa-93e1-4c08-ae32-4c48c4da0132
DTSTART;VALUE=DATE:20260515
DTEND;VALUE=DATE:20260516
DESCRIPTION:
LOCATION:
SUMMARY:Day 2 Rotation
END:VEVENT
BEGIN:VEVENT
DTSTAMP:20260425T112049Z
UID:928e052c-22b7-45e4-af03-b6a2d5e1d0c3
DTSTART;VALUE=DATE:20260518
DTEND;VALUE=DATE:20260519
DESCRIPTION:
LOCATION:
SUMMARY:Day 3 Rotation
END:VEVENT
BEGIN:VEVENT
DTSTAMP:20260425T112049Z
UID:70a576b8-bf0d-4b9e-a48f-05ac5e9f4d89
DTSTART;VALUE=DATE:20260519
DTEND;VALUE=DATE:20260520
DESCRIPTION:
LOCATION:
SUMMARY:Day 4 Rotation
END:VEVENT
BEGIN:VEVENT
DTSTAMP:20260425T112049Z
UID:c7b89d6b-de51-43d3-854c-32a156dbb236
DTSTART;VALUE=DATE:20260520
DTEND;VALUE=DATE:20260521
DESCRIPTION:
LOCATION:
SUMMARY:Day 5 Rotation
END:VEVENT
BEGIN:VEVENT
DTSTAMP:20260425T112049Z
UID:acdfde41-836f-4a80-8568-4ed8eb03b71b
DTSTART:20260520T190000
DTEND:20260520T200000
DESCRIPTION:
LOCATION:349 Osborne Rd\, Albany\, NY 12211
SUMMARY:LO Concert
END:VEVENT
BEGIN:VEVENT
DTSTAMP:20260425T112049Z
UID:364e814f-6b41-4e70-b57b-04c9e3d85df4
DTSTART;VALUE=DATE:20260521
DTEND;VALUE=DATE:20260522
DESCRIPTION:
LOCATION:
SUMMARY:Day 6 Rotation
END:VEVENT
BEGIN:VEVENT
DTSTAMP:20260425T112049Z
UID:84ea5615-0826-4383-9ad0-a6e11366c787
DTSTART;VALUE=DATE:20260522
DTEND;VALUE=DATE:20260523
DESCRIPTION:
LOCATION:
SUMMARY:Day 1 Rotation
END:VEVENT
BEGIN:VEVENT
DTSTAMP:20260425T112049Z
UID:a4b1f3f6-2d63-4559-8921-771aeeb3d7fd
DTSTART;VALUE=DATE:20260525
DTEND;VALUE=DATE:20260526
DESCRIPTION:
LOCATION:
SUMMARY:No School
END:VEVENT
BEGIN:VEVENT
DTSTAMP:20260425T112049Z
UID:6ef9bb2a-5220-4442-b65b-89dce79646d6
DTSTART;VALUE=DATE:20260526
DTEND;VALUE=DATE:20260527
DESCRIPTION:
LOCATION:
SUMMARY:Day 2 Rotation
END:VEVENT
BEGIN:VEVENT
DTSTAMP:20260425T112049Z
UID:868b4695-2384-4866-bc73-f0a10f080753
DTSTART;VALUE=DATE:20260527
DTEND;VALUE=DATE:20260528
DESCRIPTION:
LOCATION:
SUMMARY:Day 3 Rotation
END:VEVENT
BEGIN:VEVENT
DTSTAMP:20260425T112049Z
UID:07f72ef5-fa69-4a31-b1da-9b928f5be0da
DTSTART;VALUE=DATE:20260528
DTEND;VALUE=DATE:20260529
DESCRIPTION:
LOCATION:
SUMMARY:Day 4 Rotation
END:VEVENT
BEGIN:VEVENT
DTSTAMP:20260425T112049Z
UID:6c43aebc-692b-4a01-9a4a-494b0b8825b2
DTSTART;VALUE=DATE:20260529
DTEND;VALUE=DATE:20260530
DESCRIPTION:
LOCATION:
SUMMARY:Day 5 Rotation
END:VEVENT
BEGIN:VEVENT
DTSTAMP:20260425T112049Z
UID:26ac23a9-b78a-4cd8-8dcd-b40e2f9fb983
DTSTART;VALUE=DATE:20260601
DTEND;VALUE=DATE:20260602
DESCRIPTION:
LOCATION:
SUMMARY:Day 6 Rotation
END:VEVENT
BEGIN:VEVENT
DTSTAMP:20260425T112049Z
UID:3dd771c9-3ade-4da4-bf44-ac88b2022556
DTSTART;VALUE=DATE:20260602
DTEND;VALUE=DATE:20260603
DESCRIPTION:
LOCATION:
SUMMARY:Day 1 Rotation
END:VEVENT
BEGIN:VEVENT
DTSTAMP:20260425T112049Z
UID:ef3a69be-3228-4e46-8eb5-79c8973cdb45
DTSTART;VALUE=DATE:20260603
DTEND;VALUE=DATE:20260604
DESCRIPTION:
LOCATION:
SUMMARY:Day 2 Rotation
END:VEVENT
BEGIN:VEVENT
DTSTAMP:20260425T112049Z
UID:1e73638b-e8ea-40d9-a907-a5d6fe203c51
DTSTART;VALUE=DATE:20260604
DTEND;VALUE=DATE:20260605
DESCRIPTION:
LOCATION:
SUMMARY:Day 3 Rotation
END:VEVENT
BEGIN:VEVENT
DTSTAMP:20260425T112049Z
UID:0efdaa3f-6d54-4fb2-8f95-964bf309b3d8
DTSTART;VALUE=DATE:20260605
DTEND;VALUE=DATE:20260606
DESCRIPTION:
LOCATION:
SUMMARY:Day 4 Rotation
END:VEVENT
BEGIN:VEVENT
DTSTAMP:20260425T112049Z
UID:b60f3c2a-85e1-49cb-8e51-67150e55e600
DTSTART:20260605T170000
DTEND:20260605T200000
DESCRIPTION:Library
LOCATION:349 Osborne Rd\, Albany\, NY 12211
SUMMARY:LO June Jubilee
END:VEVENT
BEGIN:VEVENT
DTSTAMP:20260425T112049Z
UID:a9149528-213b-484e-a532-139eb61e4d70
DTSTART;VALUE=DATE:20260608
DTEND;VALUE=DATE:20260609
DESCRIPTION:
LOCATION:
SUMMARY:Day 5 Rotation
END:VEVENT
BEGIN:VEVENT
DTSTAMP:20260425T112049Z
UID:ef111a34-48c9-4521-a22c-149b98f00538
DTSTART;VALUE=DATE:20260609
DTEND;VALUE=DATE:20260610
DESCRIPTION:
LOCATION:
SUMMARY:Day 6 Rotation
END:VEVENT
BEGIN:VEVENT
DTSTAMP:20260425T112049Z
UID:0bb13432-e74d-4591-8dc9-ceeab3542878
DTSTART;VALUE=DATE:20260610
DTEND;VALUE=DATE:20260611
DESCRIPTION:
LOCATION:
SUMMARY:Day 1 Rotation
END:VEVENT
BEGIN:VEVENT
DTSTAMP:20260425T112049Z
UID:650c952f-0903-46a1-80c8-afe3ec937ec6
DTSTART;VALUE=DATE:20260610
DTEND;VALUE=DATE:20260611
DESCRIPTION:
LOCATION:
SUMMARY:SMS/SHS Orientation (current 5th and 8th grade)
END:VEVENT
BEGIN:VEVENT
DTSTAMP:20260425T112049Z
UID:bbcbf8a1-4209-4361-b176-96aa8803781a
DTSTART;VALUE=DATE:20260611
DTEND;VALUE=DATE:20260612
DESCRIPTION:
LOCATION:
SUMMARY:Day 2 Rotation
END:VEVENT
BEGIN:VEVENT
DTSTAMP:20260425T112049Z
UID:0213a110-0aff-41ca-ad67-e919bf922f41
DTSTART;VALUE=DATE:20260612
DTEND;VALUE=DATE:20260613
DESCRIPTION:
LOCATION:
SUMMARY:Day 3 Rotation
END:VEVENT
BEGIN:VEVENT
DTSTAMP:20260425T112049Z
UID:454b7436-061d-406d-99da-9c557179e287
DTSTART;VALUE=DATE:20260615
DTEND;VALUE=DATE:20260616
DESCRIPTION:
LOCATION:
SUMMARY:Day 4 Rotation
END:VEVENT
BEGIN:VEVENT
DTSTAMP:20260425T112049Z
UID:6edfed3e-fa9a-4a86-ab5f-06c684dfaea0
DTSTART;VALUE=DATE:20260616
DTEND;VALUE=DATE:20260617
DESCRIPTION:
LOCATION:
SUMMARY:Day 5 Rotation
END:VEVENT
BEGIN:VEVENT
DTSTAMP:20260425T112049Z
UID:68bf6561-0358-4884-9a40-9d6d988531e0
DTSTART;VALUE=DATE:20260617
DTEND;VALUE=DATE:20260618
DESCRIPTION:
LOCATION:
SUMMARY:Day 6 Rotation
END:VEVENT
BEGIN:VEVENT
DTSTAMP:20260425T112049Z
UID:31898ff8-3fdb-4600-bce4-f93dd4cdc244
DTSTART;VALUE=DATE:20260618
DTEND;VALUE=DATE:20260619
DESCRIPTION:
LOCATION:
SUMMARY:Day 1 Rotation
END:VEVENT
BEGIN:VEVENT
DTSTAMP:20260425T112049Z
UID:8c5d5ce0-8d9e-4ad1-9a5c-a79571a971b4
DTSTART;VALUE=DATE:20260619
DTEND;VALUE=DATE:20260620
DESCRIPTION:
LOCATION:
SUMMARY:No School
END:VEVENT
BEGIN:VEVENT
DTSTAMP:20260425T112049Z
UID:ace03510-530b-47b0-8eb3-d94027f6bbb4
DTSTART;VALUE=DATE:20260622
DTEND;VALUE=DATE:20260623
DESCRIPTION:
LOCATION:
SUMMARY:Day 2 Rotation
END:VEVENT
BEGIN:VEVENT
DTSTAMP:20260425T112049Z
UID:17d93b5b-8fc3-4789-b25a-a2297b7e133a
DTSTART;VALUE=DATE:20260623
DTEND;VALUE=DATE:20260624
DESCRIPTION:
LOCATION:
SUMMARY:Day 3 Rotation
END:VEVENT
BEGIN:VEVENT
DTSTAMP:20260425T112049Z
UID:4922d5b8-67a6-45e6-b9da-88e784ce3a04
DTSTART;VALUE=DATE:20260624
DTEND;VALUE=DATE:20260625
DESCRIPTION:
LOCATION:
SUMMARY:Day 4 Rotation
END:VEVENT
BEGIN:VEVENT
DTSTAMP:20260425T112049Z
UID:1c57b42a-c531-4d64-86de-0710f5bc0e39
DTSTART;VALUE=DATE:20260625
DTEND;VALUE=DATE:20260626
DESCRIPTION:
LOCATION:
SUMMARY:Day 5 Rotation
END:VEVENT
BEGIN:VEVENT
DTSTAMP:20260425T112049Z
UID:196e7425-3d09-4ffb-ba94-021d011ee689
DTSTART;VALUE=DATE:20260626
DTEND;VALUE=DATE:20260627
DESCRIPTION:
LOCATION:
SUMMARY:Day 6 Rotation
END:VEVENT
BEGIN:VEVENT
DTSTAMP:20260425T112049Z
UID:dc97a211-3254-40ee-a8ee-ad18f83fcba4
DTSTART;VALUE=DATE:20260626
DTEND;VALUE=DATE:20260627
DESCRIPTION:
LOCATION:
SUMMARY:Last Day 
END:VEVENT
END:VCALENDAR
