BEGIN:VCALENDAR
VERSION:2.0
PRODID:icalendar-ruby
CALSCALE:GREGORIAN
BEGIN:VTIMEZONE
TZID:America/New_York
BEGIN:DAYLIGHT
DTSTART:20260308T030000
TZOFFSETFROM:-0500
TZOFFSETTO:-0400
RRULE:FREQ=YEARLY;BYDAY=2SU;BYMONTH=3
TZNAME:EDT
END:DAYLIGHT
BEGIN:STANDARD
DTSTART:20261101T010000
TZOFFSETFROM:-0400
TZOFFSETTO:-0500
RRULE:FREQ=YEARLY;BYDAY=1SU;BYMONTH=11
TZNAME:EST
END:STANDARD
END:VTIMEZONE
BEGIN:VEVENT
DTSTAMP:20260423T112212Z
UID:2729e56c-f545-41b8-a1a4-74ca26aa0a3c
DTSTART:20260423T173000
DTEND:20260423T193000
DESCRIPTION:<p>THIS MEETING HAS BEEN CANCELLED</p>
LOCATION:CANCELLED
SUMMARY:CANCELLED - School Board Special Meeting/Public Work Session
END:VEVENT
BEGIN:VEVENT
DTSTAMP:20260423T112212Z
UID:a23466ca-22ee-4497-b177-c0cc0f89ddf9
DTSTART:20260430T180000
DTEND:20260430T203000
DESCRIPTION:<p><span>EARLY SESSION\, 6TH FLOOR CONFERENCE ROOM - 6:00 P.M.<
 /span></p><p>REGULAR MEETING\, COUNCIL CHAMBERS - 7:00 P.M. </p><p>DOCUME
 NTS FOR SCHOOL BOARD MEETING ARE AVAILABLE IN BOARDDOCS. YOU CAN ACCESS BO
 ARDDOCS AT THE FOLLOWING LINK:</p><p><a href="https://www.google.com/url?q
 =http://www.boarddocs.com/vsba/portsmouth/Board.nsf/vpublic?open&amp\;sa=D
 &amp\;source=calendar&amp\;ust=1768151959257487&amp\;usg=AOvVaw3BW34OjQty5
 EE0jYoJ9e8T" target="_blank">http://www.boarddocs.com/vsba/portsmouth/Boar
 d.nsf/vpublic?open</a></p><p>THE GENERAL PUBLIC CAN WATCH THE MEETING ON T
 HE DIVISION&#39\;S FACEBOOK PAGE:  <a href="https://www.google.com/url?q=
 https://www.facebook.com/ppsVA/live/&amp\;sa=D&amp\;source=calendar&amp\;u
 st=1768151959257487&amp\;usg=AOvVaw3OJwP-Y_wpONZIinmhyWRl" target="_blank"
 >https://www.facebook.com/ppsVA/live/</a></p>
LOCATION:Portsmouth City Hall\, 801 Crawford St\, Portsmouth\, VA 23704\, U
 SA
SUMMARY:School Board Regular Meeting
END:VEVENT
BEGIN:VEVENT
DTSTAMP:20260423T112212Z
UID:44e1145a-2b54-4c76-a3b4-3f44f5025287
DTSTART:20260514T173000
DTEND:20260514T193000
DESCRIPTION:<p dir="ltr">6TH FLOOR CONFERENCE ROOM - 5:30 P.M.</p><p dir="l
 tr">DOCUMENTS FOR SCHOOL BOARD MEETING ARE AVAILABLE IN BOARDDOCS. YOU CAN
  ACCESS BOARDDOCS AT THE FOLLOWING LINK:</p><p dir="ltr"><a href="https://
 www.google.com/url?q=http://www.boarddocs.com/vsba/portsmouth/Board.nsf/vp
 ublic?open&amp\;sa=D&amp\;source=calendar&amp\;ust=1768242556157553&amp\;u
 sg=AOvVaw1ICajzcvin56lxyc3JOkBe" target="_blank"><u>http://www.boarddocs.c
 om/vsba/portsmouth/Board.nsf/vpublic?open</u></a></p>THE GENERAL PUBLIC CA
 N WATCH THE MEETING ON THE DIVISION&#39\;S FACEBOOK PAGE:  <a href="https
 ://www.google.com/url?q=https://www.facebook.com/ppsVA/live/&amp\;sa=D&amp
 \;source=calendar&amp\;ust=1768242556157553&amp\;usg=AOvVaw34d1GKVfLD-UhHh
 knHL2XH" target="_blank"><u>https://www.facebook.com/ppsVA/live/</u></a>
LOCATION:Portsmouth City Hall\, 801 Crawford St\, Portsmouth\, VA 23704\, U
 SA
SUMMARY:School Board Special Meeting/Public Work Session
END:VEVENT
BEGIN:VEVENT
DTSTAMP:20260423T112212Z
UID:5e63583a-f7db-4726-b755-8704a2e81b30
DTSTART:20260521T180000
DTEND:20260521T203000
DESCRIPTION:<p>THIS MEETING HAS BEEN CANCELLED</p>
LOCATION:CANCELLED
SUMMARY:CANCELLED - School Board Regular Meeting
END:VEVENT
BEGIN:VEVENT
DTSTAMP:20260423T112212Z
UID:9ba51f15-7cd0-4c1e-901b-bc84a7396e94
DTSTART;VALUE=DATE:20260525
DTEND;VALUE=DATE:20260526
DESCRIPTION:All schools and offices will be closed in observance of Memoria
 l Day.
LOCATION:
SUMMARY:Memorial Day - Schools & Offices Closed
END:VEVENT
BEGIN:VEVENT
DTSTAMP:20260423T112212Z
UID:4820f104-d7e0-4634-9557-99082305db50
DTSTART;VALUE=DATE:20260528
DTEND;VALUE=DATE:20260529
DESCRIPTION:
LOCATION:
SUMMARY:High School Graduations - Adjusted Dismissal for High Schools ONLY
END:VEVENT
BEGIN:VEVENT
DTSTAMP:20260423T112212Z
UID:b6d4f595-704a-4743-bcb8-67b2e84f1be8
DTSTART;VALUE=DATE:20260529
DTEND;VALUE=DATE:20260530
DESCRIPTION:Early Release - Last Day of School for Students
LOCATION:
SUMMARY:Last Day of School for Students - Early Release
END:VEVENT
BEGIN:VEVENT
DTSTAMP:20260423T112212Z
UID:4fdca2b0-7a62-46f6-9975-7f51343f3d94
DTSTART;VALUE=DATE:20260601
DTEND;VALUE=DATE:20260602
DESCRIPTION:Last day for 10-Month Employees
LOCATION:
SUMMARY:10-Month Employees Last Day
END:VEVENT
BEGIN:VEVENT
DTSTAMP:20260423T112212Z
UID:fefad816-2723-4d9e-9a91-4e6e517eaf40
DTSTART;VALUE=DATE:20260605
DTEND;VALUE=DATE:20260606
DESCRIPTION:Last Day for 200-Day Clerical Employees
LOCATION:
SUMMARY:200-Day Clerical Employees - Last Day
END:VEVENT
BEGIN:VEVENT
DTSTAMP:20260423T112212Z
UID:4e442d9d-9dad-4fb7-bac0-7f8e8d9405cc
DTSTART;VALUE=DATE:20260605
DTEND;VALUE=DATE:20260606
DESCRIPTION:
LOCATION:
SUMMARY:Report Cards
END:VEVENT
BEGIN:VEVENT
DTSTAMP:20260423T112212Z
UID:ce40edb5-21e3-4fd5-aa9d-921c55d76fa4
DTSTART;VALUE=DATE:20260609
DTEND;VALUE=DATE:20260610
DESCRIPTION:Last Day for 200-Day High School Counselors
LOCATION:
SUMMARY:200-Day High School Counselors - Last Day
END:VEVENT
BEGIN:VEVENT
DTSTAMP:20260423T112212Z
UID:e88d09fe-acf2-4e75-b161-378e7e4c1df3
DTSTART:20260611T173000
DTEND:20260611T193000
DESCRIPTION:<p dir="ltr">6TH FLOOR CONFERENCE ROOM - 5:30 P.M.</p><p dir="l
 tr">DOCUMENTS FOR SCHOOL BOARD MEETING ARE AVAILABLE IN BOARDDOCS. YOU CAN
  ACCESS BOARDDOCS AT THE FOLLOWING LINK:</p><p dir="ltr"><a href="https://
 www.google.com/url?q=http://www.boarddocs.com/vsba/portsmouth/Board.nsf/vp
 ublic?open&amp\;sa=D&amp\;source=calendar&amp\;ust=1768242556157553&amp\;u
 sg=AOvVaw1ICajzcvin56lxyc3JOkBe" target="_blank"><u>http://www.boarddocs.c
 om/vsba/portsmouth/Board.nsf/vpublic?open</u></a></p>THE GENERAL PUBLIC CA
 N WATCH THE MEETING ON THE DIVISION&#39\;S FACEBOOK PAGE:  <a href="https
 ://www.google.com/url?q=https://www.facebook.com/ppsVA/live/&amp\;sa=D&amp
 \;source=calendar&amp\;ust=1768242556157553&amp\;usg=AOvVaw34d1GKVfLD-UhHh
 knHL2XH" target="_blank"><u>https://www.facebook.com/ppsVA/live/</u></a>
LOCATION:Portsmouth City Hall\, 801 Crawford St\, Portsmouth\, VA 23704\, U
 SA
SUMMARY:School Board Special Meeting/Public Work Session
END:VEVENT
BEGIN:VEVENT
DTSTAMP:20260423T112212Z
UID:1bb6bf77-3a0d-4cdb-a67a-006cd4627b0b
DTSTART;VALUE=DATE:20260617
DTEND;VALUE=DATE:20260618
DESCRIPTION:Last Day for 10+1 Employees
LOCATION:
SUMMARY:10+1 Employees Last Day
END:VEVENT
BEGIN:VEVENT
DTSTAMP:20260423T112212Z
UID:ae5c6aca-33ef-4c1d-bfbd-ad99e755bc8a
DTSTART:20260618T180000
DTEND:20260618T203000
DESCRIPTION:<p><span>EARLY SESSION\, 6TH FLOOR CONFERENCE ROOM - 6:00 P.M.<
 /span></p><p>REGULAR MEETING\, COUNCIL CHAMBERS - 7:00 P.M. </p><p>DOCUME
 NTS FOR SCHOOL BOARD MEETING ARE AVAILABLE IN BOARDDOCS. YOU CAN ACCESS BO
 ARDDOCS AT THE FOLLOWING LINK:</p><p><a href="https://www.google.com/url?q
 =http://www.boarddocs.com/vsba/portsmouth/Board.nsf/vpublic?open&amp\;sa=D
 &amp\;source=calendar&amp\;ust=1768151959257487&amp\;usg=AOvVaw3BW34OjQty5
 EE0jYoJ9e8T" target="_blank">http://www.boarddocs.com/vsba/portsmouth/Boar
 d.nsf/vpublic?open</a></p><p>THE GENERAL PUBLIC CAN WATCH THE MEETING ON T
 HE DIVISION&#39\;S FACEBOOK PAGE:  <a href="https://www.google.com/url?q=
 https://www.facebook.com/ppsVA/live/&amp\;sa=D&amp\;source=calendar&amp\;u
 st=1768151959257487&amp\;usg=AOvVaw3OJwP-Y_wpONZIinmhyWRl" target="_blank"
 >https://www.facebook.com/ppsVA/live/</a></p>
LOCATION:Portsmouth City Hall\, 801 Crawford St\, Portsmouth\, VA 23704\, U
 SA
SUMMARY:School Board Regular Meeting
END:VEVENT
BEGIN:VEVENT
DTSTAMP:20260423T112212Z
UID:76e6bf6d-4f2e-4b20-aeb4-1db5a648b528
DTSTART;VALUE=DATE:20260619
DTEND;VALUE=DATE:20260620
DESCRIPTION:All schools and offices will be closed in observance of Junetee
 nth.
LOCATION:
SUMMARY:Juneteenth
END:VEVENT
BEGIN:VEVENT
DTSTAMP:20260423T112212Z
UID:691255da-8e4a-4577-b176-68225bb32529
DTSTART;VALUE=DATE:20260622
DTEND;VALUE=DATE:20260623
DESCRIPTION:Last Day for 10+2 Employees
LOCATION:
SUMMARY:10+2 Employees Last Day
END:VEVENT
BEGIN:VEVENT
DTSTAMP:20260423T112212Z
UID:d6e7b6cd-9e8d-492f-bac8-ec348a785b02
DTSTART;VALUE=DATE:20260701
DTEND;VALUE=DATE:20260702
DESCRIPTION:First Day for 10+2 Employees
LOCATION:
SUMMARY:10+2 Employees - First Day
END:VEVENT
BEGIN:VEVENT
DTSTAMP:20260423T112212Z
UID:a84a5aa0-22ad-4227-a9b9-156cb6d35ada
DTSTART;VALUE=DATE:20260703
DTEND;VALUE=DATE:20260704
DESCRIPTION:
LOCATION:
SUMMARY:Independence Day (Observed)
END:VEVENT
BEGIN:VEVENT
DTSTAMP:20260423T112212Z
UID:4aef0a27-2486-4608-9fb8-0af49d19c318
DTSTART;VALUE=DATE:20260729
DTEND;VALUE=DATE:20260730
DESCRIPTION:First Day for 10+1 Employees
LOCATION:
SUMMARY:10+1 Employees - First Day
END:VEVENT
BEGIN:VEVENT
DTSTAMP:20260423T112212Z
UID:593458e4-9cf6-4534-8546-b5cafef5cd15
DTSTART;VALUE=DATE:20260810
DTEND;VALUE=DATE:20260811
DESCRIPTION:First Day for 200-Day Clerical Employees
LOCATION:
SUMMARY:200-Day Clerical Employees - First Day
END:VEVENT
BEGIN:VEVENT
DTSTAMP:20260423T112212Z
UID:7f35a021-dce1-454d-9d4e-4c328afe872d
DTSTART;VALUE=DATE:20260810
DTEND;VALUE=DATE:20260811
DESCRIPTION:First Day for 200-Day High School Counselors
LOCATION:
SUMMARY:200-Day High School Counselors - First Day
END:VEVENT
BEGIN:VEVENT
DTSTAMP:20260423T112212Z
UID:b46d654b-8fc7-4418-84a9-47ce085f56f7
DTSTART;VALUE=DATE:20260810
DTEND;VALUE=DATE:20260813
DESCRIPTION:
LOCATION:
SUMMARY:New Teacher Institute
END:VEVENT
BEGIN:VEVENT
DTSTAMP:20260423T112212Z
UID:36733e43-2405-4bb4-b400-dba5c371074c
DTSTART;VALUE=DATE:20260814
DTEND;VALUE=DATE:20260815
DESCRIPTION:First day for 10-Month Employees
LOCATION:
SUMMARY:10-Month Employees - First Day
END:VEVENT
BEGIN:VEVENT
DTSTAMP:20260423T112212Z
UID:9a8a03a8-de1b-4054-9055-dd026c718261
DTSTART;VALUE=DATE:20260824
DTEND;VALUE=DATE:20260825
DESCRIPTION:
LOCATION:
SUMMARY:First Day of School for Students
END:VEVENT
BEGIN:VEVENT
DTSTAMP:20260423T112212Z
UID:41ddf60e-56a6-4734-98a4-918469f3ea68
DTSTART;VALUE=DATE:20260904
DTEND;VALUE=DATE:20260905
DESCRIPTION:All schools and offices will be closed in observance of Labor D
 ay.
LOCATION:
SUMMARY:Labor Day (Observed) - Schools & Offices Closed
END:VEVENT
BEGIN:VEVENT
DTSTAMP:20260423T112212Z
UID:57937c61-8954-4c76-a100-e267cca307e8
DTSTART;VALUE=DATE:20260907
DTEND;VALUE=DATE:20260908
DESCRIPTION:All schools and offices will be closed in observance of Labor D
 ay.
LOCATION:
SUMMARY:Labor Day - Schools & Offices Closed
END:VEVENT
BEGIN:VEVENT
DTSTAMP:20260423T112212Z
UID:f2f2aefc-a439-4fb2-adf5-ad0679d04227
DTSTART:20260910T173000
DTEND:20260910T193000
DESCRIPTION:<p dir="ltr">6TH FLOOR CONFERENCE ROOM - 5:30 P.M.</p><p dir="l
 tr">DOCUMENTS FOR SCHOOL BOARD MEETING ARE AVAILABLE IN BOARDDOCS. YOU CAN
  ACCESS BOARDDOCS AT THE FOLLOWING LINK:</p><p dir="ltr"><a href="https://
 www.google.com/url?q=http://www.boarddocs.com/vsba/portsmouth/Board.nsf/vp
 ublic?open&amp\;sa=D&amp\;source=calendar&amp\;ust=1768246085386794&amp\;u
 sg=AOvVaw24dAxL3YIm8tZH2-iwZuiu" target="_blank"><u>http://www.boarddocs.c
 om/vsba/portsmouth/Board.nsf/vpublic?open</u></a></p>THE GENERAL PUBLIC CA
 N WATCH THE MEETING ON THE DIVISION&#39\;S FACEBOOK PAGE:  <a href="https
 ://www.google.com/url?q=https://www.facebook.com/ppsVA/live/&amp\;sa=D&amp
 \;source=calendar&amp\;ust=1768246085386794&amp\;usg=AOvVaw1q2ntDwcj-lAFmj
 miGvAaH" target="_blank"><u>https://www.facebook.com/ppsVA/live/</u></a>
LOCATION:Portsmouth City Hall\, 801 Crawford St\, Portsmouth\, VA 23704\, U
 SA
SUMMARY:School Board Special Meeting/Public Work Session
END:VEVENT
BEGIN:VEVENT
DTSTAMP:20260423T112212Z
UID:0705ebaa-3cf8-40f2-81bb-6090da3d0f13
DTSTART;VALUE=DATE:20260922
DTEND;VALUE=DATE:20260923
DESCRIPTION:
LOCATION:
SUMMARY:Progress Reports
END:VEVENT
BEGIN:VEVENT
DTSTAMP:20260423T112212Z
UID:4f8c4fe0-6890-46f3-9e8b-3d470af41825
DTSTART:20260924T180000
DTEND:20260924T203000
DESCRIPTION:<p><span>EARLY SESSION\, 6TH FLOOR CONFERENCE ROOM - 6:00 P.M.<
 /span></p><p>REGULAR MEETING\, COUNCIL CHAMBERS - 7:00 P.M. </p><p>DOCUME
 NTS FOR SCHOOL BOARD MEETING ARE AVAILABLE IN BOARDDOCS. YOU CAN ACCESS BO
 ARDDOCS AT THE FOLLOWING LINK:</p><p><a href="https://www.google.com/url?q
 =http://www.boarddocs.com/vsba/portsmouth/Board.nsf/vpublic?open&amp\;sa=D
 &amp\;source=calendar&amp\;ust=1768151959257487&amp\;usg=AOvVaw3BW34OjQty5
 EE0jYoJ9e8T" target="_blank">http://www.boarddocs.com/vsba/portsmouth/Boar
 d.nsf/vpublic?open</a></p><p>THE GENERAL PUBLIC CAN WATCH THE MEETING ON T
 HE DIVISION&#39\;S FACEBOOK PAGE:  <a href="https://www.google.com/url?q=
 https://www.facebook.com/ppsVA/live/&amp\;sa=D&amp\;source=calendar&amp\;u
 st=1768151959257487&amp\;usg=AOvVaw3OJwP-Y_wpONZIinmhyWRl" target="_blank"
 >https://www.facebook.com/ppsVA/live/</a></p>
LOCATION:Portsmouth City Hall\, 801 Crawford St\, Portsmouth\, VA 23704\, U
 SA
SUMMARY:School Board Regular Meeting
END:VEVENT
BEGIN:VEVENT
DTSTAMP:20260423T112212Z
UID:80a95859-0973-48a2-9bc0-fb60c715a729
DTSTART:20261008T173000
DTEND:20261008T193000
DESCRIPTION:<p dir="ltr">6TH FLOOR CONFERENCE ROOM - 5:30 P.M.</p><p dir="l
 tr">DOCUMENTS FOR SCHOOL BOARD MEETING ARE AVAILABLE IN BOARDDOCS. YOU CAN
  ACCESS BOARDDOCS AT THE FOLLOWING LINK:</p><p dir="ltr"><a href="https://
 www.google.com/url?q=http://www.boarddocs.com/vsba/portsmouth/Board.nsf/vp
 ublic?open&amp\;sa=D&amp\;source=calendar&amp\;ust=1768246085386794&amp\;u
 sg=AOvVaw24dAxL3YIm8tZH2-iwZuiu" target="_blank"><u>http://www.boarddocs.c
 om/vsba/portsmouth/Board.nsf/vpublic?open</u></a></p>THE GENERAL PUBLIC CA
 N WATCH THE MEETING ON THE DIVISION&#39\;S FACEBOOK PAGE:  <a href="https
 ://www.google.com/url?q=https://www.facebook.com/ppsVA/live/&amp\;sa=D&amp
 \;source=calendar&amp\;ust=1768246085386794&amp\;usg=AOvVaw1q2ntDwcj-lAFmj
 miGvAaH" target="_blank"><u>https://www.facebook.com/ppsVA/live/</u></a>
LOCATION:Portsmouth City Hall\, 801 Crawford St\, Portsmouth\, VA 23704\, U
 SA
SUMMARY:School Board Special Meeting/Public Work Session
END:VEVENT
BEGIN:VEVENT
DTSTAMP:20260423T112212Z
UID:bdb50228-58b5-4ca3-8388-8c48d89bba8c
DTSTART:20261022T180000
DTEND:20261022T203000
DESCRIPTION:<p><span>EARLY SESSION\, 6TH FLOOR CONFERENCE ROOM - 6:00 P.M.<
 /span></p><p>REGULAR MEETING\, COUNCIL CHAMBERS - 7:00 P.M. </p><p>DOCUME
 NTS FOR SCHOOL BOARD MEETING ARE AVAILABLE IN BOARDDOCS. YOU CAN ACCESS BO
 ARDDOCS AT THE FOLLOWING LINK:</p><p><a href="https://www.google.com/url?q
 =http://www.boarddocs.com/vsba/portsmouth/Board.nsf/vpublic?open&amp\;sa=D
 &amp\;source=calendar&amp\;ust=1768151959257487&amp\;usg=AOvVaw3BW34OjQty5
 EE0jYoJ9e8T" target="_blank">http://www.boarddocs.com/vsba/portsmouth/Boar
 d.nsf/vpublic?open</a></p><p>THE GENERAL PUBLIC CAN WATCH THE MEETING ON T
 HE DIVISION&#39\;S FACEBOOK PAGE:  <a href="https://www.google.com/url?q=
 https://www.facebook.com/ppsVA/live/&amp\;sa=D&amp\;source=calendar&amp\;u
 st=1768151959257487&amp\;usg=AOvVaw3OJwP-Y_wpONZIinmhyWRl" target="_blank"
 >https://www.facebook.com/ppsVA/live/</a></p>
LOCATION:Portsmouth City Hall\, 801 Crawford St\, Portsmouth\, VA 23704\, U
 SA
SUMMARY:School Board Regular Meeting
END:VEVENT
BEGIN:VEVENT
DTSTAMP:20260423T112212Z
UID:6b4c44fa-8785-423a-8ff9-940284309bc3
DTSTART;VALUE=DATE:20261030
DTEND;VALUE=DATE:20261031
DESCRIPTION:No School for Students - Staff/Professional Development Day
LOCATION:
SUMMARY:Staff/Professional Development Day - No School for Students
END:VEVENT
BEGIN:VEVENT
DTSTAMP:20260423T112212Z
UID:cb1f0376-d847-4f99-bb58-68d50139709c
DTSTART;VALUE=DATE:20261102
DTEND;VALUE=DATE:20261103
DESCRIPTION:No School for Students - Staff/Professional Development Day
LOCATION:
SUMMARY:Staff/Professional Development Day - No School for Students
END:VEVENT
BEGIN:VEVENT
DTSTAMP:20260423T112212Z
UID:948b08a3-e063-41ba-9890-ba65617ffeb8
DTSTART;VALUE=DATE:20261103
DTEND;VALUE=DATE:20261104
DESCRIPTION:No School for Students - Teacher Workday
LOCATION:
SUMMARY:Teacher Workday - No School for Students
END:VEVENT
BEGIN:VEVENT
DTSTAMP:20260423T112212Z
UID:a7ef6041-b13f-4ec3-b060-c89f17d6b052
DTSTART;VALUE=DATE:20261110
DTEND;VALUE=DATE:20261111
DESCRIPTION:
LOCATION:
SUMMARY:Report Cards
END:VEVENT
BEGIN:VEVENT
DTSTAMP:20260423T112212Z
UID:e8f3ac8f-aec4-4754-88e1-38e374a0a2cb
DTSTART;VALUE=DATE:20261111
DTEND;VALUE=DATE:20261112
DESCRIPTION:All schools and offices will be closed in observance of Veteran
 s Day.
LOCATION:
SUMMARY:Verterans Day - Schools & Offices Closed
END:VEVENT
BEGIN:VEVENT
DTSTAMP:20260423T112212Z
UID:11af48f7-a095-476c-9c3d-b927390a5c84
DTSTART:20261112T180000
DTEND:20261112T203000
DESCRIPTION:<p><span>EARLY SESSION\, 6TH FLOOR CONFERENCE ROOM - 6:00 P.M.<
 /span></p><p>REGULAR MEETING\, COUNCIL CHAMBERS - 7:00 P.M. </p><p>DOCUME
 NTS FOR SCHOOL BOARD MEETING ARE AVAILABLE IN BOARDDOCS. YOU CAN ACCESS BO
 ARDDOCS AT THE FOLLOWING LINK:</p><p><a href="https://www.google.com/url?q
 =http://www.boarddocs.com/vsba/portsmouth/Board.nsf/vpublic?open&amp\;sa=D
 &amp\;source=calendar&amp\;ust=1768151959257487&amp\;usg=AOvVaw3BW34OjQty5
 EE0jYoJ9e8T" target="_blank">http://www.boarddocs.com/vsba/portsmouth/Boar
 d.nsf/vpublic?open</a></p><p>THE GENERAL PUBLIC CAN WATCH THE MEETING ON T
 HE DIVISION&#39\;S FACEBOOK PAGE:  <a href="https://www.google.com/url?q=
 https://www.facebook.com/ppsVA/live/&amp\;sa=D&amp\;source=calendar&amp\;u
 st=1768151959257487&amp\;usg=AOvVaw3OJwP-Y_wpONZIinmhyWRl" target="_blank"
 >https://www.facebook.com/ppsVA/live/</a></p>
LOCATION:Portsmouth City Hall\, 801 Crawford St\, Portsmouth\, VA 23704\, U
 SA
SUMMARY:School Board Regular Meeting
END:VEVENT
BEGIN:VEVENT
DTSTAMP:20260423T112212Z
UID:8e0aeaac-6673-4055-8cc8-0bd1de0e9a4a
DTSTART;VALUE=DATE:20261125
DTEND;VALUE=DATE:20261128
DESCRIPTION:All schools and offices will be closed in observance of Thanksg
 iving Break.
LOCATION:
SUMMARY:Thanksgiving Break - Schools & Offices Closed
END:VEVENT
BEGIN:VEVENT
DTSTAMP:20260423T112212Z
UID:bf651aac-9bad-4972-8233-8320a52c2099
DTSTART;VALUE=DATE:20261201
DTEND;VALUE=DATE:20261202
DESCRIPTION:
LOCATION:
SUMMARY:Progress Reports
END:VEVENT
BEGIN:VEVENT
DTSTAMP:20260423T112212Z
UID:23806e41-8c5c-42b1-aa8b-b4918effb3e6
DTSTART:20261203T173000
DTEND:20261203T193000
DESCRIPTION:<p dir="ltr">6TH FLOOR CONFERENCE ROOM - 5:30 P.M.</p><p dir="l
 tr">DOCUMENTS FOR SCHOOL BOARD MEETING ARE AVAILABLE IN BOARDDOCS. YOU CAN
  ACCESS BOARDDOCS AT THE FOLLOWING LINK:</p><p dir="ltr"><a href="https://
 www.google.com/url?q=http://www.boarddocs.com/vsba/portsmouth/Board.nsf/vp
 ublic?open&amp\;sa=D&amp\;source=calendar&amp\;ust=1768246085386794&amp\;u
 sg=AOvVaw24dAxL3YIm8tZH2-iwZuiu" target="_blank"><u>http://www.boarddocs.c
 om/vsba/portsmouth/Board.nsf/vpublic?open</u></a></p>THE GENERAL PUBLIC CA
 N WATCH THE MEETING ON THE DIVISION&#39\;S FACEBOOK PAGE:  <a href="https
 ://www.google.com/url?q=https://www.facebook.com/ppsVA/live/&amp\;sa=D&amp
 \;source=calendar&amp\;ust=1768246085386794&amp\;usg=AOvVaw1q2ntDwcj-lAFmj
 miGvAaH" target="_blank"><u>https://www.facebook.com/ppsVA/live/</u></a>
LOCATION:Portsmouth City Hall\, 801 Crawford St\, Portsmouth\, VA 23704\, U
 SA
SUMMARY:School Board Special Meeting/Public Work Session
END:VEVENT
BEGIN:VEVENT
DTSTAMP:20260423T112212Z
UID:042fdd9f-d104-44b8-9e13-6ab105ae8a1d
DTSTART:20261217T180000
DTEND:20261217T203000
DESCRIPTION:<p><span>EARLY SESSION\, 6TH FLOOR CONFERENCE ROOM - 6:00 P.M.<
 /span></p><p>REGULAR MEETING\, COUNCIL CHAMBERS - 7:00 P.M. </p><p>DOCUME
 NTS FOR SCHOOL BOARD MEETING ARE AVAILABLE IN BOARDDOCS. YOU CAN ACCESS BO
 ARDDOCS AT THE FOLLOWING LINK:</p><p><a href="https://www.google.com/url?q
 =http://www.boarddocs.com/vsba/portsmouth/Board.nsf/vpublic?open&amp\;sa=D
 &amp\;source=calendar&amp\;ust=1768151959257487&amp\;usg=AOvVaw3BW34OjQty5
 EE0jYoJ9e8T" target="_blank">http://www.boarddocs.com/vsba/portsmouth/Boar
 d.nsf/vpublic?open</a></p><p>THE GENERAL PUBLIC CAN WATCH THE MEETING ON T
 HE DIVISION&#39\;S FACEBOOK PAGE:  <a href="https://www.google.com/url?q=
 https://www.facebook.com/ppsVA/live/&amp\;sa=D&amp\;source=calendar&amp\;u
 st=1768151959257487&amp\;usg=AOvVaw3OJwP-Y_wpONZIinmhyWRl" target="_blank"
 >https://www.facebook.com/ppsVA/live/</a></p>
LOCATION:Portsmouth City Hall\, 801 Crawford St\, Portsmouth\, VA 23704\, U
 SA
SUMMARY:School Board Regular Meeting
END:VEVENT
BEGIN:VEVENT
DTSTAMP:20260423T112212Z
UID:73601c6c-1156-4e28-af26-b271d92027fc
DTSTART;VALUE=DATE:20261221
DTEND;VALUE=DATE:20261226
DESCRIPTION:All schools and offices will be closed in observance of Winter 
 Break.
LOCATION:
SUMMARY:Winter Break
END:VEVENT
BEGIN:VEVENT
DTSTAMP:20260423T112212Z
UID:a86ef9d6-31f0-4e35-ad73-e45e6af1d26f
DTSTART;VALUE=DATE:20261228
DTEND;VALUE=DATE:20270102
DESCRIPTION:All schools and offices will be closed in observance of Winter 
 Break.
LOCATION:
SUMMARY:Winter Break
END:VEVENT
BEGIN:VEVENT
DTSTAMP:20260423T112212Z
UID:29e9c08e-7d8d-40d5-9da6-f850edb33247
DTSTART;VALUE=DATE:20261228
DTEND;VALUE=DATE:20270102
DESCRIPTION:All schools and offices will be closed in observance of Winter 
 Break.
LOCATION:
SUMMARY:Winter Break
END:VEVENT
BEGIN:VEVENT
DTSTAMP:20260423T112212Z
UID:f2ead126-787e-48ea-8880-0a67d003d642
DTSTART;VALUE=DATE:20270104
DTEND;VALUE=DATE:20270106
DESCRIPTION:No School for Students - Staff/Professional Development Day
LOCATION:
SUMMARY:Staff/Professional Development Day - No School for Students
END:VEVENT
BEGIN:VEVENT
DTSTAMP:20260423T112212Z
UID:b0d80b9c-dafd-4cd1-bddb-0423ce0d81b9
DTSTART;VALUE=DATE:20270104
DTEND;VALUE=DATE:20270109
DESCRIPTION:All schools and offices will be closed in observance of Winter 
 Break.
LOCATION:
SUMMARY:Winter Break
END:VEVENT
BEGIN:VEVENT
DTSTAMP:20260423T112212Z
UID:84a99f2d-cb12-4def-b833-f893312093fc
DTSTART;VALUE=DATE:20270118
DTEND;VALUE=DATE:20270119
DESCRIPTION:All schools and offices will be closed in observance of Dr. Mar
 tin Luther King\, Jr. Day.
LOCATION:
SUMMARY:Dr. Martin Luther King\, Jr. Day - Schools & Offices Closed
END:VEVENT
BEGIN:VEVENT
DTSTAMP:20260423T112212Z
UID:2e310c39-50a4-4dab-86d3-78b9ac80f238
DTSTART;VALUE=DATE:20270122
DTEND;VALUE=DATE:20270123
DESCRIPTION:No School for Students - Teacher Workday
LOCATION:
SUMMARY:Teacher Workday - No School for Students
END:VEVENT
BEGIN:VEVENT
DTSTAMP:20260423T112212Z
UID:fbcc83ba-e098-41d8-bdb8-1df0fa8b3508
DTSTART;VALUE=DATE:20270129
DTEND;VALUE=DATE:20270130
DESCRIPTION:
LOCATION:
SUMMARY:Report Cards
END:VEVENT
BEGIN:VEVENT
DTSTAMP:20260423T112212Z
UID:19ce2884-f5a3-4c05-8f00-470fd425f81e
DTSTART;VALUE=DATE:20270215
DTEND;VALUE=DATE:20270216
DESCRIPTION:All schools and offices will be closed in observance of Preside
 nts Day.
LOCATION:
SUMMARY:Presidents Day - Schools & Offices Closed
END:VEVENT
BEGIN:VEVENT
DTSTAMP:20260423T112212Z
UID:8e4cf756-a069-4bc8-a4c5-dee7d11ed71d
DTSTART;VALUE=DATE:20270223
DTEND;VALUE=DATE:20270224
DESCRIPTION:
LOCATION:
SUMMARY:Progress Reports
END:VEVENT
BEGIN:VEVENT
DTSTAMP:20260423T112212Z
UID:8fe85ae0-aa9f-4156-9452-228ad6823e8d
DTSTART;VALUE=DATE:20270325
DTEND;VALUE=DATE:20270326
DESCRIPTION:No School for Students - Staff/Professional Development Day
LOCATION:
SUMMARY:Staff/Professional Development Day - No School for Students
END:VEVENT
BEGIN:VEVENT
DTSTAMP:20260423T112212Z
UID:7a1288fb-35be-4f95-9791-71843d6c5d7d
DTSTART;VALUE=DATE:20270326
DTEND;VALUE=DATE:20270327
DESCRIPTION:No School for Students - Teacher Workday
LOCATION:
SUMMARY:Teacher Workday - No School for Students
END:VEVENT
BEGIN:VEVENT
DTSTAMP:20260423T112212Z
UID:0cbee9bd-55ef-49df-ae14-d4ff8a92136a
DTSTART;VALUE=DATE:20270329
DTEND;VALUE=DATE:20270403
DESCRIPTION:All schools and offices will be closed in observance of Spring 
 Break.
LOCATION:
SUMMARY:Spring Break
END:VEVENT
BEGIN:VEVENT
DTSTAMP:20260423T112212Z
UID:7d95f451-30a0-405a-a275-bb8ff9e9babb
DTSTART;VALUE=DATE:20270409
DTEND;VALUE=DATE:20270410
DESCRIPTION:
LOCATION:
SUMMARY:Report Cards
END:VEVENT
BEGIN:VEVENT
DTSTAMP:20260423T112212Z
UID:2f8d832d-0d90-40db-84b7-d5fdb911fdcf
DTSTART;VALUE=DATE:20270504
DTEND;VALUE=DATE:20270505
DESCRIPTION:
LOCATION:
SUMMARY:Progress Reports
END:VEVENT
BEGIN:VEVENT
DTSTAMP:20260423T112212Z
UID:899be231-217e-437c-9ad7-520a73509ed6
DTSTART;VALUE=DATE:20270531
DTEND;VALUE=DATE:20270601
DESCRIPTION:All schools and offices will be closed in observance of Memoria
 l Day.
LOCATION:
SUMMARY:Memorial Day - Schools & Offices Closed
END:VEVENT
BEGIN:VEVENT
DTSTAMP:20260423T112212Z
UID:4e8f6ec5-d914-4e14-9970-7a3158dedb06
DTSTART;VALUE=DATE:20270611
DTEND;VALUE=DATE:20270612
DESCRIPTION:Early Release - Last Day of School for Students
LOCATION:
SUMMARY:Last Day of School for Students - Early Release
END:VEVENT
BEGIN:VEVENT
DTSTAMP:20260423T112212Z
UID:d2721a96-ee02-4fdd-9a0a-e6813ad0686a
DTSTART;VALUE=DATE:20270614
DTEND;VALUE=DATE:20270615
DESCRIPTION:Last day for 10-Month Employees
LOCATION:
SUMMARY:10-Month Employees Last Day
END:VEVENT
BEGIN:VEVENT
DTSTAMP:20260423T112212Z
UID:5731c903-9f18-4462-bc05-82be91e7df98
DTSTART;VALUE=DATE:20270617
DTEND;VALUE=DATE:20270618
DESCRIPTION:Last Day for 200-Day Clerical Employees
LOCATION:
SUMMARY:200-Day Clerical Employees - Last Day
END:VEVENT
BEGIN:VEVENT
DTSTAMP:20260423T112212Z
UID:857e7055-14f1-4731-a2ed-a1426a6a332c
DTSTART;VALUE=DATE:20270617
DTEND;VALUE=DATE:20270618
DESCRIPTION:Last Day for 200-Day High School Counselors
LOCATION:
SUMMARY:200-Day High School Counselors - Last Day
END:VEVENT
BEGIN:VEVENT
DTSTAMP:20260423T112212Z
UID:7073db19-917a-4a72-bbfd-4c670f14b36a
DTSTART;VALUE=DATE:20270617
DTEND;VALUE=DATE:20270618
DESCRIPTION:
LOCATION:
SUMMARY:Report Cards
END:VEVENT
BEGIN:VEVENT
DTSTAMP:20260423T112212Z
UID:5b2d455f-b04c-43c3-beac-3790f3a76fed
DTSTART;VALUE=DATE:20270618
DTEND;VALUE=DATE:20270619
DESCRIPTION:All schools and offices will be closed in observance of Junetee
 nth.
LOCATION:
SUMMARY:Juneteenth (Observed)
END:VEVENT
BEGIN:VEVENT
DTSTAMP:20260423T112212Z
UID:9939162b-7a9b-422d-a79b-6d4e2fb2028e
DTSTART;VALUE=DATE:20270625
DTEND;VALUE=DATE:20270626
DESCRIPTION:Last Day for 10+1 Employees
LOCATION:
SUMMARY:10+1 Employees Last Day
END:VEVENT
BEGIN:VEVENT
DTSTAMP:20260423T112212Z
UID:62a7de13-2e09-49ab-9f4a-1d147fb0b96a
DTSTART;VALUE=DATE:20270629
DTEND;VALUE=DATE:20270630
DESCRIPTION:Last Day for 10+2 Employees
LOCATION:
SUMMARY:10+2 Employees Last Day
END:VEVENT
END:VCALENDAR
