BEGIN:VCALENDAR
VERSION:2.0
PRODID:icalendar-ruby
CALSCALE:GREGORIAN
BEGIN:VTIMEZONE
TZID:America/New_York
BEGIN:DAYLIGHT
DTSTART:20260308T030000
TZOFFSETFROM:-0500
TZOFFSETTO:-0400
RRULE:FREQ=YEARLY;BYDAY=2SU;BYMONTH=3
TZNAME:EDT
END:DAYLIGHT
BEGIN:STANDARD
DTSTART:20261101T010000
TZOFFSETFROM:-0400
TZOFFSETTO:-0500
RRULE:FREQ=YEARLY;BYDAY=1SU;BYMONTH=11
TZNAME:EST
END:STANDARD
END:VTIMEZONE
BEGIN:VEVENT
DTSTAMP:20260422T085004Z
UID:dbc34f6c-8a84-444f-8475-edd4615f7107
DTSTART:20260420T080000
DTEND:20260424T090000
DESCRIPTION:
LOCATION:
SUMMARY:Volunteer Appreciation Week
END:VEVENT
BEGIN:VEVENT
DTSTAMP:20260422T085004Z
UID:2680fefd-9b1f-44be-a799-1d1f69d81d31
DTSTART;VALUE=DATE:20260422
DTEND;VALUE=DATE:20260423
DESCRIPTION:
LOCATION:
SUMMARY:Administrative Professional Day
END:VEVENT
BEGIN:VEVENT
DTSTAMP:20260422T085004Z
UID:9ff9c02b-25a4-45aa-9e27-3afc59a09c2c
DTSTART;VALUE=DATE:20260422
DTEND;VALUE=DATE:20260423
DESCRIPTION:
LOCATION:Media Center
SUMMARY:Superintendent's Readers Award
END:VEVENT
BEGIN:VEVENT
DTSTAMP:20260422T085004Z
UID:34eb02eb-c0a5-46dc-a088-8823efbbbff9
DTSTART:20260423T173000
DTEND:20260423T183000
DESCRIPTION:
LOCATION:PAC
SUMMARY:NJHS Induction
END:VEVENT
BEGIN:VEVENT
DTSTAMP:20260422T085004Z
UID:2948c157-6037-49cd-918c-4f0edd390ae3
DTSTART;VALUE=DATE:20260424
DTEND;VALUE=DATE:20260425
DESCRIPTION:
LOCATION:
SUMMARY:SGA Officer Elections
END:VEVENT
BEGIN:VEVENT
DTSTAMP:20260422T085004Z
UID:8165ccb7-4350-4128-8374-6983ee32cadf
DTSTART:20260430T134500
DTEND:20260430T143000
DESCRIPTION:
LOCATION:Media Center
SUMMARY:SGA Officer Swearing In
END:VEVENT
BEGIN:VEVENT
DTSTAMP:20260422T085004Z
UID:888f2ddb-0cf8-4527-9331-0d18d1cc24f7
DTSTART;VALUE=DATE:20260504
DTEND;VALUE=DATE:20260509
DESCRIPTION:
LOCATION:
SUMMARY:Teacher Appreciation Week
END:VEVENT
BEGIN:VEVENT
DTSTAMP:20260422T085004Z
UID:078f7dbd-00b2-451e-908e-4918ddaa93c0
DTSTART:20260505T180000
DTEND:20260505T190000
DESCRIPTION:
LOCATION:PAC
SUMMARY:Spring Band Concert
END:VEVENT
BEGIN:VEVENT
DTSTAMP:20260422T085004Z
UID:b2c91f79-919a-48e2-9e14-707d43541d6c
DTSTART;VALUE=DATE:20260506
DTEND;VALUE=DATE:20260507
DESCRIPTION:
LOCATION:
SUMMARY:School Nurse Appreciation Day
END:VEVENT
BEGIN:VEVENT
DTSTAMP:20260422T085004Z
UID:fdbae8c5-35b7-487d-a3f3-76dc5f711360
DTSTART;VALUE=DATE:20260508
DTEND;VALUE=DATE:20260509
DESCRIPTION:
LOCATION:5901 College Rd\, Key West\, FL 33040\, USA
SUMMARY:CFK Graduation Ceremonies
END:VEVENT
BEGIN:VEVENT
DTSTAMP:20260422T085004Z
UID:70a2009c-4ab8-499c-955b-7bd9e4b6f70a
DTSTART:20260511T170000
DTEND:20260511T190000
DESCRIPTION:<p>Juniors 5 p.m.\, seinors 6:30 p.m.</p>
LOCATION:7107
SUMMARY:TSIC Junior & Senior Workshops
END:VEVENT
BEGIN:VEVENT
DTSTAMP:20260422T085004Z
UID:4fb1fc11-b975-4bbe-906a-299ecceb7341
DTSTART:20260512T180000
DTEND:20260512T190000
DESCRIPTION:
LOCATION:PAC
SUMMARY:Thespian Induction Ceremony
END:VEVENT
BEGIN:VEVENT
DTSTAMP:20260422T085004Z
UID:7599965f-54f8-4613-939d-bbf7df560001
DTSTART:20260514T180000
DTEND:20260514T190000
DESCRIPTION:
LOCATION:MHS Media Center
SUMMARY:School Advisory Council Meeting
END:VEVENT
BEGIN:VEVENT
DTSTAMP:20260422T085004Z
UID:6ee13702-9853-42fd-a699-ce6ea1cb7975
DTSTART:20260516T090000
DTEND:20260516T130000
DESCRIPTION:
LOCATION:PAC and Cafeteria
SUMMARY:TSIC Graduatiopn 
END:VEVENT
BEGIN:VEVENT
DTSTAMP:20260422T085004Z
UID:cde63cd5-dd7d-4aed-8431-9966d6b374a9
DTSTART:20260516T200000
DTEND:20260516T230000
DESCRIPTION:
LOCATION:Faro Blanco
SUMMARY:Prom 
END:VEVENT
BEGIN:VEVENT
DTSTAMP:20260422T085004Z
UID:4c140865-37b7-4781-93e0-51392aa92c21
DTSTART:20260518T064500
DTEND:20260518T071500
DESCRIPTION:
LOCATION:Dolphin Bistro
SUMMARY:Senior Breakfast
END:VEVENT
BEGIN:VEVENT
DTSTAMP:20260422T085004Z
UID:1a7100c4-687c-4c89-8ee0-b6412f85f4f8
DTSTART:20260518T080000
DTEND:20260518T090000
DESCRIPTION:
LOCATION:
SUMMARY:Senior Finals 1-3
END:VEVENT
BEGIN:VEVENT
DTSTAMP:20260422T085004Z
UID:ad688042-3b9b-4f85-af3f-20327518cb59
DTSTART:20260518T133000
DTEND:20260518T143000
DESCRIPTION:
LOCATION:PAC
SUMMARY:AVID Graduation
END:VEVENT
BEGIN:VEVENT
DTSTAMP:20260422T085004Z
UID:7a8bd0b0-35d7-44ba-b0c6-49ad74db6c62
DTSTART;VALUE=DATE:20260519
DTEND;VALUE=DATE:20260520
DESCRIPTION:
LOCATION:
SUMMARY:Senior Finals 4/5
END:VEVENT
BEGIN:VEVENT
DTSTAMP:20260422T085004Z
UID:88d9acf7-36e1-4f05-98e3-20f6ae824532
DTSTART:20260519T110000
DTEND:20260519T120000
DESCRIPTION:
LOCATION:Dolphin Bistro
SUMMARY:Senior Lunch
END:VEVENT
BEGIN:VEVENT
DTSTAMP:20260422T085004Z
UID:5e80a14a-e068-4070-95fb-d263da99757b
DTSTART;VALUE=DATE:20260520
DTEND;VALUE=DATE:20260521
DESCRIPTION:
LOCATION:
SUMMARY:Senior Finals 6 & 7
END:VEVENT
BEGIN:VEVENT
DTSTAMP:20260422T085004Z
UID:fd7a6c0c-3ff0-4155-849a-d70f664be95f
DTSTART:20260520T140000
DTEND:20260520T143000
DESCRIPTION:
LOCATION:Gym
SUMMARY:Senior Parade
END:VEVENT
BEGIN:VEVENT
DTSTAMP:20260422T085004Z
UID:24fb237e-7780-441e-8d14-ffadf00ab610
DTSTART:20260520T173000
DTEND:20260520T200000
DESCRIPTION:
LOCATION:
SUMMARY:Senior Dinner
END:VEVENT
BEGIN:VEVENT
DTSTAMP:20260422T085004Z
UID:9d540ac5-5125-4470-81f6-8b610668598e
DTSTART:20260522T110000
DTEND:20260522T113000
DESCRIPTION:
LOCATION:
SUMMARY:Senior Switlik Walk
END:VEVENT
BEGIN:VEVENT
DTSTAMP:20260422T085004Z
UID:8254a878-0148-4e2b-8922-98eaa74cf54a
DTSTART:20260524T170000
DTEND:20260524T180000
DESCRIPTION:
LOCATION:San Pablo
SUMMARY:Baccalaureate
END:VEVENT
BEGIN:VEVENT
DTSTAMP:20260422T085004Z
UID:f7bfc397-10e3-4b9f-990f-6f50e9c771c1
DTSTART;VALUE=DATE:20260525
DTEND;VALUE=DATE:20260526
DESCRIPTION:
LOCATION:
SUMMARY:Memorial Day (no school)
END:VEVENT
BEGIN:VEVENT
DTSTAMP:20260422T085004Z
UID:ce8fe705-02cf-4090-9c40-2e2f3dfa8f76
DTSTART:20260526T073000
DTEND:20260526T090000
DESCRIPTION:
LOCATION:
SUMMARY:High School Semester Final Period 1
END:VEVENT
BEGIN:VEVENT
DTSTAMP:20260422T085004Z
UID:327ff9f2-da06-41bf-90f5-17a060c6bd96
DTSTART:20260526T180000
DTEND:20260526T220000
DESCRIPTION:
LOCATION:PAC    
SUMMARY:Capping Ceremony & Class Night
END:VEVENT
BEGIN:VEVENT
DTSTAMP:20260422T085004Z
UID:3e91a526-9a51-4220-8f1f-9c0f36437276
DTSTART;VALUE=DATE:20260527
DTEND;VALUE=DATE:20260528
DESCRIPTION:
LOCATION:
SUMMARY:High School  Semester 1 Final Periods 2/3
END:VEVENT
BEGIN:VEVENT
DTSTAMP:20260422T085004Z
UID:c02b726a-61e0-439b-b7b8-6fa0fec6ce29
DTSTART:20260527T180000
DTEND:20260527T190000
DESCRIPTION:
LOCATION:PAC 
SUMMARY:Grade 8 Moving Up Ceremony
END:VEVENT
BEGIN:VEVENT
DTSTAMP:20260422T085004Z
UID:5743b69c-1ce1-466f-b7b9-3f9bbf57898a
DTSTART;VALUE=DATE:20260528
DTEND;VALUE=DATE:20260529
DESCRIPTION:
LOCATION:
SUMMARY:High School Semester 2 Finals Periods 4/5
END:VEVENT
BEGIN:VEVENT
DTSTAMP:20260422T085004Z
UID:d5a272d3-747d-4ebe-be58-d6fcc6e0cb55
DTSTART:20260528T190000
DTEND:20260528T200000
DESCRIPTION:
LOCATION:Gymnasium
SUMMARY:Graduation
END:VEVENT
BEGIN:VEVENT
DTSTAMP:20260422T085004Z
UID:e1e5b201-2ae8-4fcf-a904-654585f402b4
DTSTART;VALUE=DATE:20260529
DTEND;VALUE=DATE:20260530
DESCRIPTION:
LOCATION:
SUMMARY:End of 2nd Semester (Early Dismissal)
END:VEVENT
BEGIN:VEVENT
DTSTAMP:20260422T085004Z
UID:d5d0f4cd-0bef-4af7-b5bc-c158332e9cf7
DTSTART;VALUE=DATE:20260529
DTEND;VALUE=DATE:20260530
DESCRIPTION:
LOCATION:
SUMMARY:High School Semester 2 Finals Periods 6/7
END:VEVENT
BEGIN:VEVENT
DTSTAMP:20260422T085004Z
UID:6d43a39f-7043-4a8a-84ad-79cb5585972c
DTSTART;VALUE=DATE:20260601
DTEND;VALUE=DATE:20260602
DESCRIPTION:
LOCATION:
SUMMARY:Professional Day (no students)
END:VEVENT
BEGIN:VEVENT
DTSTAMP:20260422T085004Z
UID:e2b4d9aa-ac75-4921-af18-0643154d26ec
DTSTART:20260603T080000
DTEND:20260603T090000
DESCRIPTION:
LOCATION:
SUMMARY:Report Cards
END:VEVENT
END:VCALENDAR
