BEGIN:VCALENDAR
VERSION:2.0
PRODID:icalendar-ruby
CALSCALE:GREGORIAN
BEGIN:VTIMEZONE
TZID:America/New_York
BEGIN:DAYLIGHT
DTSTART:20260308T030000
TZOFFSETFROM:-0500
TZOFFSETTO:-0400
RRULE:FREQ=YEARLY;BYDAY=2SU;BYMONTH=3
TZNAME:EDT
END:DAYLIGHT
BEGIN:STANDARD
DTSTART:20261101T010000
TZOFFSETFROM:-0400
TZOFFSETTO:-0500
RRULE:FREQ=YEARLY;BYDAY=1SU;BYMONTH=11
TZNAME:EST
END:STANDARD
END:VTIMEZONE
BEGIN:VEVENT
DTSTAMP:20260421T172707Z
UID:61d7954d-3abf-42ed-a653-b73dda0c7a07
DTSTART:20260422T190000
DTEND:20260422T200000
DESCRIPTION:
LOCATION:
SUMMARY:SEPTA General Meeting @ MKE Senior Center
END:VEVENT
BEGIN:VEVENT
DTSTAMP:20260421T172707Z
UID:561c3683-691e-4d6f-ba9b-11a5208db546
DTSTART:20260426T150000
DTEND:20260426T180000
DESCRIPTION:
LOCATION:
SUMMARY:Massapequa Philharmonic Orchestra Concert @ BMS
END:VEVENT
BEGIN:VEVENT
DTSTAMP:20260421T172707Z
UID:1c53ca2b-def6-43d2-8f84-c304eb67127f
DTSTART:20260427T193000
DTEND:20260427T210000
DESCRIPTION:
LOCATION:MHS Auditorium
SUMMARY:Meet the Candidate Night
END:VEVENT
BEGIN:VEVENT
DTSTAMP:20260421T172707Z
UID:c4191119-29eb-4496-bef2-ed81d0e401e6
DTSTART;VALUE=DATE:20260428
DTEND;VALUE=DATE:20260429
DESCRIPTION:
LOCATION:
SUMMARY:Nassau BOCES Budget Vote
END:VEVENT
BEGIN:VEVENT
DTSTAMP:20260421T172707Z
UID:c2ae1edc-47fd-4b6b-9383-8fa8351d5c4d
DTSTART;VALUE=DATE:20260429
DTEND;VALUE=DATE:20260430
DESCRIPTION:
LOCATION:
SUMMARY:Grade 5 NYS Science Assessment
END:VEVENT
BEGIN:VEVENT
DTSTAMP:20260421T172707Z
UID:eb9deacf-8377-428f-a742-f1ec676979e8
DTSTART:20260430T190000
DTEND:20260430T210000
DESCRIPTION:
LOCATION:
SUMMARY:UQE  Advanced Concert @ BMS
END:VEVENT
BEGIN:VEVENT
DTSTAMP:20260421T172707Z
UID:20a5748f-27f1-44e5-b560-14a04907afe8
DTSTART;VALUE=DATE:20260501
DTEND;VALUE=DATE:20260503
DESCRIPTION:
LOCATION:
SUMMARY:NYSSMA All Instumental & Vocal Jazz Festival
END:VEVENT
BEGIN:VEVENT
DTSTAMP:20260421T172707Z
UID:ebbc7e8f-7d98-4fef-bcf5-ba0276cd54fd
DTSTART;VALUE=DATE:20260502
DTEND;VALUE=DATE:20260503
DESCRIPTION:
LOCATION:
SUMMARY:Special Olympics (Hosted by Massapequa)
END:VEVENT
BEGIN:VEVENT
DTSTAMP:20260421T172707Z
UID:724d2c7b-d005-4957-9e25-71db25f9c333
DTSTART:20260507T094500
DTEND:20260507T104500
DESCRIPTION:
LOCATION:
SUMMARY:UQE PTA General Meeting
END:VEVENT
BEGIN:VEVENT
DTSTAMP:20260421T172707Z
UID:eae3a386-85d0-43d7-be7c-60c85ebcb5ca
DTSTART:20260507T200000
DTEND:20260507T220000
DESCRIPTION:
LOCATION:
SUMMARY:BOE Public Session - Budget Hearing
END:VEVENT
BEGIN:VEVENT
DTSTAMP:20260421T172707Z
UID:ecf3025c-f414-4016-afaa-454f2fe7607b
DTSTART:20260511T194500
DTEND:20260511T214500
DESCRIPTION:
LOCATION:
SUMMARY:Library Board Meeting @ Bar Harbour
END:VEVENT
BEGIN:VEVENT
DTSTAMP:20260421T172707Z
UID:b8fb6644-74b6-4e69-aca5-c4fbd912b82d
DTSTART;VALUE=DATE:20260512
DTEND;VALUE=DATE:20260514
DESCRIPTION:
LOCATION:
SUMMARY:Grades 3-5 NYS Math Assessment
END:VEVENT
BEGIN:VEVENT
DTSTAMP:20260421T172707Z
UID:135eded8-11ad-4129-bf77-93f347224c0b
DTSTART:20260512T160000
DTEND:20260512T200000
DESCRIPTION:
LOCATION:
SUMMARY:Voter Registration Day @ FFE\, LHE\, MKE\, MHS
END:VEVENT
BEGIN:VEVENT
DTSTAMP:20260421T172707Z
UID:f0c48de2-78a9-4a76-a855-cdddd442e392
DTSTART:20260513T183000
DTEND:20260513T210000
DESCRIPTION:
LOCATION:
SUMMARY:All Elementary Rehearsal #1 @ BMS
END:VEVENT
BEGIN:VEVENT
DTSTAMP:20260421T172707Z
UID:fe3e5425-311b-4cb2-9439-5b6b8ab1a55f
DTSTART;VALUE=DATE:20260514
DTEND;VALUE=DATE:20260515
DESCRIPTION:
LOCATION:
SUMMARY:Last Day for Voter Registration
END:VEVENT
BEGIN:VEVENT
DTSTAMP:20260421T172707Z
UID:4d0e674d-9054-4519-8cb6-ff595844a0de
DTSTART:20260514T183000
DTEND:20260514T210000
DESCRIPTION:
LOCATION:
SUMMARY:All Elementary Rehearsal #2 @ BMS
END:VEVENT
BEGIN:VEVENT
DTSTAMP:20260421T172707Z
UID:978d2ccf-da15-4b68-8a67-2897b79786e3
DTSTART;VALUE=DATE:20260518
DTEND;VALUE=DATE:20260520
DESCRIPTION:
LOCATION:
SUMMARY:NYSSMA Classical Guitar Festival
END:VEVENT
BEGIN:VEVENT
DTSTAMP:20260421T172707Z
UID:082266fa-6ecf-43ef-b62d-be5072e5c8a4
DTSTART:20260518T190000
DTEND:20260518T210000
DESCRIPTION:
LOCATION:
SUMMARY:All Elementary Concert @ BMS
END:VEVENT
BEGIN:VEVENT
DTSTAMP:20260421T172707Z
UID:2efb0388-a0f8-4e73-8cb7-90ec081f9fac
DTSTART:20260518T193000
DTEND:20260518T203000
DESCRIPTION:
LOCATION:
SUMMARY:PTA Council Meeting @ MHS
END:VEVENT
BEGIN:VEVENT
DTSTAMP:20260421T172707Z
UID:6628d6c6-d01c-4c3e-bc1d-41bf30c516b7
DTSTART:20260519T060000
DTEND:20260519T210000
DESCRIPTION:
LOCATION:
SUMMARY:School Budget Vote @ FFE\, LHE\, MKE\, MHS
END:VEVENT
BEGIN:VEVENT
DTSTAMP:20260421T172707Z
UID:6476902a-8137-4e91-9a1e-06ea2eb3d801
DTSTART:20260520T190000
DTEND:20260520T210000
DESCRIPTION:
LOCATION:
SUMMARY:UQE  Beginner Concert @ BMS
END:VEVENT
BEGIN:VEVENT
DTSTAMP:20260421T172707Z
UID:561209c7-0780-4ede-9420-5030252360a5
DTSTART:20260521T200000
DTEND:20260521T220000
DESCRIPTION:
LOCATION:
SUMMARY:BOE Public Session 
END:VEVENT
BEGIN:VEVENT
DTSTAMP:20260421T172707Z
UID:da45acd8-1d53-41af-be89-ce96aa439f4e
DTSTART;VALUE=DATE:20260522
DTEND;VALUE=DATE:20260523
DESCRIPTION:
LOCATION:
SUMMARY:Emergency Make-Up Day #1
END:VEVENT
BEGIN:VEVENT
DTSTAMP:20260421T172707Z
UID:affe432a-e224-4211-abaf-b254b1f77c8d
DTSTART;VALUE=DATE:20260522
DTEND;VALUE=DATE:20260523
DESCRIPTION:
LOCATION:
SUMMARY:Reserve Day
END:VEVENT
BEGIN:VEVENT
DTSTAMP:20260421T172707Z
UID:7d4e2fb8-77c8-4525-9fc7-5e1c702cb27a
DTSTART;VALUE=DATE:20260525
DTEND;VALUE=DATE:20260526
DESCRIPTION:
LOCATION:
SUMMARY:Memorial Day Recess - Schools Closed
END:VEVENT
BEGIN:VEVENT
DTSTAMP:20260421T172707Z
UID:dfc15dce-e2a3-433a-9109-c6e37646bdda
DTSTART;VALUE=DATE:20260526
DTEND;VALUE=DATE:20260530
DESCRIPTION:
LOCATION:
SUMMARY:Kindergarten Screening (All Elementary Buildings)
END:VEVENT
BEGIN:VEVENT
DTSTAMP:20260421T172707Z
UID:1892f50b-da65-4c58-82f6-b5f6fffb740e
DTSTART:20260527T183000
DTEND:20260527T193000
DESCRIPTION:
LOCATION:
SUMMARY:Grade 3 Instrumental Parent Meeting @ MHS Band Room 105
END:VEVENT
BEGIN:VEVENT
DTSTAMP:20260421T172707Z
UID:8e92fadd-08fc-4844-84a3-4ef4e1a61fc2
DTSTART:20260531T150000
DTEND:20260531T180000
DESCRIPTION:
LOCATION:
SUMMARY:Massapequa Philharmonic Orchestra Concert @ BMS
END:VEVENT
BEGIN:VEVENT
DTSTAMP:20260421T172707Z
UID:e84e84fa-1b27-4f38-89b7-6666cae5b82f
DTSTART:20260603T190000
DTEND:20260603T200000
DESCRIPTION:
LOCATION:
SUMMARY:UQE PTA General Meeting
END:VEVENT
BEGIN:VEVENT
DTSTAMP:20260421T172707Z
UID:ba9e33e4-e3f6-44c6-892b-4f6a9926ed9a
DTSTART:20260604T200000
DTEND:20260604T220000
DESCRIPTION:
LOCATION:
SUMMARY:BOE Public Session 
END:VEVENT
BEGIN:VEVENT
DTSTAMP:20260421T172707Z
UID:83e33ead-5cfa-4ea4-b10c-bb31e52658ee
DTSTART:20260608T180000
DTEND:20260608T200000
DESCRIPTION:
LOCATION:
SUMMARY:PTA Council Officers Installation & Dinner @ AHS
END:VEVENT
BEGIN:VEVENT
DTSTAMP:20260421T172707Z
UID:cfdec86e-edbe-4196-a5dd-f0da02c710e0
DTSTART:20260610T190000
DTEND:20260610T200000
DESCRIPTION:
LOCATION:
SUMMARY:SEPTA General Meeting @ MKE Senior Center
END:VEVENT
BEGIN:VEVENT
DTSTAMP:20260421T172707Z
UID:d05de3a6-be6a-43bc-9788-1c8459e56b0b
DTSTART;VALUE=DATE:20260612
DTEND;VALUE=DATE:20260613
DESCRIPTION:
LOCATION:
SUMMARY:Grades K-5 Marking Period 3 Ends
END:VEVENT
BEGIN:VEVENT
DTSTAMP:20260421T172707Z
UID:b97244c8-21c1-408b-95c4-f74fec309e32
DTSTART:20260612T160000
DTEND:20260612T170000
DESCRIPTION:
LOCATION:
SUMMARY:Grades K-5 Parent Portal Closes @ 4 PM
END:VEVENT
BEGIN:VEVENT
DTSTAMP:20260421T172707Z
UID:242f33c6-220b-47d0-a979-aed33e94da9d
DTSTART;VALUE=DATE:20260613
DTEND;VALUE=DATE:20260626
DESCRIPTION:
LOCATION:
SUMMARY:Grades K-5 Parent Portal Closed
END:VEVENT
BEGIN:VEVENT
DTSTAMP:20260421T172707Z
UID:9f5c368b-e5c7-44e6-99c2-3e70f53dff4d
DTSTART:20260615T194500
DTEND:20260615T214500
DESCRIPTION:
LOCATION:
SUMMARY:Library Board Meeting @ Bar Harbour
END:VEVENT
BEGIN:VEVENT
DTSTAMP:20260421T172707Z
UID:c9cb0347-aa07-42b2-81f5-df83291a6949
DTSTART;VALUE=DATE:20260619
DTEND;VALUE=DATE:20260620
DESCRIPTION:
LOCATION:
SUMMARY:Juneteenth - Schools Closed
END:VEVENT
BEGIN:VEVENT
DTSTAMP:20260421T172707Z
UID:2a76ce9d-8cc2-4bc3-be74-2a8f3fd89816
DTSTART;VALUE=DATE:20260624
DTEND;VALUE=DATE:20260627
DESCRIPTION:
LOCATION:
SUMMARY:K-5 Early Dismissal All Elementary Schools
END:VEVENT
BEGIN:VEVENT
DTSTAMP:20260421T172707Z
UID:695cb300-aa44-4ee1-b1b7-ac70d8ced0d8
DTSTART;VALUE=DATE:20260624
DTEND;VALUE=DATE:20260625
DESCRIPTION:
LOCATION:
SUMMARY:UQE Grade 5 Moving-Up @ BMS
END:VEVENT
BEGIN:VEVENT
DTSTAMP:20260421T172707Z
UID:5a2c6770-ba6c-4194-b987-0aa01b77412e
DTSTART:20260625T200000
DTEND:20260625T220000
DESCRIPTION:
LOCATION:
SUMMARY:BOE Public Session 
END:VEVENT
BEGIN:VEVENT
DTSTAMP:20260421T172707Z
UID:afecbfed-9879-454d-a6bb-91a012e6b4ae
DTSTART;VALUE=DATE:20260626
DTEND;VALUE=DATE:20260627
DESCRIPTION:
LOCATION:
SUMMARY:Last Day of School
END:VEVENT
BEGIN:VEVENT
DTSTAMP:20260421T172707Z
UID:089037f8-7b42-4422-bfd1-baacb50f4408
DTSTART;VALUE=DATE:20260626
DTEND;VALUE=DATE:20260627
DESCRIPTION:
LOCATION:
SUMMARY:M3 Grade K-5 Report Cards on Portal @ 10:30 AM
END:VEVENT
BEGIN:VEVENT
DTSTAMP:20260421T172707Z
UID:1fc596eb-e69a-4971-b74e-225b3cc4b495
DTSTART:20260626T160000
DTEND:20260626T170000
DESCRIPTION:
LOCATION:
SUMMARY:Grades K-5 Parent Portal Reopens @ 4 PM
END:VEVENT
BEGIN:VEVENT
DTSTAMP:20260421T172707Z
UID:a8a191da-d8dd-40df-8778-25e82c3e9d4b
DTSTART;VALUE=DATE:20260630
DTEND;VALUE=DATE:20260701
DESCRIPTION:
LOCATION:
SUMMARY:Summer Recreation Begins
END:VEVENT
BEGIN:VEVENT
DTSTAMP:20260421T172707Z
UID:70313ee8-da6d-4828-bc81-a93dfcdfcad9
DTSTART;VALUE=DATE:20260704
DTEND;VALUE=DATE:20260705
DESCRIPTION:
LOCATION:
SUMMARY:Independence Day
END:VEVENT
BEGIN:VEVENT
DTSTAMP:20260421T172707Z
UID:f5e12f85-5051-48a5-a7e7-e7d9743bc5fb
DTSTART:20260709T200000
DTEND:20260709T220000
DESCRIPTION:
LOCATION:
SUMMARY:BOE Public Session 
END:VEVENT
BEGIN:VEVENT
DTSTAMP:20260421T172707Z
UID:b63ec223-d8f9-4821-bcb7-39afd75cfac4
DTSTART:20260806T200000
DTEND:20260806T220000
DESCRIPTION:
LOCATION:
SUMMARY:BOE Public Session 
END:VEVENT
END:VCALENDAR
