BEGIN:VCALENDAR
VERSION:2.0
PRODID:icalendar-ruby
CALSCALE:GREGORIAN
BEGIN:VTIMEZONE
TZID:America/New_York
BEGIN:DAYLIGHT
DTSTART:20260308T030000
TZOFFSETFROM:-0500
TZOFFSETTO:-0400
RRULE:FREQ=YEARLY;BYDAY=2SU;BYMONTH=3
TZNAME:EDT
END:DAYLIGHT
BEGIN:STANDARD
DTSTART:20261101T010000
TZOFFSETFROM:-0400
TZOFFSETTO:-0500
RRULE:FREQ=YEARLY;BYDAY=1SU;BYMONTH=11
TZNAME:EST
END:STANDARD
END:VTIMEZONE
BEGIN:VEVENT
DTSTAMP:20260420T102202Z
UID:5ac0d4b6-6cba-47a6-bcd8-1267d48f1910
DTSTART:20260420T154500
DTEND:20260420T190000
DESCRIPTION:
LOCATION:
SUMMARY:AWAY Baseball game vs. Keys Gate JV 3:45 PM & V 5:30 PM
END:VEVENT
BEGIN:VEVENT
DTSTAMP:20260420T102202Z
UID:2e910013-5ca7-4557-bee6-691691efd632
DTSTART;VALUE=DATE:20260422
DTEND;VALUE=DATE:20260423
DESCRIPTION:<p>We are celebrating Earth Day with a full day dedicated to ho
 noring and protecting our planet. The event highlights sustainability\, en
 vironmental awareness\, and community action through a variety of activiti
 es. Throughout the day\, there will be opportunities to engage in hands-on
  projects\, explore eco-friendly practices\, and learn more about ways to 
 care for the environment. This celebration reflects a shared commitment to
  making a positive impact and supporting a healthier Earth for the future.
  🌎🌱</p>
LOCATION:104801 Overseas Hwy\, Key Largo\, FL 33037\, USA
SUMMARY:KLS Earth Day Celebration
END:VEVENT
BEGIN:VEVENT
DTSTAMP:20260420T102202Z
UID:3d0bb356-a952-4761-8601-3147a37cf2f1
DTSTART:20260422T090000
DTEND:20260422T100000
DESCRIPTION:<p>Calling all future Kindergarten families! We’re excited to
  welcome you to our Kindergarten Kickoff—a special event designed to hel
 p you and your child get ready for an amazing start to school.</p><p>Wedne
 sday\, April 22</p><p>Morning Session: 9:00–10:00 AM</p><p>Evening Sessi
 on: 5:30–6:30 PM</p><p>Key Largo School</p><p>What to expect:</p><p>• 
 Visit Kindergarten classrooms</p><p>• Meet our caring teachers &amp\; st
 aff</p><p>• Pick up registration packets &amp\; important information</p
 ><p>• Enjoy our Play Your Way into K activities</p><p>We’re offering b
 oth a morning AND evening session to make it easy for families to attend
 —choose the time that works best for you!</p><p>We can’t wait to meet 
 our newest students and families—see you there!</p>
LOCATION:104801 Overseas Hwy\, Key Largo\, FL 33037\, USA
SUMMARY:Morning Session🌟 KICKOFF TO KINDERGARTEN at Key Largo School! 
 🌟
END:VEVENT
BEGIN:VEVENT
DTSTAMP:20260420T102202Z
UID:1a10090e-f3d7-4d32-898b-a0010811cbbd
DTSTART:20260422T173000
DTEND:20260422T183000
DESCRIPTION:<p>Calling all future Kindergarten families! We’re excited to
  welcome you to our Kindergarten Kickoff—a special event designed to hel
 p you and your child get ready for an amazing start to school.</p><p>Wedne
 sday\, April 22</p><p>Morning Session: 9:15–10:15 AM</p><p>Evening Sessi
 on: 5:30–6:30 PM</p><p>Key Largo School</p><p>What to expect:</p><p>• 
 Visit Kindergarten classrooms</p><p>• Meet our caring teachers &amp\; st
 aff</p><p>• Pick up registration packets &amp\; important information</p
 ><p>• Enjoy our Play Your Way into K activities</p><p>We’re offering b
 oth a morning AND evening session to make it easy for families to attend
 —choose the time that works best for you!</p><p>We can’t wait to meet 
 our newest students and families—see you there!</p>
LOCATION:
SUMMARY:Evening Session🌟 KICKOFF TO KINDERGARTEN at Key Largo School! 
 🌟
END:VEVENT
BEGIN:VEVENT
DTSTAMP:20260420T102202Z
UID:ff301181-3040-4471-ad5a-f055f9dd1a76
DTSTART;VALUE=DATE:20260423
DTEND;VALUE=DATE:20260424
DESCRIPTION:<p><span>The Superintendent’s Reading Awards are scheduled fo
 r Thursday\, April 23</span>rd<span>.</span></p><p>Kindergarten – 9:00 a
 .m.</p><p>&nbsp\;1st Grade – 1:30 p.m.</p><p>&nbsp\;2nd Grade – 12:00 
 p.m.</p><p>&nbsp\;3rd Grade – 10:00 a.m.</p><p>&nbsp\;4th Grade – 11:0
 0 a.m.&nbsp\;</p><p>5th Grade – 10:30 a.m.</p><p>Middle School – 2:00 
 p.m.</p>
LOCATION:104801 Overseas Hwy\, Key Largo\, FL 33037\, USA
SUMMARY:The Superintendent’s Reading Awards 
END:VEVENT
BEGIN:VEVENT
DTSTAMP:20260420T102202Z
UID:ec641abe-a6a3-4f94-ba97-962ecf2dbf1d
DTSTART:20260424T143000
DTEND:20260424T160000
DESCRIPTION:
LOCATION:104801 Overseas Hwy\, Key Largo\, FL 33037\, USA
SUMMARY:HOME Baseball game vs Sugarloaf JV baseball 2:30 & varsity baseball
  4:00PM 
END:VEVENT
BEGIN:VEVENT
DTSTAMP:20260420T102202Z
UID:5e7bda6f-28ed-4e14-a1d9-24bad1b200b3
DTSTART:20260424T190000
DTEND:20260424T210000
DESCRIPTION:<p>Step into a world of imagination\, mischief\, and courage as
  the KLS Drama Club presents <em>Matilda Jr.</em>! Follow the story of a b
 rilliant young girl with extraordinary powers who dares to stand up for wh
 at’s right. Filled with high-energy songs\, humor\, and heart\, this bel
 oved musical is perfect for audiences of all ages.</p><p>Join us at the <s
 trong>CSHS PAC Center in Tavernier</strong> for an unforgettable performan
 ce:</p><ul><li><p>Friday\, April 24 | 7:00–9:00 PM</p></li><li><p>Saturd
 ay\, April 25 | 7:00–9:00 PM</p></li><li><p><strong>Final Showing:</stro
 ng> Sunday\, April 26 | 2:00–4:00 PM</p></li></ul><p>Don’t miss this m
 agical production celebrating the power of imagination and standing up for
  yourself! 🎭✨</p>
LOCATION:89901 Old Hwy\, Tavernier\, FL 33070\, USA
SUMMARY:KLS Drama Club Presents: Matilda Jr.
END:VEVENT
BEGIN:VEVENT
DTSTAMP:20260420T102202Z
UID:57c45fa4-5c66-4fe3-a3d1-388c848307ae
DTSTART:20260425T150000
DTEND:20260425T180000
DESCRIPTION:
LOCATION:
SUMMARY:AWAY Baseball game @True North  V 3 PM & JV 5 PM
END:VEVENT
BEGIN:VEVENT
DTSTAMP:20260420T102202Z
UID:add0f7b1-a216-4ec2-b6da-06795eec3f92
DTSTART:20260425T190000
DTEND:20260425T210000
DESCRIPTION:<p>Step into a world of imagination\, mischief\, and courage as
  the KLS Drama Club presents <em>Matilda Jr.</em>! Follow the story of a b
 rilliant young girl with extraordinary powers who dares to stand up for wh
 at’s right. Filled with high-energy songs\, humor\, and heart\, this bel
 oved musical is perfect for audiences of all ages.</p><p>Join us at the <s
 trong>CSHS PAC Center in Tavernier</strong> for an unforgettable performan
 ce:</p><ul><li><p>Saturday\, April 25 | 7:00–9:00 PM</p></li><li><p><str
 ong>Final Showing:</strong> Sunday\, April 26 | 2:00–4:00 PM</p></li></u
 l><p>Don’t miss this magical production celebrating the power of imagina
 tion and standing up for yourself! 🎭✨</p>
LOCATION:89901 Old Hwy\, Tavernier\, FL 33070\, USA
SUMMARY:KLS Drama Club Presents: Matilda Jr.
END:VEVENT
BEGIN:VEVENT
DTSTAMP:20260420T102202Z
UID:faa95f90-667c-499a-8a5c-67be13a677d9
DTSTART:20260426T140000
DTEND:20260426T160000
DESCRIPTION:<p>Step into a world of imagination\, mischief\, and courage as
  the KLS Drama Club presents <em>Matilda Jr.</em>! Follow the story of a b
 rilliant young girl with extraordinary powers who dares to stand up for wh
 at’s right. Filled with high-energy songs\, humor\, and heart\, this bel
 oved musical is perfect for audiences of all ages.</p><p>Join us at the <s
 trong>CSHS PAC Center in Tavernier</strong> for an unforgettable performan
 ce:</p><ul><li><p><strong>Final Showing:</strong> Sunday\, April 26 | 2:00
 –4:00 PM</p></li></ul><p>Don’t miss this magical production celebratin
 g the power of imagination and standing up for yourself! 🎭✨</p>
LOCATION:89901 Old Hwy\, Tavernier\, FL 33070\, USA
SUMMARY:KLS Drama Club Presents: Matilda Jr. Finale 
END:VEVENT
BEGIN:VEVENT
DTSTAMP:20260420T102202Z
UID:b14cbe89-02dd-4d45-a6af-1759d2010bc8
DTSTART;VALUE=DATE:20260427
DTEND;VALUE=DATE:20260508
DESCRIPTION:
LOCATION:
SUMMARY:Kindergarten Swim Program (KKS-Keys Kids Swim)
END:VEVENT
BEGIN:VEVENT
DTSTAMP:20260420T102202Z
UID:14837cd4-e9ed-45fa-bc95-6b05db8c9b44
DTSTART:20260428T083000
DTEND:20260428T140000
DESCRIPTION:
LOCATION:
SUMMARY:8th grade Orientation @ CSHS
END:VEVENT
BEGIN:VEVENT
DTSTAMP:20260420T102202Z
UID:aadaa9bf-e309-4476-8c2e-fd300744c0d9
DTSTART:20260430T190000
DTEND:20260430T200000
DESCRIPTION:
LOCATION:
SUMMARY:Tri-School Spring Concert
END:VEVENT
BEGIN:VEVENT
DTSTAMP:20260420T102202Z
UID:0b2ea0cf-31ac-4137-97b6-3de813406a29
DTSTART:20260511T173000
DTEND:20260511T190000
DESCRIPTION:<p>025/2026 SAC Dates with YouTube Live Link: </p><p>Note: All
  SAC meetings will be held face to face on the dates below at 5:45 pm in t
 he KLS Media Center. </p><p>If you're unable to attend the meeting in per
 son\, you can watch the live broadcast by clicking the links below.</p><ul
 >\n<li><p>August 18th                          <a 
 target="_blank" rel="noopener noreferrer nofollow" href="https://youtube.c
 om/live/8uTlTFproh8?feature=share">YouTube Live Link</a></p></li>\n<li><p>
 September 8th                 <a target="_blank" rel="noop
 ener noreferrer nofollow" href="https://youtube.com/live/BmW5U7mxKg0?featu
 re=share">YouTube Live Link</a></p></li>\n<li><p>October 13th       
                 <a target="_blank" rel="noopener noreferre
 r nofollow" href="https://youtube.com/live/eEfL6jKjxvM?feature=share">YouT
 ube Live Link</a></p></li>\n<li><p>November 10th             
     <a target="_blank" rel="noopener noreferrer nofollow" href="https:
 //youtube.com/live/RdCEKDBUpCs?feature=share">YouTube Live Link</a></p></l
 i>\n<li><p>December 8th                    <a target="_
 blank" rel="noopener noreferrer nofollow" href="https://youtube.com/live/J
 ASnUQBRq0g?feature=share">YouTube Live Link</a></p></li>\n<li><p>January 1
 2th                         <a target="_blank" rel
 ="noopener noreferrer nofollow" href="https://youtube.com/live/78qF6_D9o_Y
 ?feature=share">YouTube Live Link</a></p></li>\n<li><p>February 9th    
                      <a target="_blank" rel="noopener
  noreferrer nofollow" href="https://youtube.com/live/S5st01FG-PE?feature=s
 hare">YouTube Live Link</a></p></li>\n<li><p>March 9th           
                       <a target="_blank" rel="noopene
 r noreferrer nofollow" href="https://youtube.com/live/43ty8ayibMU?feature=
 share">YouTube Live Link</a></p></li>\n<li><p>April 13th         
                             <a target="_blank"
  rel="noopener noreferrer nofollow" href="https://youtube.com/live/dpAYVSC
 zdl8?feature=share">YouTube Live Link</a></p></li>\n<li><p>May 11th    
                                     <a
  target="_blank" rel="noopener noreferrer nofollow" href="https://youtube.
 com/live/ypjaHJ32btY?feature=share">YouTube Live Link</a></p></li>\n</ul>
LOCATION:@KLS Media Center
SUMMARY:PTA & SAC meeting 
END:VEVENT
BEGIN:VEVENT
DTSTAMP:20260420T102202Z
UID:11514c6f-7163-4754-bce7-9b54e1c20bff
DTSTART:20260512T110000
DTEND:20260512T120000
DESCRIPTION:<p></p>
LOCATION:104801 Overseas Hwy\, Key Largo\, FL 33037\, USA
SUMMARY:Young Athletes Special Olympics ceremony
END:VEVENT
BEGIN:VEVENT
DTSTAMP:20260420T102202Z
UID:52476e22-fbaf-427a-9640-a6afd703ef19
DTSTART:20260516T093000
DTEND:20260516T120000
DESCRIPTION:
LOCATION:104550 Overseas Hwy\, Key Largo\, FL 33037\, USA
SUMMARY:Band Awards banquet
END:VEVENT
BEGIN:VEVENT
DTSTAMP:20260420T102202Z
UID:687e49d1-180f-470d-bb7a-e4fea1c4c238
DTSTART:20260520T090000
DTEND:20260520T100000
DESCRIPTION:
LOCATION:104801 Overseas Hwy\, Key Largo\, FL 33037\, USA
SUMMARY:Kindergarten End of Year Ceremony
END:VEVENT
BEGIN:VEVENT
DTSTAMP:20260420T102202Z
UID:a0c1e3c1-ebd3-4539-8ec6-83a5152c100b
DTSTART;VALUE=DATE:20260525
DTEND;VALUE=DATE:20260526
DESCRIPTION:
LOCATION:
SUMMARY:Memorial Day (no school)
END:VEVENT
BEGIN:VEVENT
DTSTAMP:20260420T102202Z
UID:c88416eb-c950-4b6a-9ad8-cf4a54dbb977
DTSTART:20260527T090000
DTEND:20260527T120000
DESCRIPTION:<p>Schedule to be determined</p>
LOCATION:
SUMMARY:KLS End of Year Awards
END:VEVENT
BEGIN:VEVENT
DTSTAMP:20260420T102202Z
UID:9c8bcb66-6575-43f0-b1ee-346c73661d03
DTSTART:20260528T090000
DTEND:20260528T110000
DESCRIPTION:
LOCATION:104801 Overseas Hwy\, Key Largo\, FL 33037\, USA
SUMMARY:8th Grade Promotion Ceremony
END:VEVENT
BEGIN:VEVENT
DTSTAMP:20260420T102202Z
UID:073bec0b-859e-4e32-8724-bbec57e85f53
DTSTART;VALUE=DATE:20260529
DTEND;VALUE=DATE:20260530
DESCRIPTION:
LOCATION:
SUMMARY:End of 2nd Semester (Early Dismissal)
END:VEVENT
BEGIN:VEVENT
DTSTAMP:20260420T102202Z
UID:2fa692d7-622d-4398-893b-d9ef6fca4b6a
DTSTART;VALUE=DATE:20260601
DTEND;VALUE=DATE:20260602
DESCRIPTION:
LOCATION:
SUMMARY:Professional Day (no students)
END:VEVENT
END:VCALENDAR
