BEGIN:VCALENDAR
VERSION:2.0
PRODID:icalendar-ruby
CALSCALE:GREGORIAN
BEGIN:VTIMEZONE
TZID:America/New_York
BEGIN:DAYLIGHT
DTSTART:20260308T030000
TZOFFSETFROM:-0500
TZOFFSETTO:-0400
RRULE:FREQ=YEARLY;BYDAY=2SU;BYMONTH=3
TZNAME:EDT
END:DAYLIGHT
BEGIN:STANDARD
DTSTART:20261101T010000
TZOFFSETFROM:-0400
TZOFFSETTO:-0500
RRULE:FREQ=YEARLY;BYDAY=1SU;BYMONTH=11
TZNAME:EST
END:STANDARD
END:VTIMEZONE
BEGIN:VEVENT
DTSTAMP:20260423T160449Z
UID:27b9d1ae-0c3d-4a5c-a40a-7e44be0fc7bd
DTSTART:20260505T170000
DTEND:20260505T190000
DESCRIPTION:
LOCATION:
SUMMARY:School Board Meeting - Marathon High School
END:VEVENT
BEGIN:VEVENT
DTSTAMP:20260423T160449Z
UID:2793cbb5-5df5-4160-9b6f-c4ce2df4df77
DTSTART;VALUE=DATE:20260525
DTEND;VALUE=DATE:20260526
DESCRIPTION:
LOCATION:
SUMMARY:Memorial Day (no school)
END:VEVENT
BEGIN:VEVENT
DTSTAMP:20260423T160449Z
UID:4b7541b0-2b6d-450c-9267-b02a974f893c
DTSTART;VALUE=DATE:20260529
DTEND;VALUE=DATE:20260530
DESCRIPTION:
LOCATION:
SUMMARY:End of 2nd Semester (Early Dismissal)
END:VEVENT
BEGIN:VEVENT
DTSTAMP:20260423T160449Z
UID:2b8a94a6-d947-4d75-8a2e-e7c490fa5457
DTSTART;VALUE=DATE:20260601
DTEND;VALUE=DATE:20260602
DESCRIPTION:
LOCATION:
SUMMARY:Professional Day (no students)
END:VEVENT
BEGIN:VEVENT
DTSTAMP:20260423T160449Z
UID:b951de28-7de8-468d-a4bf-5196ffb22554
DTSTART:20260609T170000
DTEND:20260609T190000
DESCRIPTION:
LOCATION:
SUMMARY:School Board Meeting - Key West City Hall
END:VEVENT
BEGIN:VEVENT
DTSTAMP:20260423T160449Z
UID:831a6360-5980-4d22-a470-c057d590f90a
DTSTART:20260623T170000
DTEND:20260623T190000
DESCRIPTION:
LOCATION:
SUMMARY:School Board Meeting - Coral Shores High School
END:VEVENT
BEGIN:VEVENT
DTSTAMP:20260423T160449Z
UID:5532cb66-9055-4362-933b-af7139bbc599
DTSTART:20260721T170000
DTEND:20260721T190000
DESCRIPTION:
LOCATION:
SUMMARY:School Board Meeting - Marathon High School
END:VEVENT
BEGIN:VEVENT
DTSTAMP:20260423T160449Z
UID:f9bcccaa-ca02-4df7-b781-dbf1ad87a742
DTSTART:20260728T170000
DTEND:20260728T190000
DESCRIPTION:
LOCATION:
SUMMARY:School Board Meeting - Key West City Hall
END:VEVENT
BEGIN:VEVENT
DTSTAMP:20260423T160449Z
UID:d1f28e99-d919-4ef7-a33c-1e261ab78240
DTSTART;VALUE=DATE:20260803
DTEND;VALUE=DATE:20260805
DESCRIPTION:
LOCATION:
SUMMARY:New Teachers Report - BLPT Reports
END:VEVENT
BEGIN:VEVENT
DTSTAMP:20260423T160449Z
UID:6a5734e6-37da-443d-a260-48d28fa2dc6f
DTSTART;VALUE=DATE:20260805
DTEND;VALUE=DATE:20260808
DESCRIPTION:
LOCATION:
SUMMARY:All Teachers Report - Professional Days
END:VEVENT
BEGIN:VEVENT
DTSTAMP:20260423T160449Z
UID:0c232f63-f3ca-4fab-a344-acce9e9e6eef
DTSTART;VALUE=DATE:20260810
DTEND;VALUE=DATE:20260812
DESCRIPTION:
LOCATION:
SUMMARY:All Teachers Report - Professional Days
END:VEVENT
BEGIN:VEVENT
DTSTAMP:20260423T160449Z
UID:909eb680-c527-451e-b455-ee6c50c66994
DTSTART;VALUE=DATE:20260812
DTEND;VALUE=DATE:20260813
DESCRIPTION:
LOCATION:
SUMMARY:Students Report
END:VEVENT
BEGIN:VEVENT
DTSTAMP:20260423T160449Z
UID:c34d1ae2-45bd-4dee-aadf-f17002bfa08b
DTSTART:20260818T170000
DTEND:20260818T190000
DESCRIPTION:
LOCATION:
SUMMARY:School Board Meeting - Coral Shores High School
END:VEVENT
BEGIN:VEVENT
DTSTAMP:20260423T160449Z
UID:3aeb60a9-4bc3-42de-a167-9c6ea983592d
DTSTART;VALUE=DATE:20260907
DTEND;VALUE=DATE:20260908
DESCRIPTION:
LOCATION:
SUMMARY:Labor Day - No School
END:VEVENT
BEGIN:VEVENT
DTSTAMP:20260423T160449Z
UID:865d402e-2a0f-44ac-b17e-d631d8ea2909
DTSTART:20260908T170000
DTEND:20260908T190000
DESCRIPTION:
LOCATION:
SUMMARY:School Board Meeting - Marathon High School
END:VEVENT
BEGIN:VEVENT
DTSTAMP:20260423T160449Z
UID:4ab4a082-f48f-48f2-8851-a4300efc3452
DTSTART:20261006T170000
DTEND:20261006T190000
DESCRIPTION:
LOCATION:
SUMMARY:School Board Meeting - Key West City Hall
END:VEVENT
BEGIN:VEVENT
DTSTAMP:20260423T160449Z
UID:d5d53dcc-7f08-4da4-a3d9-11aa005ddda3
DTSTART;VALUE=DATE:20261009
DTEND;VALUE=DATE:20261010
DESCRIPTION:
LOCATION:
SUMMARY:End of First Marking Period (42 Days)
END:VEVENT
BEGIN:VEVENT
DTSTAMP:20260423T160449Z
UID:a1d58333-1bf3-4fa6-ab11-29626f6cf9da
DTSTART;VALUE=DATE:20261012
DTEND;VALUE=DATE:20261013
DESCRIPTION:
LOCATION:
SUMMARY:Professional Day (No Students) - Full Day for Grading
END:VEVENT
BEGIN:VEVENT
DTSTAMP:20260423T160449Z
UID:5d395ef4-59eb-4c29-b7b0-39eb29da92a2
DTSTART;VALUE=DATE:20261013
DTEND;VALUE=DATE:20261014
DESCRIPTION:
LOCATION:
SUMMARY:Professional Day (No Students) - Priority 2 Hurricane Makeup Day
END:VEVENT
BEGIN:VEVENT
DTSTAMP:20260423T160449Z
UID:c1b0a07c-3fcc-453d-a14f-abd3fb02da48
DTSTART:20261020T170000
DTEND:20261020T190000
DESCRIPTION:
LOCATION:
SUMMARY:School Board Meeting - Coral Shores High School
END:VEVENT
BEGIN:VEVENT
DTSTAMP:20260423T160449Z
UID:3d0489fe-a8be-47b5-8d39-15b9789fffb6
DTSTART;VALUE=DATE:20261111
DTEND;VALUE=DATE:20261112
DESCRIPTION:
LOCATION:
SUMMARY:Veteran's Day Holiday - No School
END:VEVENT
BEGIN:VEVENT
DTSTAMP:20260423T160449Z
UID:df72bf7c-8171-442e-926e-0a7a2a327be4
DTSTART:20261117T170000
DTEND:20261117T190000
DESCRIPTION:
LOCATION:
SUMMARY:School Board Meeting - Marathon High School
END:VEVENT
BEGIN:VEVENT
DTSTAMP:20260423T160449Z
UID:f1669afd-64c2-4d86-b2db-f3cae1816b3d
DTSTART;VALUE=DATE:20261123
DTEND;VALUE=DATE:20261126
DESCRIPTION:
LOCATION:
SUMMARY:Non-Work / Non-Paid Days (No School)
END:VEVENT
BEGIN:VEVENT
DTSTAMP:20260423T160449Z
UID:c76e4fc3-49ba-4524-972e-6a4740934b67
DTSTART;VALUE=DATE:20261126
DTEND;VALUE=DATE:20261127
DESCRIPTION:
LOCATION:
SUMMARY:Thanksgiving Holiday - No School
END:VEVENT
BEGIN:VEVENT
DTSTAMP:20260423T160449Z
UID:d8d926b7-99c0-4f42-b7eb-84c61d1d8bfe
DTSTART;VALUE=DATE:20261127
DTEND;VALUE=DATE:20261128
DESCRIPTION:
LOCATION:
SUMMARY:Non-Work / Non-Paid Days (No School)
END:VEVENT
BEGIN:VEVENT
DTSTAMP:20260423T160449Z
UID:5380a896-58c6-4e54-bc71-5556ea7802e6
DTSTART:20261208T170000
DTEND:20261208T190000
DESCRIPTION:
LOCATION:
SUMMARY:School Board Meeting - Coral Shores High School
END:VEVENT
BEGIN:VEVENT
DTSTAMP:20260423T160449Z
UID:ed344863-86bc-419b-bcd4-733d9288a463
DTSTART;VALUE=DATE:20261218
DTEND;VALUE=DATE:20261219
DESCRIPTION:
LOCATION:
SUMMARY:End of 1st Semester (84 days) - Early Dismissal Day
END:VEVENT
BEGIN:VEVENT
DTSTAMP:20260423T160449Z
UID:81a0160e-deed-43d1-9ca6-98550076ad45
DTSTART;VALUE=DATE:20261221
DTEND;VALUE=DATE:20270102
DESCRIPTION:
LOCATION:
SUMMARY:Winter Break - No School
END:VEVENT
BEGIN:VEVENT
DTSTAMP:20260423T160449Z
UID:a72471e3-2864-4062-9b3c-6a3a042cff70
DTSTART;VALUE=DATE:20270104
DTEND;VALUE=DATE:20270105
DESCRIPTION:
LOCATION:
SUMMARY:Professional Day (No Students) - Full Day for Grading
END:VEVENT
BEGIN:VEVENT
DTSTAMP:20260423T160449Z
UID:e00f2983-00d6-4cb5-9377-2ee1f55aa7b1
DTSTART;VALUE=DATE:20270105
DTEND;VALUE=DATE:20270106
DESCRIPTION:
LOCATION:
SUMMARY:Classes Reconvene
END:VEVENT
BEGIN:VEVENT
DTSTAMP:20260423T160449Z
UID:cf24f400-fdac-466a-bce9-ce83fe92c19a
DTSTART;VALUE=DATE:20270118
DTEND;VALUE=DATE:20270119
DESCRIPTION:
LOCATION:
SUMMARY:Martin Luther King Jr. Day Holiday - No School
END:VEVENT
BEGIN:VEVENT
DTSTAMP:20260423T160449Z
UID:a2f6a411-8681-46eb-860c-b726a16db9fb
DTSTART;VALUE=DATE:20270212
DTEND;VALUE=DATE:20270213
DESCRIPTION:
LOCATION:
SUMMARY:Professional Day (No Students)
END:VEVENT
BEGIN:VEVENT
DTSTAMP:20260423T160449Z
UID:83c1ebd8-2200-443d-b9c3-c16ef9f834f7
DTSTART;VALUE=DATE:20270215
DTEND;VALUE=DATE:20270216
DESCRIPTION:
LOCATION:
SUMMARY:President's Day Holiday - No School
END:VEVENT
BEGIN:VEVENT
DTSTAMP:20260423T160449Z
UID:48e14486-b05f-4912-a169-80959a04d385
DTSTART;VALUE=DATE:20270318
DTEND;VALUE=DATE:20270319
DESCRIPTION:
LOCATION:
SUMMARY:End of 3rd Marking Period (50 days)
END:VEVENT
BEGIN:VEVENT
DTSTAMP:20260423T160449Z
UID:543f0b9c-06e8-4ee7-8dd5-290a62e6bc5d
DTSTART;VALUE=DATE:20270319
DTEND;VALUE=DATE:20270320
DESCRIPTION:
LOCATION:
SUMMARY:Professional Day (No Students) - Priority #1 Hurricane Makeup Day
END:VEVENT
BEGIN:VEVENT
DTSTAMP:20260423T160449Z
UID:bf71fc45-9452-4f42-82f1-f179f55a7af5
DTSTART;VALUE=DATE:20270322
DTEND;VALUE=DATE:20270327
DESCRIPTION:
LOCATION:
SUMMARY:Spring Break - No School
END:VEVENT
BEGIN:VEVENT
DTSTAMP:20260423T160449Z
UID:dd073e95-fc55-4cfe-8893-951f5c3a88b3
DTSTART;VALUE=DATE:20270329
DTEND;VALUE=DATE:20270330
DESCRIPTION:
LOCATION:
SUMMARY:Classes Reconvene
END:VEVENT
BEGIN:VEVENT
DTSTAMP:20260423T160449Z
UID:205d964c-41b3-4285-a326-b02ed339173c
DTSTART;VALUE=DATE:20270416
DTEND;VALUE=DATE:20270417
DESCRIPTION:
LOCATION:
SUMMARY:Professional Day (No Students)
END:VEVENT
BEGIN:VEVENT
DTSTAMP:20260423T160449Z
UID:48bd5643-d0cd-43f0-a926-307a30c661be
DTSTART;VALUE=DATE:20270528
DTEND;VALUE=DATE:20270529
DESCRIPTION:
LOCATION:
SUMMARY:End of Second Semester (94 days) - Early Dismissal Day
END:VEVENT
BEGIN:VEVENT
DTSTAMP:20260423T160449Z
UID:33c908cb-90a7-4ec7-8215-53426c815342
DTSTART;VALUE=DATE:20270531
DTEND;VALUE=DATE:20270601
DESCRIPTION:
LOCATION:
SUMMARY:Memorial Day Holiday (No School)
END:VEVENT
BEGIN:VEVENT
DTSTAMP:20260423T160449Z
UID:03bb9c7f-5436-4503-b3c7-c1ad469a0c92
DTSTART;VALUE=DATE:20270601
DTEND;VALUE=DATE:20270602
DESCRIPTION:
LOCATION:
SUMMARY:Professional Day (No Students) - Full Day for Grading
END:VEVENT
BEGIN:VEVENT
DTSTAMP:20260423T160449Z
UID:6bcbd0d4-5ebd-4f70-9689-b20397ed4adb
DTSTART;VALUE=DATE:20270602
DTEND;VALUE=DATE:20270603
DESCRIPTION:
LOCATION:
SUMMARY:Professional Day (No Students) - School Based PD
END:VEVENT
END:VCALENDAR
