BEGIN:VCALENDAR
VERSION:2.0
PRODID:icalendar-ruby
CALSCALE:GREGORIAN
BEGIN:VTIMEZONE
TZID:America/Chicago
BEGIN:DAYLIGHT
DTSTART:20260308T030000
TZOFFSETFROM:-0600
TZOFFSETTO:-0500
RRULE:FREQ=YEARLY;BYDAY=2SU;BYMONTH=3
TZNAME:CDT
END:DAYLIGHT
BEGIN:STANDARD
DTSTART:20261101T010000
TZOFFSETFROM:-0500
TZOFFSETTO:-0600
RRULE:FREQ=YEARLY;BYDAY=1SU;BYMONTH=11
TZNAME:CST
END:STANDARD
END:VTIMEZONE
BEGIN:VEVENT
DTSTAMP:20260423T114428Z
UID:94d89781-e112-4848-8aeb-2f5ab2ba08da
DTSTART:20260423T090000
DTEND:20260423T090000
DESCRIPTION:Type: nonconference Opponent: Multiple Schools vs. Scotus Centr
 al Catholic 
LOCATION:Quail Run Golf Course - Columbus
SUMMARY:Golf:  Boys Varsity Invitational vs Multiple Schools vs. Scotus Cen
 tral Catholic (Away)  
END:VEVENT
BEGIN:VEVENT
DTSTAMP:20260423T114428Z
UID:bf00627f-706d-46e6-9461-623d67d8223e
DTSTART;VALUE=DATE:20260424
DTEND;VALUE=DATE:20260425
DESCRIPTION:Type: school only Opponent:  
LOCATION:
SUMMARY:District Music Contest   
END:VEVENT
BEGIN:VEVENT
DTSTAMP:20260423T114428Z
UID:0f3b7246-1d80-4500-ae3d-fee59f069af8
DTSTART;VALUE=DATE:20260424
DTEND;VALUE=DATE:20260425
DESCRIPTION:Type: school only Opponent:  
LOCATION:Norfolk Jr. High School
SUMMARY:Junior High Speech   
END:VEVENT
BEGIN:VEVENT
DTSTAMP:20260423T114428Z
UID:3730295b-072d-4992-bd14-64025092c515
DTSTART;VALUE=DATE:20260424
DTEND;VALUE=DATE:20260425
DESCRIPTION:Type: school only Opponent:  
LOCATION:
SUMMARY:No School-Staff Development   
END:VEVENT
BEGIN:VEVENT
DTSTAMP:20260423T114428Z
UID:5f044322-5173-4215-98c2-2eea39c4b03b
DTSTART:20260424T120000
DTEND:20260424T190000
DESCRIPTION:Type: nonconference Opponent: Multiple Schools vs. West Holt Pu
 blic Comments:  
LOCATION:West Holt High School
SUMMARY:Track:  Varsity Invitational vs Multiple Schools vs. West Holt Publ
 ic (Cancelled)
END:VEVENT
BEGIN:VEVENT
DTSTAMP:20260423T114428Z
UID:d5514165-4c3e-4443-867b-7a8d5ff856ae
DTSTART:20260424T180000
DTEND:20260424T180000
DESCRIPTION:Type: school only Opponent:  
LOCATION:
SUMMARY:Foundation Dinner   
END:VEVENT
BEGIN:VEVENT
DTSTAMP:20260423T114428Z
UID:e043623b-cf3e-4de7-9ce8-bcf78c56ad53
DTSTART:20260425T100000
DTEND:20260425T100000
DESCRIPTION:Type: nonconference Opponent: Multiple Schools vs. O'Neill 
LOCATION:O'Neill High School
SUMMARY:Track:  Jr. High Conference vs Multiple Schools vs. O'Neill (Away) 
  
END:VEVENT
BEGIN:VEVENT
DTSTAMP:20260423T114428Z
UID:abad13ab-3a8f-45ca-b6da-785a4d759e31
DTSTART:20260426T130000
DTEND:20260426T170000
DESCRIPTION:Type: school only Opponent:  
LOCATION:Battle Creek High School
SUMMARY:Elementary Track Meet   
END:VEVENT
BEGIN:VEVENT
DTSTAMP:20260423T114428Z
UID:cf126527-7ebd-45e1-8c08-2707eb4b9441
DTSTART:20260428T090000
DTEND:20260428T090000
DESCRIPTION:Type: nonconference Opponent: Multiple Schools vs. Cedar Cathol
 ic High School 
LOCATION:Hartington Country Club
SUMMARY:Golf:  Boys Varsity Tournament vs Multiple Schools vs. Cedar Cathol
 ic High School (Away)  
END:VEVENT
BEGIN:VEVENT
DTSTAMP:20260423T114428Z
UID:4b96d0f0-9000-4ecf-b949-02c98cfd301b
DTSTART:20260428T090000
DTEND:20260428T170000
DESCRIPTION:
LOCATION:
SUMMARY:JH Track @ Twin River
END:VEVENT
BEGIN:VEVENT
DTSTAMP:20260423T114428Z
UID:5a788464-4a99-4e52-920e-b72045d2f9a2
DTSTART:20260428T090000
DTEND:20260428T090000
DESCRIPTION:Type: nonconference Opponent: Multiple Schools vs. Twin River 
LOCATION:Twin River High School-Genoa City Park
SUMMARY:Track:  Jr. High Invitational vs Multiple Schools vs. Twin River (A
 way)  
END:VEVENT
BEGIN:VEVENT
DTSTAMP:20260423T114428Z
UID:99bbd519-1d56-410a-b938-a083fa835189
DTSTART:20260428T150000
DTEND:20260428T150000
DESCRIPTION:Type: nonconference Opponent: Multiple Schools vs. Pierce 
LOCATION:Pierce High School
SUMMARY:Track:  Varsity Invitational vs Multiple Schools vs. Pierce (Away) 
  
END:VEVENT
BEGIN:VEVENT
DTSTAMP:20260423T114428Z
UID:d82e9393-7d12-4595-a8df-898f4c224f76
DTSTART:20260429T090000
DTEND:20260429T090000
DESCRIPTION:Type: nonconference Opponent: Niobrara-Verdigre 
LOCATION:Tatanka Golf Club
SUMMARY:Golf:  Boys Varsity Invitational vs Niobrara-Verdigre (Away)  
END:VEVENT
BEGIN:VEVENT
DTSTAMP:20260423T114428Z
UID:41d72146-0028-4511-bc51-ab5aca03006b
DTSTART:20260430T080000
DTEND:20260430T090000
DESCRIPTION:
LOCATION:605 W Martin St\, Battle Creek\, NE 68715\, USA
SUMMARY:Rock Band 
END:VEVENT
BEGIN:VEVENT
DTSTAMP:20260423T114428Z
UID:79243ae3-45cd-4018-a9df-6a173934f668
DTSTART:20260430T170000
DTEND:20260430T170000
DESCRIPTION:Type: nonconference Opponent: Norfolk 
LOCATION:Norfolk High School
SUMMARY:Track:  Varsity Meet vs Norfolk (Away)  
END:VEVENT
BEGIN:VEVENT
DTSTAMP:20260423T114428Z
UID:627eb5b0-f7c5-49cb-8111-f10918ce1ce2
DTSTART;VALUE=DATE:20260502
DTEND;VALUE=DATE:20260503
DESCRIPTION:Type: school only Opponent:  
LOCATION:Battle Creek Elementary
SUMMARY:Junior High Speech   
END:VEVENT
BEGIN:VEVENT
DTSTAMP:20260423T114428Z
UID:27a035a2-fb66-4edd-918d-b908f82964aa
DTSTART;VALUE=DATE:20260502
DTEND;VALUE=DATE:20260503
DESCRIPTION:Type: school only Opponent:  
LOCATION:Battle Creek High School
SUMMARY:Music Booster Fundraiser   
END:VEVENT
BEGIN:VEVENT
DTSTAMP:20260423T114428Z
UID:cd206e79-6546-4e0b-9d70-55e976f388c8
DTSTART:20260502T090000
DTEND:20260502T090000
DESCRIPTION:Type: nonconference Opponent: Multiple Schools vs. Oakland Crai
 g 
LOCATION:Oakland Golf Club
SUMMARY:Golf:  Boys Varsity Invitational vs Multiple Schools vs. Oakland Cr
 aig (Away)  
END:VEVENT
BEGIN:VEVENT
DTSTAMP:20260423T114428Z
UID:93efba83-49f7-4edb-91f8-e9f46c14b81e
DTSTART:20260502T100000
DTEND:20260502T100000
DESCRIPTION:Type: nonconference Opponent: Multiple Schools vs. Wayne 
LOCATION:Wayne High School
SUMMARY:Track:  Varsity Conference vs Multiple Schools vs. Wayne (Away)  
END:VEVENT
BEGIN:VEVENT
DTSTAMP:20260423T114428Z
UID:0ce9972a-8c50-446b-ad97-cf6e883d9cdf
DTSTART;VALUE=DATE:20260504
DTEND;VALUE=DATE:20260505
DESCRIPTION:Type: school only Opponent:  
LOCATION:
SUMMARY:Spring Fling Music Concert   
END:VEVENT
BEGIN:VEVENT
DTSTAMP:20260423T114428Z
UID:1d601a03-6370-4dab-bce6-642bbbe3d457
DTSTART:20260505T090000
DTEND:20260505T090000
DESCRIPTION:Type: nonconference Opponent: Multiple Schools vs. Wayne 
LOCATION:Wayne Golf Course
SUMMARY:Golf:  Boys Varsity Conference Tournament vs Multiple Schools vs. W
 ayne (Away)  
END:VEVENT
BEGIN:VEVENT
DTSTAMP:20260423T114428Z
UID:415df491-6598-4623-9ea3-30c1f361aefa
DTSTART:20260505T180000
DTEND:20260505T180000
DESCRIPTION:Type: school only Opponent:  
LOCATION:Battle Creek High School
SUMMARY:Athletic Banquet & Award Night   
END:VEVENT
BEGIN:VEVENT
DTSTAMP:20260423T114428Z
UID:2591e193-3e74-46fa-b5cd-ccaddb94f85a
DTSTART:20260507T090000
DTEND:20260507T090000
DESCRIPTION:Type: nonconference Opponent: Multiple Schools 
LOCATION:Evergreen Hill Golf Course
SUMMARY:Golf:  Boys Varsity Tournament vs Multiple Schools (Home)  
END:VEVENT
BEGIN:VEVENT
DTSTAMP:20260423T114428Z
UID:0e3553fd-8ed8-4c63-81e6-85fa5e2efc87
DTSTART:20260507T090000
DTEND:20260507T090000
DESCRIPTION:Type: nonconference Opponent: Multiple Schools 
LOCATION:Battle Creek High School
SUMMARY:Track:  Jr. High Invitational vs Multiple Schools (Home)  
END:VEVENT
BEGIN:VEVENT
DTSTAMP:20260423T114428Z
UID:f23b8990-32d7-4e61-b9e2-dd2eb1dd865d
DTSTART:20260507T133000
DTEND:20260507T133000
DESCRIPTION:Type: nonconference Opponent: Multiple Schools 
LOCATION:Battle Creek High School
SUMMARY:Track:  Varsity Meet vs Multiple Schools (Home)  
END:VEVENT
BEGIN:VEVENT
DTSTAMP:20260423T114428Z
UID:3d15db6a-0b8f-43d2-a1d3-7c866540a83b
DTSTART:20260507T190000
DTEND:20260507T200000
DESCRIPTION:
LOCATION:
SUMMARY:Spring Play  Dress Rehearsal
END:VEVENT
BEGIN:VEVENT
DTSTAMP:20260423T114428Z
UID:7c15de5c-219e-4336-b4d5-42bd81ce4ec5
DTSTART;VALUE=DATE:20260508
DTEND;VALUE=DATE:20260509
DESCRIPTION:Type: school only Opponent:  
LOCATION:
SUMMARY:LAST DAY FOR SENIORS   
END:VEVENT
BEGIN:VEVENT
DTSTAMP:20260423T114428Z
UID:68307ac8-7f94-4200-b76b-9638c1a33a49
DTSTART:20260508T073000
DTEND:20260508T153000
DESCRIPTION:Type: school only Opponent:  
LOCATION:Timberlake Ranch
SUMMARY:Junior Blaze Day   
END:VEVENT
BEGIN:VEVENT
DTSTAMP:20260423T114428Z
UID:14ff154d-8b98-4a85-9eac-b1dabd35d61c
DTSTART:20260510T133000
DTEND:20260510T143000
DESCRIPTION:Type: school only Opponent:  
LOCATION:Battle Creek Elementary
SUMMARY:Spring Play   
END:VEVENT
BEGIN:VEVENT
DTSTAMP:20260423T114428Z
UID:d56303be-1146-4c44-a959-f2fba1699135
DTSTART:20260510T133000
DTEND:20260510T143000
DESCRIPTION:
LOCATION:
SUMMARY:Spring Play Performance
END:VEVENT
BEGIN:VEVENT
DTSTAMP:20260423T114428Z
UID:5faf261a-99e9-47d4-bd99-506f24c0c519
DTSTART:20260510T170000
DTEND:20260510T170000
DESCRIPTION:Type: school only Opponent:  
LOCATION:
SUMMARY:Senior Dinner   
END:VEVENT
BEGIN:VEVENT
DTSTAMP:20260423T114428Z
UID:0183344f-f8b9-4e79-9374-18883e28bbb5
DTSTART:20260511T093000
DTEND:20260511T093000
DESCRIPTION:Type: nonconference Opponent: Multiple Schools vs. Norfolk Cath
 olic 
LOCATION:Norfolk Country Club
SUMMARY:Golf:  Boys Varsity Invitational vs Multiple Schools vs. Norfolk Ca
 tholic (Away)  
END:VEVENT
BEGIN:VEVENT
DTSTAMP:20260423T114428Z
UID:fb525cf9-bc4c-4ca1-9f06-7a26912af80a
DTSTART:20260511T190000
DTEND:20260511T201500
DESCRIPTION:
LOCATION:
SUMMARY:Honors Night
END:VEVENT
BEGIN:VEVENT
DTSTAMP:20260423T114428Z
UID:23d375f0-8d2d-4acd-a3af-c2c8023a1027
DTSTART:20260511T190000
DTEND:20260511T203000
DESCRIPTION:
LOCATION:605 W Martin St\, Battle Creek\, NE 68715\, USA
SUMMARY:Honors Night
END:VEVENT
BEGIN:VEVENT
DTSTAMP:20260423T114428Z
UID:6301ddd6-d896-4602-9cd9-204f6737fcda
DTSTART:20260511T190000
DTEND:20260511T190000
DESCRIPTION:Type: school only Opponent:  
LOCATION:Battle Creek High School
SUMMARY:Honors Night   
END:VEVENT
BEGIN:VEVENT
DTSTAMP:20260423T114428Z
UID:03ec5db5-220e-4f6e-a903-ee0fc56816c0
DTSTART:20260512T133000
DTEND:20260512T133000
DESCRIPTION:Type: school only Opponent:  
LOCATION:
SUMMARY:Senior Walk @ Elementary   
END:VEVENT
BEGIN:VEVENT
DTSTAMP:20260423T114428Z
UID:687e4178-2f49-45e2-a188-93e1383140ea
DTSTART:20260512T140000
DTEND:20260512T140000
DESCRIPTION:Type: school only Opponent:  
LOCATION:
SUMMARY:Graduation Practice   
END:VEVENT
BEGIN:VEVENT
DTSTAMP:20260423T114428Z
UID:25928c7d-656f-4670-beaa-5b1b03d24e8a
DTSTART:20260512T190000
DTEND:20260512T200000
DESCRIPTION:Type: school only Opponent:  
LOCATION:Battle Creek Elementary
SUMMARY:Spring Play   
END:VEVENT
BEGIN:VEVENT
DTSTAMP:20260423T114428Z
UID:b1797f5c-274c-45fe-8d2a-7dbf115fd079
DTSTART:20260512T190000
DTEND:20260512T200000
DESCRIPTION:
LOCATION:
SUMMARY:Spring Play Performance
END:VEVENT
BEGIN:VEVENT
DTSTAMP:20260423T114428Z
UID:07fcbc59-44d7-407e-b3fa-d99d2a912a42
DTSTART:20260513T080000
DTEND:20260513T153000
DESCRIPTION:
LOCATION:
SUMMARY:6th Grade Orientation/Shadow Day
END:VEVENT
BEGIN:VEVENT
DTSTAMP:20260423T114428Z
UID:785a43d4-2c03-4bf3-8a2b-cbc2003d15d4
DTSTART:20260513T200000
DTEND:20260514T153000
DESCRIPTION:Type: school only Opponent:  
LOCATION:Battle Creek High School
SUMMARY:6th and 7th Grade Shadow Day   
END:VEVENT
BEGIN:VEVENT
DTSTAMP:20260423T114428Z
UID:ca809629-63a6-4b17-b1a2-c1607469f13e
DTSTART;VALUE=DATE:20260514
DTEND;VALUE=DATE:20260515
DESCRIPTION:Type: nonconference Opponent: TBA 
LOCATION:TBA
SUMMARY:Track:  Varsity Districts vs TBA (Away)  
END:VEVENT
BEGIN:VEVENT
DTSTAMP:20260423T114428Z
UID:4bf1e9f1-a80a-451d-beda-9cec8dfb9057
DTSTART:20260516T110000
DTEND:20260516T110000
DESCRIPTION:Type: nonconference Opponent: State Tournament 
LOCATION:Gothenburg High School
SUMMARY:Track:  Jr. High State vs State Tournament (Away)  
END:VEVENT
BEGIN:VEVENT
DTSTAMP:20260423T114428Z
UID:2edc2a57-15db-44ee-9f1c-37133d6649e2
DTSTART:20260516T150000
DTEND:20260516T150000
DESCRIPTION:Type: school only Opponent:  
LOCATION:
SUMMARY:Graduation   
END:VEVENT
BEGIN:VEVENT
DTSTAMP:20260423T114428Z
UID:1ae85e32-5a64-4fb1-bf1d-21b1d5748f38
DTSTART:20260518T090000
DTEND:20260518T090000
DESCRIPTION:Type: nonconference Opponent: TBA 
LOCATION:TBA
SUMMARY:Golf:  Boys Varsity Districts vs TBA (Away)  
END:VEVENT
BEGIN:VEVENT
DTSTAMP:20260423T114428Z
UID:d4491052-c353-4b2b-bbd9-adcc976ada46
DTSTART:20260518T173000
DTEND:20260518T173000
DESCRIPTION:Type: school only Opponent:  Comments: Volleyball Parent Meetin
 g 
LOCATION:Battle Creek High School
SUMMARY:PARENTS NIGHT- VOLLEYBALL   
END:VEVENT
BEGIN:VEVENT
DTSTAMP:20260423T114428Z
UID:5a3414a9-70f5-4293-aa7a-0e80134d4ce7
DTSTART:20260520T133000
DTEND:20260520T133000
DESCRIPTION:Type: school only Opponent:  
LOCATION:
SUMMARY:Last Day of School: PK-8 Students   
END:VEVENT
BEGIN:VEVENT
DTSTAMP:20260423T114428Z
UID:488a25dc-5194-4cac-97e4-c2ea7faca17b
DTSTART:20260521T133000
DTEND:20260521T133000
DESCRIPTION:Type: school only Opponent:  
LOCATION:
SUMMARY:Last Day of School: 9-12 (1:30 Dismissal)   
END:VEVENT
BEGIN:VEVENT
DTSTAMP:20260423T114428Z
UID:8efdd4cd-e1b8-478b-89b6-16f99587ec9c
DTSTART:20260522T093000
DTEND:20260522T093000
DESCRIPTION:Type: nonconference Opponent: State Tournament 
LOCATION:Omaha Burke Stadium
SUMMARY:Track:  Varsity State vs State Tournament (Away)  
END:VEVENT
BEGIN:VEVENT
DTSTAMP:20260423T114428Z
UID:839c08b9-04f2-4da9-8450-63b611bebb9c
DTSTART:20260522T133000
DTEND:20260522T133000
DESCRIPTION:Type: school only Opponent:  
LOCATION:
SUMMARY:Teacher Work Day   
END:VEVENT
BEGIN:VEVENT
DTSTAMP:20260423T114428Z
UID:5b87a31b-2ca8-4ccb-979e-1b588fbd791e
DTSTART:20260523T093000
DTEND:20260523T093000
DESCRIPTION:Type: nonconference Opponent: State Tournament 
LOCATION:Omaha Burke Stadium
SUMMARY:Track:  Varsity State vs State Tournament (Away)  
END:VEVENT
BEGIN:VEVENT
DTSTAMP:20260423T114428Z
UID:6f2a6dea-b53a-457e-8796-07ea4fd606bd
DTSTART;VALUE=DATE:20260526
DTEND;VALUE=DATE:20260527
DESCRIPTION:Type: school only Opponent:  
LOCATION:
SUMMARY:Make Up Snow Day (If needed)   
END:VEVENT
BEGIN:VEVENT
DTSTAMP:20260423T114428Z
UID:b827ebfb-f9a3-49b9-b447-5914e62764cb
DTSTART;VALUE=DATE:20260527
DTEND;VALUE=DATE:20260528
DESCRIPTION:Type: school only Opponent:  
LOCATION:
SUMMARY:Make Up Snow Day (If needed)   
END:VEVENT
BEGIN:VEVENT
DTSTAMP:20260423T114428Z
UID:8e5d21ee-4432-4fbe-bb8d-9cc2a9bc5c56
DTSTART:20260527T090000
DTEND:20260527T090000
DESCRIPTION:Type: nonconference Opponent: State Tournament  vs.  TBA 
LOCATION:Jackrabbit Run
SUMMARY:Golf:  Boys Varsity State vs State Tournament  vs.  TBA (Away)  
END:VEVENT
BEGIN:VEVENT
DTSTAMP:20260423T114428Z
UID:84151405-0f50-4ee2-8dd4-94de73ee25ed
DTSTART:20260528T090000
DTEND:20260528T090000
DESCRIPTION:Type: nonconference Opponent: State Tournament  vs.  TBA 
LOCATION:Jackrabbit Run
SUMMARY:Golf:  Boys Varsity State vs State Tournament  vs.  TBA (Away)  
END:VEVENT
BEGIN:VEVENT
DTSTAMP:20260423T114428Z
UID:7988fd72-b938-46a1-940e-d1007c0ae031
DTSTART;VALUE=DATE:20260613
DTEND;VALUE=DATE:20260614
DESCRIPTION:Type: school only Opponent:  
LOCATION:
SUMMARY:ACT Test Date   
END:VEVENT
BEGIN:VEVENT
DTSTAMP:20260423T114428Z
UID:cb400050-45ec-459e-9f9d-07b4772070a7
DTSTART;VALUE=DATE:20261017
DTEND;VALUE=DATE:20261018
DESCRIPTION:
LOCATION:
SUMMARY:Homecoming
END:VEVENT
BEGIN:VEVENT
DTSTAMP:20260423T114428Z
UID:e7a184a8-3c19-40be-a1f3-79654373c183
DTSTART;VALUE=DATE:20270410
DTEND;VALUE=DATE:20270411
DESCRIPTION:
LOCATION:
SUMMARY:PROM
END:VEVENT
END:VCALENDAR
