BEGIN:VCALENDAR
VERSION:2.0
PRODID:icalendar-ruby
CALSCALE:GREGORIAN
BEGIN:VTIMEZONE
TZID:America/New_York
BEGIN:DAYLIGHT
DTSTART:20260308T030000
TZOFFSETFROM:-0500
TZOFFSETTO:-0400
RRULE:FREQ=YEARLY;BYDAY=2SU;BYMONTH=3
TZNAME:EDT
END:DAYLIGHT
BEGIN:STANDARD
DTSTART:20261101T010000
TZOFFSETFROM:-0400
TZOFFSETTO:-0500
RRULE:FREQ=YEARLY;BYDAY=1SU;BYMONTH=11
TZNAME:EST
END:STANDARD
END:VTIMEZONE
BEGIN:VEVENT
DTSTAMP:20260425T221647Z
UID:65ddcb01-3262-49d7-b9a7-72e733784703
DTSTART:20260402T080000
DTEND:20260508T090000
DESCRIPTION:<p><span><strong>CLASS OF 2026:</strong>&nbsp\;</span></p><p st
 yle="text-align: left"><span>Credit for Life: Any seniors who wish to atte
 nd the credit for life field trip on May 8\, please return your signed per
 mission slip to Ms. Howell or Ms. Daisy by <strong>April 10</strong>. Plea
 se make sure your name is on it.&nbsp\;</span></p>
LOCATION:
SUMMARY:Credit for Life Field Trip
END:VEVENT
BEGIN:VEVENT
DTSTAMP:20260425T221647Z
UID:8b220db6-4481-4d4e-ae49-63d07b9d7b8d
DTSTART:20260402T080000
DTEND:20260521T090000
DESCRIPTION:<p><span>Senior Reception 2026: Senior Reception will take plac
 e on Thursday\, May 21st from 6-10pm on the Boston Odyssey Cruise. Your be
 havior contracts were handed out in </span>homeroom<span> this week and ar
 e due back to Ms. Mahanna <strong>NO LATER than Friday\, April 10th</stron
 g>. Tickets will be on sale at all three lunches from Monday\, April 13 - 
 Friday\, April 17. Tickets are $30\, and this event is only open to member
 s of the Abington High School senior class. Please see Ms. Mahanna or a cl
 ass officer with any questions.&nbsp\;</span></p><p style="text-align: lef
 t"><span>&nbsp\;</span></p>
LOCATION:
SUMMARY:Senior Reception 2026
END:VEVENT
BEGIN:VEVENT
DTSTAMP:20260425T221647Z
UID:b1168029-8229-4ecb-a885-06751c9ba557
DTSTART:20260427T080000
DTEND:20260427T090000
DESCRIPTION:
LOCATION:
SUMMARY:Classes Resume
END:VEVENT
BEGIN:VEVENT
DTSTAMP:20260425T221647Z
UID:37124232-56b2-41f9-bb9e-f32e14c4f7a8
DTSTART:20260427T140000
DTEND:20260429T150000
DESCRIPTION:<p><span>Join Mr. Grijalva in room 2205 after school. The progr
 am will run from 2:00 to 3:00 p.m. on Monday\, Tuesday\, and Wednesday. Em
 ail or see Mr. Grijalva with any questions. Upcoming dates: <strong><em>Ap
 ril 1\, 6\, 7\, 8\, 13\, 14\, 15\, 27\, 28\, 29</em></strong>&nbsp\;</span
 ></p>
LOCATION:
SUMMARY:ACE - Academic Center for Enrichment
END:VEVENT
BEGIN:VEVENT
DTSTAMP:20260425T221647Z
UID:34cede26-2d57-460a-aa26-60abfb2c20ba
DTSTART:20260429T080000
DTEND:20260429T090000
DESCRIPTION:
LOCATION:
SUMMARY:Wave Week Wednesday - 8:25 AM Start
END:VEVENT
BEGIN:VEVENT
DTSTAMP:20260425T221647Z
UID:2e739a76-f480-474f-8b59-26b9e3dcd1ae
DTSTART:20260430T080000
DTEND:20260430T090000
DESCRIPTION:<p><span>I will be hosting <em>Cookies\, Coffee and Conversatio
 ns with the Superintendent</em> on Thursday\, April 30\, 2026\, at 7:30am 
 and 5:00pm at the Frolio Building (1071 Washington Street) to answer any q
 uestions you may have. I am also available via email at </span><a target="
 _blank" rel="noopener noreferrer nofollow" href="mailto:feliciamoschella@a
 bingtonps.org"><span>feliciamoschella@abingtonps.org</span></a><span> or b
 y phone at 781.982.2150.&nbsp\;</span></p>
LOCATION:1071 Washington St\, Abington\, MA 02351\, USA
SUMMARY:Cookies\, Coffee and Conversation with the Superintendent
END:VEVENT
BEGIN:VEVENT
DTSTAMP:20260425T221647Z
UID:38d30730-b60f-4121-b8ab-c8b693f16f11
DTSTART:20260505T143000
DTEND:20260505T160000
DESCRIPTION:<p>Meetings during the 2025-2026 school year will be held from 
 2:30 pm to 4:00 pm in the Principal’s Conference Room at the high school
 .</p><p style="text-align: left">Proposed Meetings for 2025-2026 School Ye
 ar (2:30 – 4:00 pm) September 30\, October 28\, November 25\, No Decembe
 r Meeting\, January 13\, February 10\, March 10\, April 7\, May 5\, and Ju
 ne 9\, if needed.</p>
LOCATION:
SUMMARY:AHS School Council Meeting
END:VEVENT
BEGIN:VEVENT
DTSTAMP:20260425T221647Z
UID:0b42d51c-1211-4f11-bab7-feb74c23fdf5
DTSTART:20260513T080000
DTEND:20260513T090000
DESCRIPTION:
LOCATION:
SUMMARY:Wave Week Wednesday - 8:25 AM Start
END:VEVENT
BEGIN:VEVENT
DTSTAMP:20260425T221647Z
UID:0a7d3f52-afd7-4ce8-9a65-ceb7ec46a1f9
DTSTART:20260515T080000
DTEND:20260515T090000
DESCRIPTION:
LOCATION:
SUMMARY:Progress Reported in Aspen
END:VEVENT
BEGIN:VEVENT
DTSTAMP:20260425T221647Z
UID:3df384eb-d139-4319-b6ef-0a4613541bd4
DTSTART:20260519T080000
DTEND:20260519T090000
DESCRIPTION:<p>Seniors will return their laptop\, charger and case on Tuesd
 ay\, May 19th. Students who do not return their laptop\, charger or case w
 ill be subject to a $450.00 replacement fee for laptops\, $45.00 fee for c
 hargers and $25.00 for cases.</p>
LOCATION:
SUMMARY:Senior Events - May 19\, 2026 - Return Laptops
END:VEVENT
BEGIN:VEVENT
DTSTAMP:20260425T221647Z
UID:ed1bfc92-a6ab-4d6a-87c9-787a041cee4d
DTSTART:20260521T080000
DTEND:20260521T090000
DESCRIPTION:<p>Last day of classes for seniors and end of quarter 4. Studen
 ts must arrive at 7:25 am and remain through the end of Bridge Block (10:5
 3 am).</p><p>On this last day of school\, seniors will meet in the faculty
  parking lot to decorate cars and proceed to the AHS cafeteria for a paren
 t-sponsored breakfast\, yearbook signing\, and car parade. They will parti
 cipate in a number of activities that will help them say goodbye to high s
 chool.</p><p>Caps &amp\; gowns\, together with final instructions for grad
 uation\, records of immunizations and permanent records will be distribute
 d.</p><p>A senior slide show will be presented in the Auditorium from 10:0
 0 to 10:55 am. Wear your senior t-shirt.</p><p>A packet will be given to t
 he seniors on Thursday\, May 21st at the senior breakfast. This packet wil
 l contain a cap and gown\, final instructions for graduation\, record of i
 mmunizations\, permanent records\, and a copy of the current Individual Ed
 ucation Plan\, if appropriate. This may be the only record you have of the
 se immunizations\, which may Letter to Seniors and Parents of Class of 202
 6 April 6\, 2026.</p><p>Senior Breakfast: Senior parents who are willing t
 o volunteer to make donations for and/or serve breakfast to the senior cla
 ss on Thursday\, May 21st are asked to e-mail parent Katie Williamson at <
 a target="_blank" rel="noopener noreferrer nofollow" href="mailto:kleep452
 5@gmail.com">kleep4525@gmail.com</a>. There will be a yearbook signing and
  caps and gowns and temporary records will be distributed at the conclusio
 n of the breakfast. Students must fulfill their obligations (e.g.\, return
  books\, athletic equipment\, laptops\, chargers\, pay fines\, Letter to S
 eniors and Parents of Class of 2026 April 6\, 2026 administrative obligati
 ons\, pay for cap and gown\, etc.) before they receive their caps and gown
 s. You may also use this link to sign up to bring food or volunteer at Sen
 ior Breakfast or Senior Picnic.</p><p><a target="_blank" rel="noopener nor
 eferrer nofollow" href="https://www.signupgenius.com/go/10C084DAEAC28A5FEC
 52-63130453-senior?fbclid=IwY2xjawQzovJleHRuA2FlbQIxMQBzcnRjBmFwcF9pZBAyMj
 IwMzkxNzg4MjAwODkyAAEeFwuPgdsSS7cvv3pnflA7UPekH8pGm5fxgo6SIIVMJWFbLbQLkAo3
 Fva2t-8_aem_SQNVWRaNKySbBO1zHL28jQ#/">2026 parents: Senior Festivities</a>
 </p><p>If your students have a need for a transcript\, contact the Guidanc
 e Office at 781-982-2165. The permanent transcript will be kept for sixty 
 years beyond graduation.</p><p></p><p>Senior Reception: This year’s Seni
 or Reception will be held on Thursday\, May 21 st. The students should arr
 ive at the AMS cafeteria at 3:45 pm for the Receiving Line.</p><p>Receptio
 n tickets are $30.00. This event is only open to Abington High School seni
 ors. Students must ride the buses if they plan to attend.</p><p>The buses 
 will leave the AHS parking lot at 4:30 pm and return to AHS at 10:30 pm.</
 p>
LOCATION:
SUMMARY:Senior Events - May 21\, 2026
END:VEVENT
BEGIN:VEVENT
DTSTAMP:20260425T221647Z
UID:d6c607ad-9592-4c9f-abfa-9c060354cd85
DTSTART:20260522T080000
DTEND:20260522T090000
DESCRIPTION:<p>Based on quarter 4 report cards\, seniors in good standing w
 ill only have to attend school to make up missed work or meet with their t
 eachers by appointment. To earn this privilege\, seniors must be on track 
 to graduate on May 30th and have passing grades (60 or better) in all cred
 it bearing classes. </p>
LOCATION:
SUMMARY:Senior Events - May 22\, 2026
END:VEVENT
BEGIN:VEVENT
DTSTAMP:20260425T221647Z
UID:525acfda-d3ab-430e-af1e-c6b19cb47dd3
DTSTART:20260525T080000
DTEND:20260525T090000
DESCRIPTION:
LOCATION:
SUMMARY:No School - Memorial Day
END:VEVENT
BEGIN:VEVENT
DTSTAMP:20260425T221647Z
UID:6887c44c-ebd6-4e0d-b6f7-68ffc895c9ba
DTSTART:20260526T173000
DTEND:20260526T190000
DESCRIPTION:<p> Tuesday\, May 26 th Music Banquet at AHS outdoor dining are
 a and cafeteria at 5:30pm. </p>
LOCATION:
SUMMARY:Senior Events - May 26\, 2026
END:VEVENT
BEGIN:VEVENT
DTSTAMP:20260425T221647Z
UID:0b61cde3-d8aa-4d3f-872d-116994283f57
DTSTART:20260527T080000
DTEND:20260527T090000
DESCRIPTION:<p>Wednesday\, May 27 th Seniors’ Athletic Banquet in the Mid
 dle School Cafeteria @ 6:30 pm</p>
LOCATION:
SUMMARY:Senior Events - May 27\, 2026
END:VEVENT
BEGIN:VEVENT
DTSTAMP:20260425T221647Z
UID:c664f358-49bb-4034-9d56-617cbfdb2b5c
DTSTART:20260528T080000
DTEND:20260528T090000
DESCRIPTION:
LOCATION:
SUMMARY:Early Release at 10:46 AM/Staff Professional Development
END:VEVENT
BEGIN:VEVENT
DTSTAMP:20260425T221647Z
UID:73cb609e-15c6-446b-9bcf-b2f343926e6c
DTSTART:20260528T080000
DTEND:20260528T090000
DESCRIPTION:<p>Senior Awards Evening in the Auditorium at 7:00 pm. This is 
 a formal event. Appropriate dress is required (no jeans\, t-shirts\, short
 s\, or hats). The parents of those seniors receiving a special award that 
 evening will be notified by mail the week before the ceremony.</p><p>Senio
 r Awards Night: Senior Awards Night\, the final academic recognition of gr
 aduating seniors\, continues another tradition at AHS. During the ceremony
 \, academic achievement awards and scholarships will be presented to membe
 rs of the Class of 2026. Abington is fortunate to have generous donors sup
 porting the future education of our graduating seniors. Those donors have 
 been invited to present their scholarships that evening. Please join us at
  7:00 pm on Thursday\, May 28 th in the Auditorium to honor our accomplish
 ed seniors. The parents of those seniors receiving a special award that ev
 ening will be notified by mail the week before the ceremony.</p>
LOCATION:
SUMMARY:Senior Events - May 28\,  2026
END:VEVENT
BEGIN:VEVENT
DTSTAMP:20260425T221647Z
UID:2bd6c5b2-172c-426d-a478-498aee3e8c49
DTSTART:20260529T080000
DTEND:20260529T090000
DESCRIPTION:<p>Mandatory Graduation Rehearsal in the Auditorium at 9:00 am.
  Senior Stroll from 10:00 to 11:00 am. Members of the Class of 2026 will r
 evisit the schools they attended for grades K – 12 in caps and gowns and
  bring their education full-circle. The stroll will provide a moment of in
 spiration for other students and staff will have an opportunity to see stu
 dents they previously taught. A picnic\, hosted by senior parents\, will b
 e held at Reilly Field following the stroll.</p><p>Graduation Practice: Gr
 aduation is\, of course\, the culminating event of senior activities with 
 many details to consider. Graduation practice will be held on Friday\, May
  29th at 9:00 am in the auditorium\, and attendance is mandatory. (Rearran
 ge work schedules!)</p><p>Senior Stroll: The Senior Stroll will take place
  on Friday\, May 29th from 10:00 to 11:00 am. Members of the Class of 2026
  will revisit the schools they attended for grades K-12 in caps and gowns 
 and bring their education fullcircle. The stroll will provide a moment of 
 inspiration for other students and staff will have an opportunity to see s
 tudents they previously taught.</p><p>Senior Picnic: Following Friday’s 
 rehearsal\, the senior parents will sponsor their annual picnic for senior
 s at Reilly Field. Parents are asked to email parent Katie Williamson at <
 a target="_blank" rel="noopener noreferrer nofollow" href="mailto:kleep452
 5@gmail.com">kleep4525@gmail.com</a>. with any donations or questions. You
  may also use this link to sign up to bring food or volunteer at Senior Br
 eakfast or Senior Picnic.</p><p><a target="_blank" rel="noopener noreferre
 r nofollow" href="https://www.signupgenius.com/go/10C084DAEAC28A5FEC52-631
 30453-senior?fbclid=IwY2xjawQzovJleHRuA2FlbQIxMQBzcnRjBmFwcF9pZBAyMjIwMzkx
 Nzg4MjAwODkyAAEeFwuPgdsSS7cvv3pnflA7UPekH8pGm5fxgo6SIIVMJWFbLbQLkAo3Fva2t-
 8_aem_SQNVWRaNKySbBO1zHL28jQ#/">2026 parents: Senior Festivities</a></p>
LOCATION:
SUMMARY:Senior Events - May 29\, 2026
END:VEVENT
BEGIN:VEVENT
DTSTAMP:20260425T221647Z
UID:44c4de3b-a3d7-426c-b2a1-76e3154bf3a2
DTSTART:20260530T100000
DTEND:20260530T123000
DESCRIPTION:<p>Graduation on the AHS front lawn at 10:00 am (weather permit
 ting). The graduation ceremony will be moved to the Auditorium if inclemen
 t weather. Seniors must arrive by 9:30 am and park in the Abington Middle 
 School staff lot and meet in the middle school cafeteria. This is a formal
  event and appropriate dress is required.</p><p>Commencement exercises wil
 l be held on the front lawn at AHS at 10:00 am. ❖ On the day of graduati
 on\, seniors should arrive in the AMS cafeteria by 9:30 am. The parking lo
 t adjacent to the middle school will be reserved for seniors. ❖ Seniors 
 should arrive wearing their caps and gowns\, with the tassel on the right 
 side of the cap. (The class valedictorian will signal you to shift the tas
 sels from right to left at the end of the graduation ceremony\, signifying
  that you have graduated.) While seniors are allowed to decorate their gra
 duation caps\, we reserve the right to prohibit a cap which has been inapp
 ropriately and/or offensively decorated. ❖ Seniors will be called indivi
 dually to the stage to be presented a diploma. Inter-State Studio will be 
 taking professional photos of each graduate on the stage with diploma in h
 and. ❖ The ceremony will be live broadcast by Abington CAM (Comcast chan
 nel 14 and Verizon channel 26). ❖ In case of a forecast of inclement wea
 ther for Saturday\, May 30th\, the ceremony will be moved into the Auditor
 ium.</p><p>Graduation is a formal event staged as much for parents and gra
 ndparents as for the graduates. I ask that you join school officials in ur
 ging appropriate decorum and attire for all participants and their guests.
 </p>
LOCATION:
SUMMARY:Class of 2026 Graduation Day
END:VEVENT
BEGIN:VEVENT
DTSTAMP:20260425T221647Z
UID:005fd662-94cd-4ea6-b463-e9ee50a076c5
DTSTART:20260601T080000
DTEND:20260601T090000
DESCRIPTION:
LOCATION:
SUMMARY:Wave Week Monday - 8:25 AM Start
END:VEVENT
BEGIN:VEVENT
DTSTAMP:20260425T221647Z
UID:928b96b8-0825-4679-ba3f-9d3b53dff8bc
DTSTART:20260609T143000
DTEND:20260609T160000
DESCRIPTION:<p>Meetings during the 2025-2026 school year will be held from 
 2:30 pm to 4:00 pm in the Principal’s Conference Room at the high school
 .</p><p style="text-align: left">Proposed Meetings for 2025-2026 School Ye
 ar (2:30 – 4:00 pm) September 30\, October 28\, November 25\, No Decembe
 r Meeting\, January 13\, February 10\, March 10\, April 7\, May 5\, and Ju
 ne 9\, if needed.</p>
LOCATION:
SUMMARY:AHS School Council Meeting
END:VEVENT
BEGIN:VEVENT
DTSTAMP:20260425T221647Z
UID:30224c50-4c2d-4fc0-b60f-8e49a91e2118
DTSTART:20260618T080000
DTEND:20260618T090000
DESCRIPTION:
LOCATION:
SUMMARY:Tentative Last Day of School - Early Dismissal at 10:46 AM
END:VEVENT
BEGIN:VEVENT
DTSTAMP:20260425T221647Z
UID:d26310f3-94d4-420b-946e-0203888e12dd
DTSTART:20260619T080000
DTEND:20260619T090000
DESCRIPTION:
LOCATION:
SUMMARY:No School - Juneteenth
END:VEVENT
END:VCALENDAR
