BEGIN:VCALENDAR
VERSION:2.0
PRODID:icalendar-ruby
CALSCALE:GREGORIAN
BEGIN:VTIMEZONE
TZID:America/New_York
BEGIN:DAYLIGHT
DTSTART:20260308T030000
TZOFFSETFROM:-0500
TZOFFSETTO:-0400
RRULE:FREQ=YEARLY;BYDAY=2SU;BYMONTH=3
TZNAME:EDT
END:DAYLIGHT
BEGIN:STANDARD
DTSTART:20261101T010000
TZOFFSETFROM:-0400
TZOFFSETTO:-0500
RRULE:FREQ=YEARLY;BYDAY=1SU;BYMONTH=11
TZNAME:EST
END:STANDARD
END:VTIMEZONE
BEGIN:VEVENT
DTSTAMP:20260425T040600Z
UID:77369071-5e83-4470-8d40-c23bd6cb0185
DTSTART:20260427T080000
DTEND:20260427T090000
DESCRIPTION:
LOCATION:
SUMMARY:Classes Resume
END:VEVENT
BEGIN:VEVENT
DTSTAMP:20260425T040600Z
UID:2c54dcbd-f9ff-4863-a373-92c6d68453ea
DTSTART:20260430T080000
DTEND:20260430T090000
DESCRIPTION:<p><span>I will be hosting <em>Cookies\, Coffee and Conversatio
 ns with the Superintendent</em> on Thursday\, April 30\, 2026\, at 7:30am 
 and 5:00pm at the Frolio Building (1071 Washington Street) to answer any q
 uestions you may have. I am also available via email at </span><a target="
 _blank" rel="noopener noreferrer nofollow" href="mailto:feliciamoschella@a
 bingtonps.org"><span>feliciamoschella@abingtonps.org</span></a><span> or b
 y phone at 781.982.2150.&nbsp\;</span></p>
LOCATION:1071 Washington St\, Abington\, MA 02351\, USA
SUMMARY:Cookies\, Coffee and Conversation with the Superintendent
END:VEVENT
BEGIN:VEVENT
DTSTAMP:20260425T040600Z
UID:00c8f3fb-873e-40b2-b8a1-4f2179775954
DTSTART:20260430T143000
DTEND:20260430T152500
DESCRIPTION:<p><span>Next Meeting will be on </span><strong>April 30th</str
 ong><span> - Meetings are 2:30 to 3:25 PROMPT PICK UP PLEASE! &nbsp\;</spa
 n></p>
LOCATION:
SUMMARY:Yearbook Meeting
END:VEVENT
BEGIN:VEVENT
DTSTAMP:20260425T040600Z
UID:1181b2ce-6e6e-4766-8a91-81996d855c1f
DTSTART:20260504T080000
DTEND:20260512T090000
DESCRIPTION:<p><span><strong>Math &amp\; Science MCAS Testing</strong></spa
 n></p><p></p><p><span>·&nbsp\;&nbsp\;&nbsp\;&nbsp\;&nbsp\;&nbsp\;&nbsp\;&
 nbsp\; May 4 (Monday) – Grade 5&amp\;6 Math Session 1</span></p><p><span
 >·&nbsp\;&nbsp\;&nbsp\;&nbsp\;&nbsp\;&nbsp\;&nbsp\;&nbsp\; May 5 (Tuesday
 ) – Grade 5&amp\;6 Math Session 2</span></p><p><span>·&nbsp\;&nbsp\;&nb
 sp\;&nbsp\;&nbsp\;&nbsp\;&nbsp\;&nbsp\; May 6 (Wednesday) – Grade 7&amp\
 ;8 Math Session 1</span></p><p><span>·&nbsp\;&nbsp\;&nbsp\;&nbsp\;&nbsp\;
 &nbsp\;&nbsp\;&nbsp\; May 7 (Thursday) – Grade 7&amp\;8 Math Session 2</
 span></p><p><span>·&nbsp\;&nbsp\;&nbsp\;&nbsp\;&nbsp\;&nbsp\;&nbsp\;&nbsp
 \; May 11 (Monday) – Grade 5&amp\;8 Science Session 1</span></p><p><span
 >·&nbsp\;&nbsp\;&nbsp\;&nbsp\;&nbsp\;&nbsp\;&nbsp\;&nbsp\; May 12 (Tuesda
 y) – Grade 5&amp\;8 Science Session 2</span></p>
LOCATION:
SUMMARY:Math & Science MCAS Testing
END:VEVENT
BEGIN:VEVENT
DTSTAMP:20260425T040600Z
UID:d54ee144-4f41-4640-a426-176c5a5a9c7e
DTSTART:20260505T080000
DTEND:20260505T090000
DESCRIPTION:
LOCATION:
SUMMARY:Last Day to Order Yearbooks
END:VEVENT
BEGIN:VEVENT
DTSTAMP:20260425T040600Z
UID:4e81d16d-2c24-476d-a2ba-1463b4304cea
DTSTART:20260506T190000
DTEND:20260506T203000
DESCRIPTION:<ul><li><p>Wed\, May 6th&nbsp\;– AHS &amp\; 7/8 Chorus Concer
 t @ 7pm</p></li></ul>
LOCATION:
SUMMARY:AHS & 7/8 Chorus Concert @ 7pm
END:VEVENT
BEGIN:VEVENT
DTSTAMP:20260425T040600Z
UID:f928f571-72ae-4e1b-8c49-8acacd291c8f
DTSTART:20260507T080000
DTEND:20260508T090000
DESCRIPTION:<p><strong>8th&nbsp\;Grade Semi Ticket Sales</strong></p><p sty
 le="text-align: left"><a target="_blank" rel="noopener noreferrer nofollow
 " href="https://aptg.co/8Sgn8d" relative-link=""><strong>Ticket Informatio
 n</strong></a></p><p style="text-align: left">SAVE THE DATE - Class of 203
 0 Semi Formal – Friday May 15\, 2026 – Frolio School Gymnasium</p><p s
 tyle="text-align: left">“Hollywood Nights”</p>
LOCATION:
SUMMARY:Grade 8 Semi-Formal Tickets on Sale
END:VEVENT
BEGIN:VEVENT
DTSTAMP:20260425T040600Z
UID:fd529dc6-580c-4ed6-a932-4a5f020ca24d
DTSTART:20260511T160000
DTEND:20260511T170000
DESCRIPTION:
LOCATION:Conference Room
SUMMARY:School Council Meeting
END:VEVENT
BEGIN:VEVENT
DTSTAMP:20260425T040600Z
UID:02dc3bfc-0d81-42a1-8762-9a5c82f13bc5
DTSTART:20260511T190000
DTEND:20260511T200000
DESCRIPTION:
LOCATION:AMS Cafeteria
SUMMARY:AMS PTO Meeting
END:VEVENT
BEGIN:VEVENT
DTSTAMP:20260425T040600Z
UID:b974d180-8c13-4b03-a11c-26660cca9e53
DTSTART:20260512T080000
DTEND:20260512T090000
DESCRIPTION:<p><strong>8th&nbsp\;Grade Semi Ticket Sales</strong></p><p sty
 le="text-align: left"><a target="_blank" rel="noopener noreferrer nofollow
 " href="https://aptg.co/8Sgn8d" relative-link=""><strong>Ticket Informatio
 n</strong></a></p><p style="text-align: left">SAVE THE DATE - Class of 203
 0 Semi Formal – Friday May 15\, 2026 – Frolio School Gymnasium</p><p s
 tyle="text-align: left">“Hollywood Nights”</p>
LOCATION:
SUMMARY:Grade 8 Semi-Formal Tickets on Sale
END:VEVENT
BEGIN:VEVENT
DTSTAMP:20260425T040600Z
UID:ec33e06b-b060-4e51-a462-5f070498d518
DTSTART:20260514T143500
DTEND:20260514T153500
DESCRIPTION:
LOCATION:Seminar Room
SUMMARY:Faculty Meeting
END:VEVENT
BEGIN:VEVENT
DTSTAMP:20260425T040600Z
UID:63c0adc3-137b-4f55-af60-a77f30d48fea
DTSTART:20260519T190000
DTEND:20260519T203000
DESCRIPTION:<ul><li><p>Tues\, May 19th&nbsp\;– AHS &amp\; 7/8 Band Concer
 t @ 7pm</p><p></p></li></ul>
LOCATION:
SUMMARY:AHS & 7/8 Band Concert @ 7pm
END:VEVENT
BEGIN:VEVENT
DTSTAMP:20260425T040600Z
UID:8b37a269-0749-4e9c-a5d0-bf17975a69d0
DTSTART:20260520T080000
DTEND:20260521T090000
DESCRIPTION:<p><strong>Civics MCAS Testing</strong></p><p>·&nbsp\;&nbsp\;&
 nbsp\;&nbsp\;&nbsp\;&nbsp\;&nbsp\;&nbsp\; May 20 – Wednesday – Grade 8
  Civics Session 1</p><p>·&nbsp\;&nbsp\;&nbsp\;&nbsp\;&nbsp\;&nbsp\;&nbsp\
 ;&nbsp\; May 21 – Thursday – Grade 8 Civics Session 2</p>
LOCATION:
SUMMARY:Civics MCAS Testing
END:VEVENT
BEGIN:VEVENT
DTSTAMP:20260425T040600Z
UID:9e5164c4-cc0e-417d-ae31-49d347f1eaa2
DTSTART:20260525T080000
DTEND:20260525T090000
DESCRIPTION:
LOCATION:
SUMMARY:No School - Memorial Day
END:VEVENT
BEGIN:VEVENT
DTSTAMP:20260425T040600Z
UID:5fc6ef46-0485-4839-b6eb-20594f8a728f
DTSTART:20260528T080000
DTEND:20260528T090000
DESCRIPTION:
LOCATION:
SUMMARY:Early Release at 11:10 AM/Staff Professional Development
END:VEVENT
BEGIN:VEVENT
DTSTAMP:20260425T040600Z
UID:5f522250-2c5d-4ac5-98a5-1977ac64465b
DTSTART:20260603T190000
DTEND:20260603T203000
DESCRIPTION:<ul><li><p>Wed\, June 3rd&nbsp\;– 5/6 Band Concert @ 7pm</p><
 /li></ul>
LOCATION:
SUMMARY:5/6 Band Concert @ 7pm
END:VEVENT
BEGIN:VEVENT
DTSTAMP:20260425T040600Z
UID:ab5beda1-8c68-427a-a44d-309e751a60b3
DTSTART:20260604T080000
DTEND:20260606T090000
DESCRIPTION:
LOCATION:
SUMMARY:Grade 8 Washington\, D.C. Trip 2026
END:VEVENT
BEGIN:VEVENT
DTSTAMP:20260425T040600Z
UID:b490fdbf-9058-4f0b-8aa9-ce173c9d09ce
DTSTART:20260608T160000
DTEND:20260608T170000
DESCRIPTION:
LOCATION:Conference Room
SUMMARY:School Council Meeting
END:VEVENT
BEGIN:VEVENT
DTSTAMP:20260425T040600Z
UID:6b0265b9-54ab-492b-b185-d7ac42752001
DTSTART:20260608T190000
DTEND:20260608T200000
DESCRIPTION:
LOCATION:AMS Cafeteria
SUMMARY:AMS PTO Meeting
END:VEVENT
BEGIN:VEVENT
DTSTAMP:20260425T040600Z
UID:b4d6734e-1e20-47d8-8258-ad929cc074b6
DTSTART:20260611T143500
DTEND:20260611T153500
DESCRIPTION:
LOCATION:Seminar Room
SUMMARY:Faculty Meeting
END:VEVENT
BEGIN:VEVENT
DTSTAMP:20260425T040600Z
UID:53ab0ece-7980-4dac-8b38-8f56a4e8fa4c
DTSTART:20260618T080000
DTEND:20260618T090000
DESCRIPTION:
LOCATION:
SUMMARY:Tentative Last Day of School - Early Dismissal at 11:10 AM
END:VEVENT
BEGIN:VEVENT
DTSTAMP:20260425T040600Z
UID:7340dc88-d73a-46d2-8b97-75dc0bad4634
DTSTART:20260619T080000
DTEND:20260619T090000
DESCRIPTION:
LOCATION:
SUMMARY:No School - Juneteenth
END:VEVENT
END:VCALENDAR
