BEGIN:VCALENDAR
VERSION:2.0
PRODID:icalendar-ruby
CALSCALE:GREGORIAN
BEGIN:VTIMEZONE
TZID:America/New_York
BEGIN:DAYLIGHT
DTSTART:20260308T030000
TZOFFSETFROM:-0500
TZOFFSETTO:-0400
RRULE:FREQ=YEARLY;BYDAY=2SU;BYMONTH=3
TZNAME:EDT
END:DAYLIGHT
BEGIN:STANDARD
DTSTART:20261101T010000
TZOFFSETFROM:-0400
TZOFFSETTO:-0500
RRULE:FREQ=YEARLY;BYDAY=1SU;BYMONTH=11
TZNAME:EST
END:STANDARD
END:VTIMEZONE
BEGIN:VEVENT
DTSTAMP:20260425T181814Z
UID:09df2aac-0362-4e39-a696-48260a2b79b0
DTSTART:20260521T183000
DTEND:20260521T200000
DESCRIPTION:<p>The Mansfield High School Athletic Department invites you an
 d your families to attend our annual Senior Athletic Awards Night on May 2
 1th at 6:30pm in the MHS Auditorium.&nbsp\;&nbsp\;<br><br><span>The evenin
 g will include a welcome and recap from Athletic Director\, Tim Selmon\, f
 ollowed by the presentation of individual plaques by your coaches.&nbsp\; 
 We will then recognize our top athlete awards and conclude with a highligh
 t film.&nbsp\; The evening will take approximately 60-90 minutes.</span><b
 r><br><span>We are looking forward to celebrating your athletic accomplish
 ments! </span></p>
LOCATION:250 East St\, Mansfield\, MA 02048\, USA
SUMMARY:Senior Athletic Awards Night
END:VEVENT
END:VCALENDAR
