BEGIN:VCALENDAR
VERSION:2.0
PRODID:icalendar-ruby
CALSCALE:GREGORIAN
BEGIN:VTIMEZONE
TZID:America/Chicago
BEGIN:DAYLIGHT
DTSTART:20260308T030000
TZOFFSETFROM:-0600
TZOFFSETTO:-0500
RRULE:FREQ=YEARLY;BYDAY=2SU;BYMONTH=3
TZNAME:CDT
END:DAYLIGHT
BEGIN:STANDARD
DTSTART:20261101T010000
TZOFFSETFROM:-0500
TZOFFSETTO:-0600
RRULE:FREQ=YEARLY;BYDAY=1SU;BYMONTH=11
TZNAME:CST
END:STANDARD
END:VTIMEZONE
BEGIN:VEVENT
DTSTAMP:20260420T060204Z
UID:3fd660d1-ef60-4af4-9347-0246f0018a14
DTSTART:20260420T093000
DTEND:20260420T120000
DESCRIPTION:
LOCATION:
SUMMARY:Week of the Young Child Celebration- World Bird Sanctuary school vi
 sit
END:VEVENT
BEGIN:VEVENT
DTSTAMP:20260420T060204Z
UID:62e860a3-f1e8-420c-9e10-4ea9f7f79cd6
DTSTART:20260421T090000
DTEND:20260421T110000
DESCRIPTION:
LOCATION:
SUMMARY:mad science 9 & 10 am shows
END:VEVENT
BEGIN:VEVENT
DTSTAMP:20260420T060204Z
UID:6c55d369-ec60-48dd-9e8a-497aa2837890
DTSTART:20260428T190000
DTEND:20260428T210000
DESCRIPTION:
LOCATION:1370 Northumberland Dr\, St. Louis\, MO 63137\, USA
SUMMARY:Board of Education Meeting
END:VEVENT
BEGIN:VEVENT
DTSTAMP:20260420T060204Z
UID:e0833662-cbd2-4fc1-8cb6-5062c03a8d6c
DTSTART:20260430T170000
DTEND:20260430T190000
DESCRIPTION:Join us for a districtwide celebration and exhibition of art. E
 njoy art installations and live performances at RGHS in the gymnasium.
LOCATION:1218 Shepley Drive\, St. Louis\, MO 63137
SUMMARY:Districtwide Fine Arts Festival
END:VEVENT
BEGIN:VEVENT
DTSTAMP:20260420T060204Z
UID:7d44c9ac-fc77-4eb6-86db-da7b0bf54025
DTSTART:20260430T180000
DTEND:20260430T200000
DESCRIPTION:Join us at the Magic House for a free evening of family fun! Al
 l participants must register for the event. See you there!
LOCATION:516 S. Kirkwood Road\, St. Louis\, MO 63122
SUMMARY:PAT Magic House Event
END:VEVENT
BEGIN:VEVENT
DTSTAMP:20260420T060204Z
UID:5811490d-fc24-45b1-aa78-c55647b49fb3
DTSTART:20260430T180000
DTEND:20260430T200000
DESCRIPTION:
LOCATION:
SUMMARY:PAT - Magic house - Free Event for Families (Must sign up at MOECAC
 ) 
END:VEVENT
BEGIN:VEVENT
DTSTAMP:20260420T060204Z
UID:b2e7e9dc-9d87-48e3-af5a-db507775ba44
DTSTART:20260505T180000
DTEND:20260505T200000
DESCRIPTION:Join us for our PAC Family Dinner and Talent Show. We'll enjoy 
 great food and good fun. You must register to participate in the dinner or
  to perform at the talent show. This event is presented by RGSD and the St
 . Louis County Police Department.
LOCATION:1950 Nemnich Road\, St. Louis\, MO 63136
SUMMARY:PAC Family Dinner & Talent Show
END:VEVENT
BEGIN:VEVENT
DTSTAMP:20260420T060204Z
UID:8fc13666-1a1b-4834-98b3-677159fe50a4
DTSTART:20260509T120000
DTEND:20260509T160000
DESCRIPTION:Join us at RGHS for a spirited Battle of the Bands. The Mighty 
 Marching Golden Rams will compete against regional marching bands. There i
 s a $10 entry fee. Don't miss it!
LOCATION:1218 Shepley Drive\, St. Louis\, MO 63137
SUMMARY:Band and Drumline Competition
END:VEVENT
BEGIN:VEVENT
DTSTAMP:20260420T060204Z
UID:be628e37-9163-45ba-a114-2e62610a62df
DTSTART:20260512T190000
DTEND:20260512T210000
DESCRIPTION:Meeting held in Board Room
LOCATION:1370 Northumberland Dr\, St. Louis\, MO 63137\, USA
SUMMARY:Board of Education Meeting
END:VEVENT
BEGIN:VEVENT
DTSTAMP:20260420T060204Z
UID:de7c28f3-bd4e-40bd-9955-8aa409cd3f21
DTSTART:20260514T090000
DTEND:20260514T110000
DESCRIPTION:This is a whole school field trip. Ms Kelly can you send Google
  invites for mad scientist \nThank you!
LOCATION:
SUMMARY:Slso field trip -Girafees can’t dance
END:VEVENT
BEGIN:VEVENT
DTSTAMP:20260420T060204Z
UID:52693b1b-0395-4059-a0bb-6ebe3bc1c2af
DTSTART:20260520T090000
DTEND:20260520T130000
DESCRIPTION:
LOCATION:
SUMMARY:FIELD DAY-MOECAC
END:VEVENT
BEGIN:VEVENT
DTSTAMP:20260420T060204Z
UID:d44233a4-a142-48d8-a05f-e32d88ee6011
DTSTART:20260521T180000
DTEND:20260521T200000
DESCRIPTION:
LOCATION:211 Mark Twain Dr\, St. Louis\, MO 63121\, USA
SUMMARY:Riverview Gardens HS Graduation
END:VEVENT
BEGIN:VEVENT
DTSTAMP:20260420T060204Z
UID:d2f85d6c-4266-4ec7-a7b4-40b17a462a83
DTSTART:20260522T090000
DTEND:20260522T150000
DESCRIPTION:
LOCATION:
SUMMARY:Aloha MOECAC PROMOTION CEREMONY- Class times are specific contact t
 he office for details
END:VEVENT
BEGIN:VEVENT
DTSTAMP:20260420T060204Z
UID:9030785f-0597-43e1-9f28-ceb284d15f8d
DTSTART;VALUE=DATE:20260525
DTEND;VALUE=DATE:20260526
DESCRIPTION:
LOCATION:
SUMMARY:Memorial Day Holiday - District Closed
END:VEVENT
BEGIN:VEVENT
DTSTAMP:20260420T060204Z
UID:bfd23e16-c791-482e-a443-47f4a52b42f6
DTSTART:20260526T190000
DTEND:20260526T210000
DESCRIPTION:
LOCATION:1370 Northumberland Dr\, St. Louis\, MO 63137\, USA
SUMMARY:Board of Education Meeting
END:VEVENT
BEGIN:VEVENT
DTSTAMP:20260420T060204Z
UID:5f9c0b82-2eb2-468b-be91-6aaddb3dd7f6
DTSTART;VALUE=DATE:20260527
DTEND;VALUE=DATE:20260528
DESCRIPTION:
LOCATION:
SUMMARY:Last Day of School/Quarter - Early Release
END:VEVENT
BEGIN:VEVENT
DTSTAMP:20260420T060204Z
UID:0e48d4e3-d67a-48e3-b2ab-588485007ab4
DTSTART:20260609T190000
DTEND:20260609T210000
DESCRIPTION:Meeting held in Board Room
LOCATION:1370 Northumberland Dr\, St. Louis\, MO 63137\, USA
SUMMARY:Board of Education Meeting
END:VEVENT
BEGIN:VEVENT
DTSTAMP:20260420T060204Z
UID:2fa2e832-4895-466b-b5c7-fd6e8a4d60eb
DTSTART;VALUE=DATE:20260619
DTEND;VALUE=DATE:20260620
DESCRIPTION:
LOCATION:
SUMMARY:Juneteenth Holiday - District Closed
END:VEVENT
BEGIN:VEVENT
DTSTAMP:20260420T060204Z
UID:5afb3d4c-17f9-4627-b71b-a28cf2d6ed16
DTSTART:20260623T190000
DTEND:20260623T210000
DESCRIPTION:Meeting held in Board Room
LOCATION:1370 Northumberland Dr\, St. Louis\, MO 63137\, USA
SUMMARY:Board of Education Meeting
END:VEVENT
END:VCALENDAR
