BEGIN:VCALENDAR
VERSION:2.0
PRODID:icalendar-ruby
CALSCALE:GREGORIAN
BEGIN:VTIMEZONE
TZID:America/Chicago
BEGIN:DAYLIGHT
DTSTART:20260308T030000
TZOFFSETFROM:-0600
TZOFFSETTO:-0500
RRULE:FREQ=YEARLY;BYDAY=2SU;BYMONTH=3
TZNAME:CDT
END:DAYLIGHT
BEGIN:STANDARD
DTSTART:20261101T010000
TZOFFSETFROM:-0500
TZOFFSETTO:-0600
RRULE:FREQ=YEARLY;BYDAY=1SU;BYMONTH=11
TZNAME:CST
END:STANDARD
END:VTIMEZONE
BEGIN:VEVENT
DTSTAMP:20260424T164856Z
UID:b3841d08-c076-4fd2-8aac-bc2e0d011aeb
DTSTART;VALUE=DATE:20260424
DTEND;VALUE=DATE:20260425
DESCRIPTION:
LOCATION:
SUMMARY:Spring Pictures and Kindergarten Graduation Pictures
END:VEVENT
BEGIN:VEVENT
DTSTAMP:20260424T164856Z
UID:54e367c2-0150-4592-aa04-232d4ab3c74b
DTSTART;VALUE=DATE:20260428
DTEND;VALUE=DATE:20260429
DESCRIPTION:
LOCATION:
SUMMARY:STAAR Math Grades 3-4
END:VEVENT
BEGIN:VEVENT
DTSTAMP:20260424T164856Z
UID:28533fd3-48d6-404d-9cfb-b27c9a6f5dc7
DTSTART:20260501T080000
DTEND:20260501T100000
DESCRIPTION:
LOCATION:
SUMMARY:HERO Award Ceremony  (by invitation only)
END:VEVENT
BEGIN:VEVENT
DTSTAMP:20260424T164856Z
UID:6e0acc5b-6f11-4c2d-98da-eb59a72f14cf
DTSTART;VALUE=DATE:20260504
DTEND;VALUE=DATE:20260509
DESCRIPTION:
LOCATION:
SUMMARY:Staff Appreciation Week
END:VEVENT
BEGIN:VEVENT
DTSTAMP:20260424T164856Z
UID:6354ae02-a66b-43c0-bbad-92ceda0ff3b3
DTSTART:20260507T130000
DTEND:20260507T133000
DESCRIPTION:
LOCATION:
SUMMARY:PTO Meeting
END:VEVENT
BEGIN:VEVENT
DTSTAMP:20260424T164856Z
UID:b027f61a-9bc6-43dd-af67-7e8f6fe02288
DTSTART;VALUE=DATE:20260520
DTEND;VALUE=DATE:20260521
DESCRIPTION:
LOCATION:
SUMMARY:Kindergarten End of Year Program
END:VEVENT
BEGIN:VEVENT
DTSTAMP:20260424T164856Z
UID:00902ebc-523d-40b9-9122-3997d87e1d98
DTSTART;VALUE=DATE:20260522
DTEND;VALUE=DATE:20260523
DESCRIPTION:
LOCATION:
SUMMARY:Early Release
END:VEVENT
BEGIN:VEVENT
DTSTAMP:20260424T164856Z
UID:6de9d478-686b-405d-bab5-9a23290c4b25
DTSTART:20260522T110000
DTEND:20260522T113000
DESCRIPTION:
LOCATION:
SUMMARY:4th Grade Confetti Parade
END:VEVENT
BEGIN:VEVENT
DTSTAMP:20260424T164856Z
UID:2509adcf-0386-4e18-a9fd-68ec54b42c24
DTSTART;VALUE=DATE:20260523
DTEND;VALUE=DATE:20260524
DESCRIPTION:
LOCATION:
SUMMARY:Summer Break Begins!
END:VEVENT
END:VCALENDAR
