BEGIN:VCALENDAR
VERSION:2.0
PRODID:icalendar-ruby
CALSCALE:GREGORIAN
BEGIN:VTIMEZONE
TZID:America/Chicago
BEGIN:DAYLIGHT
DTSTART:20260308T030000
TZOFFSETFROM:-0600
TZOFFSETTO:-0500
RRULE:FREQ=YEARLY;BYDAY=2SU;BYMONTH=3
TZNAME:CDT
END:DAYLIGHT
BEGIN:STANDARD
DTSTART:20261101T010000
TZOFFSETFROM:-0500
TZOFFSETTO:-0600
RRULE:FREQ=YEARLY;BYDAY=1SU;BYMONTH=11
TZNAME:CST
END:STANDARD
END:VTIMEZONE
BEGIN:VEVENT
DTSTAMP:20260420T071859Z
UID:6edce0a8-ab6d-43f6-99c5-0dd037ac87f1
DTSTART;VALUE=DATE:20260421
DTEND;VALUE=DATE:20260422
DESCRIPTION:
LOCATION:
SUMMARY:STAAR Science (5th Grade Only)
END:VEVENT
BEGIN:VEVENT
DTSTAMP:20260420T071859Z
UID:1902a09a-cd7e-4fcd-a0f5-0c11edb07951
DTSTART;VALUE=DATE:20260428
DTEND;VALUE=DATE:20260429
DESCRIPTION:
LOCATION:
SUMMARY:STAAR Math
END:VEVENT
BEGIN:VEVENT
DTSTAMP:20260420T071859Z
UID:ce3eb057-4271-4977-89f9-ac0be56ce2e9
DTSTART:20260505T100000
DTEND:20260505T110000
DESCRIPTION:
LOCATION:
SUMMARY:PTO Meeting
END:VEVENT
BEGIN:VEVENT
DTSTAMP:20260420T071859Z
UID:60359d00-32ee-44a0-b87a-58ae4b81f0fe
DTSTART:20260507T173000
DTEND:20260507T183000
DESCRIPTION:
LOCATION:
SUMMARY:Incoming 5th Grade Parent Information Night
END:VEVENT
BEGIN:VEVENT
DTSTAMP:20260420T071859Z
UID:149c0463-79a9-4133-8768-64c1c523fffc
DTSTART;VALUE=DATE:20260508
DTEND;VALUE=DATE:20260509
DESCRIPTION:
LOCATION:
SUMMARY:Incentive Field Trip (no referrals and good attendance for the year
 )
END:VEVENT
BEGIN:VEVENT
DTSTAMP:20260420T071859Z
UID:0c2cb96c-e6f4-444f-9ee3-20ed2b67f0d7
DTSTART:20260511T093000
DTEND:20260511T113000
DESCRIPTION:
LOCATION:
SUMMARY:6th Grade Fiesta (PTO Sponsored)
END:VEVENT
BEGIN:VEVENT
DTSTAMP:20260420T071859Z
UID:21ad8b0e-2dac-417c-88ba-cba5c6f45007
DTSTART:20260511T124500
DTEND:20260511T154500
DESCRIPTION:
LOCATION:
SUMMARY:5th Grade Fiesta (PTO Sponsored)
END:VEVENT
BEGIN:VEVENT
DTSTAMP:20260420T071859Z
UID:c217e88a-f3da-4b96-9d14-38672235aac2
DTSTART;VALUE=DATE:20260513
DTEND;VALUE=DATE:20260514
DESCRIPTION:
LOCATION:
SUMMARY:Attendance Incentive Field Trip
END:VEVENT
BEGIN:VEVENT
DTSTAMP:20260420T071859Z
UID:b2d5e6fe-9c34-4b77-8a02-ef18dd94727e
DTSTART:20260514T100000
DTEND:20260514T103000
DESCRIPTION:
LOCATION:
SUMMARY:Oak Ridge Grad Walk
END:VEVENT
BEGIN:VEVENT
DTSTAMP:20260420T071859Z
UID:6b39ce0a-8d99-447d-9d6d-e47e3168f256
DTSTART:20260520T093000
DTEND:20260520T103000
DESCRIPTION:
LOCATION:
SUMMARY:6th Grade Awards Ceremony
END:VEVENT
BEGIN:VEVENT
DTSTAMP:20260420T071859Z
UID:d5f0b3dd-c845-4ef1-9ec8-584a95c875ac
DTSTART:20260521T093000
DTEND:20260521T103000
DESCRIPTION:
LOCATION:
SUMMARY:5th Grade Awards Ceremony
END:VEVENT
BEGIN:VEVENT
DTSTAMP:20260420T071859Z
UID:a7447fbb-4b4a-45c5-9982-a3fdf459a953
DTSTART;VALUE=DATE:20260522
DTEND;VALUE=DATE:20260523
DESCRIPTION:
LOCATION:
SUMMARY:Splash Bash Reward Day (No referrals for April and May)
END:VEVENT
END:VCALENDAR
