BEGIN:VCALENDAR
VERSION:2.0
PRODID:icalendar-ruby
CALSCALE:GREGORIAN
BEGIN:VTIMEZONE
TZID:America/Chicago
BEGIN:DAYLIGHT
DTSTART:20260308T030000
TZOFFSETFROM:-0600
TZOFFSETTO:-0500
RRULE:FREQ=YEARLY;BYDAY=2SU;BYMONTH=3
TZNAME:CDT
END:DAYLIGHT
BEGIN:STANDARD
DTSTART:20261101T010000
TZOFFSETFROM:-0500
TZOFFSETTO:-0600
RRULE:FREQ=YEARLY;BYDAY=1SU;BYMONTH=11
TZNAME:CST
END:STANDARD
END:VTIMEZONE
BEGIN:VEVENT
DTSTAMP:20260419T182036Z
UID:9f033c0f-f437-443f-a4be-05851888aeb7
DTSTART;VALUE=DATE:20260422
DTEND;VALUE=DATE:20260423
DESCRIPTION:<p><a target="_blank" rel="noopener noreferrer nofollow" href="
 https://docs.google.com/forms/d/e/1FAIpQLSdvDNc2_LBtdHT-45LTjnxp3IiABBIvC7
 Dr3TwBY9tVt5y6NA/viewform" relative-link="">Sports Physical Sign Up </a></
 p><p><a target="_blank" rel="noopener noreferrer nofollow" href="https://a
 ptg.co/Z3mRFY" relative-link="">Sports Physical Flyer</a></p><p><a target=
 "_blank" rel="noopener noreferrer nofollow" href="https://aptg.co/R1LXjy" 
 relative-link="">Sports Physical Permission Slip </a></p>
LOCATION:
SUMMARY:Sports Physicals Caney Creek High School
END:VEVENT
BEGIN:VEVENT
DTSTAMP:20260419T182036Z
UID:c5f57885-914e-4958-8b8c-81973e42583b
DTSTART:20260509T100000
DTEND:20260509T140000
DESCRIPTION:<p>Moorhead Junior High And CIS Presents Panthers Market. Come 
 sell your handmade items and delicious food at the Panther's Market. It is
  going on from 10:00 AM to 2:00 PM at Moorhead Junior High.</p><p>Student 
 booths are $10 dollars.</p><p>Non Student booths are $50 dollars.</p><p>Fo
 od vendors please contact Ms. Quinones at <a target="_blank" rel="noopener
  noreferrer nofollow" href="mailto:nquinonesnegron@conroeisd.net">nquinone
 snegron@conroeisd.net</a>.</p><p>Please see the flyer below for more infor
 mation.</p><p><a target="_blank" rel="noopener noreferrer nofollow" href="
 https://aptg.co/Hp1hQs" relative-link="">Panther's Market Informational Fl
 yer</a></p>
LOCATION:13715 Grangerland Rd\, Conroe\, TX 77306\, USA
SUMMARY:Panther's Market 
END:VEVENT
END:VCALENDAR
