BEGIN:VCALENDAR
VERSION:2.0
PRODID:icalendar-ruby
CALSCALE:GREGORIAN
BEGIN:VTIMEZONE
TZID:America/Chicago
BEGIN:DAYLIGHT
DTSTART:20260308T030000
TZOFFSETFROM:-0600
TZOFFSETTO:-0500
RRULE:FREQ=YEARLY;BYDAY=2SU;BYMONTH=3
TZNAME:CDT
END:DAYLIGHT
BEGIN:STANDARD
DTSTART:20261101T010000
TZOFFSETFROM:-0500
TZOFFSETTO:-0600
RRULE:FREQ=YEARLY;BYDAY=1SU;BYMONTH=11
TZNAME:CST
END:STANDARD
END:VTIMEZONE
BEGIN:VEVENT
DTSTAMP:20260419T125640Z
UID:1f9b7ff1-0204-4c03-b8c5-37ad0368afdb
DTSTART;VALUE=DATE:20260427
DTEND;VALUE=DATE:20260428
DESCRIPTION:
LOCATION:
SUMMARY:ASHP Senior Celebration
END:VEVENT
BEGIN:VEVENT
DTSTAMP:20260419T125640Z
UID:46f67093-e090-430a-b0cc-bd412674f768
DTSTART;VALUE=DATE:20260430
DTEND;VALUE=DATE:20260501
DESCRIPTION:
LOCATION:
SUMMARY:CTE Awards Ceremony - Invitation Only
END:VEVENT
BEGIN:VEVENT
DTSTAMP:20260419T125640Z
UID:7a4f20d2-eb0a-4be5-bd0c-dbf7feeca1a1
DTSTART;VALUE=DATE:20260501
DTEND;VALUE=DATE:20260502
DESCRIPTION:
LOCATION:
SUMMARY:Senior Honor Breakfast - Invitation Only
END:VEVENT
BEGIN:VEVENT
DTSTAMP:20260419T125640Z
UID:6f42b077-1377-4c58-81dc-99331d68f237
DTSTART;VALUE=DATE:20260506
DTEND;VALUE=DATE:20260507
DESCRIPTION:
LOCATION:
SUMMARY:Senior Final Exams - 5th Period and 7th Period
END:VEVENT
BEGIN:VEVENT
DTSTAMP:20260419T125640Z
UID:344825d5-f3f4-4990-993c-1205ec6aec04
DTSTART:20260506T110000
DTEND:20260506T130000
DESCRIPTION:
LOCATION:
SUMMARY:Cap and Gown Pick-Up During All Lunches
END:VEVENT
BEGIN:VEVENT
DTSTAMP:20260419T125640Z
UID:8a4f54a2-b2ce-4e11-89ad-ad8f80d65560
DTSTART;VALUE=DATE:20260507
DTEND;VALUE=DATE:20260508
DESCRIPTION:
LOCATION:
SUMMARY:Senior Awards Night - Invitation Only
END:VEVENT
BEGIN:VEVENT
DTSTAMP:20260419T125640Z
UID:38858566-4393-4621-a5a5-a6f303f50be6
DTSTART;VALUE=DATE:20260507
DTEND;VALUE=DATE:20260508
DESCRIPTION:
LOCATION:
SUMMARY:Senior Final Exams - 6th Period and 8th Period
END:VEVENT
BEGIN:VEVENT
DTSTAMP:20260419T125640Z
UID:9f57bd99-73a1-4357-a2bb-ae32903692a6
DTSTART:20260507T110000
DTEND:20260507T130000
DESCRIPTION:
LOCATION:
SUMMARY:Cap and Gown Pick-Up During All Lunches
END:VEVENT
BEGIN:VEVENT
DTSTAMP:20260419T125640Z
UID:76d64563-f6fe-439d-a3f5-c6d573728994
DTSTART;VALUE=DATE:20260508
DTEND;VALUE=DATE:20260509
DESCRIPTION:
LOCATION:
SUMMARY:Prom
END:VEVENT
BEGIN:VEVENT
DTSTAMP:20260419T125640Z
UID:af675ed1-4162-4788-afb1-6972da7514d6
DTSTART;VALUE=DATE:20260512
DTEND;VALUE=DATE:20260513
DESCRIPTION:
LOCATION:
SUMMARY:Senior Final Exams - 1tst Period and 3rd Period
END:VEVENT
BEGIN:VEVENT
DTSTAMP:20260419T125640Z
UID:f0a665a0-8205-42f0-9dcc-b64472c9043f
DTSTART;VALUE=DATE:20260513
DTEND;VALUE=DATE:20260514
DESCRIPTION:
LOCATION:
SUMMARY:Senior Final Exams - 2nd Period and 4th Period
END:VEVENT
BEGIN:VEVENT
DTSTAMP:20260419T125640Z
UID:5dc1895a-6a02-4a65-b7f9-6079bcd0d496
DTSTART;VALUE=DATE:20260513
DTEND;VALUE=DATE:20260514
DESCRIPTION:
LOCATION:
SUMMARY:Senior Clap-Out  and  Last Day of School for Seniors!
END:VEVENT
BEGIN:VEVENT
DTSTAMP:20260419T125640Z
UID:f8985b24-e310-41f4-8b67-55e2e739c146
DTSTART;VALUE=DATE:20260515
DTEND;VALUE=DATE:20260516
DESCRIPTION:
LOCATION:
SUMMARY:Senior Walk at Feeder Schools
END:VEVENT
BEGIN:VEVENT
DTSTAMP:20260419T125640Z
UID:90bffbdd-0052-4be2-95de-d506a4238174
DTSTART:20260515T150000
DTEND:20260515T170000
DESCRIPTION:
LOCATION:
SUMMARY:Graduation Ticket Pick-Up
END:VEVENT
BEGIN:VEVENT
DTSTAMP:20260419T125640Z
UID:5e26c6da-d740-44c1-962d-5102475e43f7
DTSTART:20260518T193000
DTEND:20260518T220000
DESCRIPTION:
LOCATION:
SUMMARY:Graduation - Cynthia Woods Mitchell Pavilion
END:VEVENT
BEGIN:VEVENT
DTSTAMP:20260419T125640Z
UID:efe47088-e9ac-4ad6-8d7c-ef60b0bbcc2f
DTSTART;VALUE=DATE:20260519
DTEND;VALUE=DATE:20260520
DESCRIPTION:
LOCATION:
SUMMARY:Final Exams - 4th Period and 8th Period
END:VEVENT
BEGIN:VEVENT
DTSTAMP:20260419T125640Z
UID:14a6df5b-ddf8-4d4b-878b-67b804373c22
DTSTART:20260520T071500
DTEND:20260520T113000
DESCRIPTION:
LOCATION:
SUMMARY:Final Exams - 1st Period and 3rd Period / Early Release
END:VEVENT
BEGIN:VEVENT
DTSTAMP:20260419T125640Z
UID:74e42589-1705-4c22-8580-41109bb64716
DTSTART:20260521T071500
DTEND:20260521T113000
DESCRIPTION:
LOCATION:
SUMMARY:Final Exams - 2nd Period and 6th Period / Early Release
END:VEVENT
BEGIN:VEVENT
DTSTAMP:20260419T125640Z
UID:777c7fad-22d4-4344-a13a-bed58137b681
DTSTART:20260522T071500
DTEND:20260522T113000
DESCRIPTION:
LOCATION:
SUMMARY:Final Exams - 5th Period and 7th Period / Early Release
END:VEVENT
END:VCALENDAR
