BEGIN:VCALENDAR
VERSION:2.0
PRODID:icalendar-ruby
CALSCALE:GREGORIAN
BEGIN:VTIMEZONE
TZID:America/Chicago
BEGIN:DAYLIGHT
DTSTART:20260308T030000
TZOFFSETFROM:-0600
TZOFFSETTO:-0500
RRULE:FREQ=YEARLY;BYDAY=2SU;BYMONTH=3
TZNAME:CDT
END:DAYLIGHT
BEGIN:STANDARD
DTSTART:20261101T010000
TZOFFSETFROM:-0500
TZOFFSETTO:-0600
RRULE:FREQ=YEARLY;BYDAY=1SU;BYMONTH=11
TZNAME:CST
END:STANDARD
END:VTIMEZONE
BEGIN:VEVENT
DTSTAMP:20260425T155912Z
UID:c5de9989-0f8f-412b-81ff-8c84e440a4d6
DTSTART:20260511T173000
DTEND:20260511T183000
DESCRIPTION:
LOCATION:
SUMMARY:City Council Meeting
END:VEVENT
BEGIN:VEVENT
DTSTAMP:20260425T155912Z
UID:0901c47f-2d9d-4b0f-a0d9-d6a5c4f6f97a
DTSTART:20260601T173000
DTEND:20260601T183000
DESCRIPTION:
LOCATION:2912 W Commercial St\, Ozark\, AR 72949\, USA
SUMMARY:Quarterly Committee Meeting
END:VEVENT
BEGIN:VEVENT
DTSTAMP:20260425T155912Z
UID:4fc3ef33-7934-41e3-bbb0-84e2712e9cce
DTSTART:20260608T173000
DTEND:20260608T183000
DESCRIPTION:
LOCATION:
SUMMARY:City Council Meeting
END:VEVENT
BEGIN:VEVENT
DTSTAMP:20260425T155912Z
UID:fa33b88d-a8c8-48be-8ef5-18257e4c87ae
DTSTART:20260713T173000
DTEND:20260713T183000
DESCRIPTION:
LOCATION:
SUMMARY:City Council Meeting
END:VEVENT
BEGIN:VEVENT
DTSTAMP:20260425T155912Z
UID:fa10ed0f-ba7c-4d14-b723-c451173b6594
DTSTART:20260810T173000
DTEND:20260810T183000
DESCRIPTION:
LOCATION:
SUMMARY:City Council Meeting
END:VEVENT
BEGIN:VEVENT
DTSTAMP:20260425T155912Z
UID:8eb11030-9c60-4939-89e6-14d8866f23c9
DTSTART:20260824T173000
DTEND:20260824T183000
DESCRIPTION:
LOCATION:2913 W Commercial St\, Ozark\, AR 72949\, USA
SUMMARY:Quarterly Committee Meeting
END:VEVENT
BEGIN:VEVENT
DTSTAMP:20260425T155912Z
UID:8b1fae0f-e523-44c3-80df-e051f8f7d4be
DTSTART:20260914T173000
DTEND:20260914T183000
DESCRIPTION:
LOCATION:
SUMMARY:City Council Meeting
END:VEVENT
BEGIN:VEVENT
DTSTAMP:20260425T155912Z
UID:e81721d8-3730-4424-b8f0-d5174a95c214
DTSTART:20261012T173000
DTEND:20261012T183000
DESCRIPTION:
LOCATION:
SUMMARY:City Council Meeting
END:VEVENT
BEGIN:VEVENT
DTSTAMP:20260425T155912Z
UID:a433dddd-515d-4041-813d-689ab6d71e8f
DTSTART:20261109T173000
DTEND:20261109T183000
DESCRIPTION:
LOCATION:
SUMMARY:City Council Meeting
END:VEVENT
BEGIN:VEVENT
DTSTAMP:20260425T155912Z
UID:3d88907f-4f5a-4ed6-b698-28316934b1b9
DTSTART:20261116T173000
DTEND:20261116T183000
DESCRIPTION:
LOCATION:2913 W Commercial St\, Ozark\, AR 72949\, USA
SUMMARY:Quarterly Committee Meeting
END:VEVENT
BEGIN:VEVENT
DTSTAMP:20260425T155912Z
UID:7d56e6f3-1da1-4fd3-b990-d15981457c86
DTSTART:20261214T173000
DTEND:20261214T183000
DESCRIPTION:
LOCATION:
SUMMARY:City Council Meeting
END:VEVENT
END:VCALENDAR
