BEGIN:VCALENDAR
VERSION:2.0
PRODID:icalendar-ruby
CALSCALE:GREGORIAN
BEGIN:VTIMEZONE
TZID:America/Chicago
BEGIN:DAYLIGHT
DTSTART:20260308T030000
TZOFFSETFROM:-0600
TZOFFSETTO:-0500
RRULE:FREQ=YEARLY;BYDAY=2SU;BYMONTH=3
TZNAME:CDT
END:DAYLIGHT
BEGIN:STANDARD
DTSTART:20261101T010000
TZOFFSETFROM:-0500
TZOFFSETTO:-0600
RRULE:FREQ=YEARLY;BYDAY=1SU;BYMONTH=11
TZNAME:CST
END:STANDARD
END:VTIMEZONE
BEGIN:VEVENT
DTSTAMP:20260420T195633Z
UID:1d5e0d5f-5d20-4fd0-a7e1-a11e1d6720a1
DTSTART:20260420T183000
DTEND:20260420T193000
DESCRIPTION:
LOCATION:
SUMMARY:AE Band Spring  Concert
END:VEVENT
BEGIN:VEVENT
DTSTAMP:20260420T195633Z
UID:f2d448d7-51b4-4af8-8ad7-d834a126258a
DTSTART;VALUE=DATE:20260421
DTEND;VALUE=DATE:20260422
DESCRIPTION:
LOCATION:
SUMMARY:Assessment ( 7-8 STAAR Math)
END:VEVENT
BEGIN:VEVENT
DTSTAMP:20260420T195633Z
UID:d5ef1213-0621-4940-afea-394501e1916f
DTSTART;VALUE=DATE:20260422
DTEND;VALUE=DATE:20260423
DESCRIPTION:
LOCATION:
SUMMARY:Assessment (6 STAAR Math\, HS EOC Alg 1)
END:VEVENT
BEGIN:VEVENT
DTSTAMP:20260420T195633Z
UID:2609104b-43a5-4edd-927f-c136608c5719
DTSTART:20260425T183000
DTEND:20260425T193000
DESCRIPTION:
LOCATION:
SUMMARY:AHS-Theatre-Improv Alumni show
END:VEVENT
BEGIN:VEVENT
DTSTAMP:20260420T195633Z
UID:f8503b0d-4410-4f0f-a7d1-55eb223c0a0a
DTSTART:20260430T140000
DTEND:20260430T150000
DESCRIPTION:
LOCATION:
SUMMARY:Cross Timbers Elementary Talent Show
END:VEVENT
BEGIN:VEVENT
DTSTAMP:20260420T195633Z
UID:e41e84f8-418a-4d20-8e01-4310b584f722
DTSTART:20260430T180000
DTEND:20260430T190000
DESCRIPTION:
LOCATION:
SUMMARY:Liberty 1st Grade "Bunnies\, the Musical"
END:VEVENT
BEGIN:VEVENT
DTSTAMP:20260420T195633Z
UID:a88e8c9f-f3f4-4e43-9bf7-7b3d58eeaca8
DTSTART;VALUE=DATE:20260502
DTEND;VALUE=DATE:20260503
DESCRIPTION:
LOCATION:
SUMMARY:AHS-Theatre Student Directed One-Act Plays
END:VEVENT
BEGIN:VEVENT
DTSTAMP:20260420T195633Z
UID:5999bca2-902d-4405-99bb-90591392aabe
DTSTART;VALUE=DATE:20260502
DTEND;VALUE=DATE:20260503
DESCRIPTION:9:00am-3:00pm
LOCATION:
SUMMARY:HS Band Chamber Music Contest
END:VEVENT
BEGIN:VEVENT
DTSTAMP:20260420T195633Z
UID:6228fcd2-c9b4-4a74-a1c4-4dd290e148d9
DTSTART:20260504T180000
DTEND:20260504T200000
DESCRIPTION:
LOCATION:
SUMMARY:Hoover and Forte Band
END:VEVENT
BEGIN:VEVENT
DTSTAMP:20260420T195633Z
UID:19a3f226-35f7-4b9f-99e5-fd3d3ed2056d
DTSTART:20260505T183000
DTEND:20260505T193000
DESCRIPTION:
LOCATION:
SUMMARY:AJH/AE Choir
END:VEVENT
BEGIN:VEVENT
DTSTAMP:20260420T195633Z
UID:1b7cd69c-2ee1-4e4b-8cf6-5f4f4a352297
DTSTART:20260506T180000
DTEND:20260506T190000
DESCRIPTION:Group 1
LOCATION:Silver Creek Elementary School\, 10300 S Farm to Market Rd 730\, A
 zle\, TX 76020\, USA
SUMMARY:Silver Creek ES 2nd Grade Program (Family Folk Dance Night)
END:VEVENT
BEGIN:VEVENT
DTSTAMP:20260420T195633Z
UID:915bc571-8e90-4475-a29d-b752e3350eff
DTSTART:20260507T180000
DTEND:20260507T190000
DESCRIPTION:Group 2
LOCATION:Silver Creek Elementary School\, 10300 S Farm to Market Rd 730\, A
 zle\, TX 76020\, USA
SUMMARY:Silver Creek ES 2nd Grade Program (Family Folk Dance Night)
END:VEVENT
BEGIN:VEVENT
DTSTAMP:20260420T195633Z
UID:a83fc01d-ba4b-4c10-9e55-521a9ae090bd
DTSTART:20260507T183000
DTEND:20260507T193000
DESCRIPTION:
LOCATION:
SUMMARY:HS Band Honors Recital
END:VEVENT
BEGIN:VEVENT
DTSTAMP:20260420T195633Z
UID:76c348b6-cdde-4182-a3f4-3340b728e67c
DTSTART:20260507T183000
DTEND:20260507T193000
DESCRIPTION:
LOCATION:
SUMMARY:Walnut Creek El. Kinder Program
END:VEVENT
BEGIN:VEVENT
DTSTAMP:20260420T195633Z
UID:cc4a16f6-bf9d-41e0-b60b-72d3e7c79f5a
DTSTART;VALUE=DATE:20260508
DTEND;VALUE=DATE:20260509
DESCRIPTION:6:30pm- AHS Auditorium
LOCATION:
SUMMARY:An Evening of Jazz
END:VEVENT
BEGIN:VEVENT
DTSTAMP:20260420T195633Z
UID:37884811-8726-48cd-b854-c15d47174207
DTSTART:20260508T090000
DTEND:20260508T100000
DESCRIPTION:
LOCATION:
SUMMARY:Walnut Creek El. Kinder Program
END:VEVENT
BEGIN:VEVENT
DTSTAMP:20260420T195633Z
UID:25ffafbc-2964-452d-8f46-a55396acc26f
DTSTART:20260511T183000
DTEND:20260511T193000
DESCRIPTION:
LOCATION:
SUMMARY:AJH Band 
END:VEVENT
BEGIN:VEVENT
DTSTAMP:20260420T195633Z
UID:870bf7a4-9d00-40a4-a2c5-ff0b51908c0c
DTSTART:20260511T183000
DTEND:20260511T200000
DESCRIPTION:
LOCATION:Forte Jr High
SUMMARY:Forte Theatre Showcase
END:VEVENT
BEGIN:VEVENT
DTSTAMP:20260420T195633Z
UID:75cf28e6-0479-4dfb-9535-c20a2aecb89d
DTSTART:20260512T183000
DTEND:20260512T193000
DESCRIPTION:
LOCATION:
SUMMARY:HS Band Spring Concert
END:VEVENT
BEGIN:VEVENT
DTSTAMP:20260420T195633Z
UID:628b44b8-9d4b-4042-9d20-04fc5ded4016
DTSTART:20260513T183000
DTEND:20260513T193000
DESCRIPTION:
LOCATION:
SUMMARY:Forte and Hoover Choir
END:VEVENT
BEGIN:VEVENT
DTSTAMP:20260420T195633Z
UID:1ad44458-e848-45ce-b8b9-868ab94afc14
DTSTART:20260514T183000
DTEND:20260514T193000
DESCRIPTION:
LOCATION:
SUMMARY:HS Choir Spring Concert
END:VEVENT
BEGIN:VEVENT
DTSTAMP:20260420T195633Z
UID:a16893c1-14e8-4621-a253-1908d0839946
DTSTART;VALUE=DATE:20260519
DTEND;VALUE=DATE:20260520
DESCRIPTION:
LOCATION:
SUMMARY:Assessment (Semester Exams)
END:VEVENT
BEGIN:VEVENT
DTSTAMP:20260420T195633Z
UID:5b47371f-4263-47d2-a7a1-b2780a06edfc
DTSTART:20260519T140000
DTEND:20260519T150000
DESCRIPTION:
LOCATION:
SUMMARY:Hilltop Elem. Kindergarten Program
END:VEVENT
BEGIN:VEVENT
DTSTAMP:20260420T195633Z
UID:aee95461-4656-49f3-b166-9e712e949c01
DTSTART:20260519T180000
DTEND:20260519T190000
DESCRIPTION:
LOCATION:
SUMMARY:Hilltop Elem. Kindergarten Program
END:VEVENT
BEGIN:VEVENT
DTSTAMP:20260420T195633Z
UID:45012495-bb74-47d0-94f7-86a3ba3e8efd
DTSTART;VALUE=DATE:20260520
DTEND;VALUE=DATE:20260521
DESCRIPTION:
LOCATION:
SUMMARY:Assessment (Semester Exams)
END:VEVENT
BEGIN:VEVENT
DTSTAMP:20260420T195633Z
UID:a2cdf13d-1ea7-4965-9d25-6ea29e0fbdd3
DTSTART:20260520T083000
DTEND:20260520T093000
DESCRIPTION:
LOCATION:
SUMMARY:Liberty Kinder "My Favorite Songs"
END:VEVENT
BEGIN:VEVENT
DTSTAMP:20260420T195633Z
UID:7c07839c-86ee-46cb-a0ce-88a38a85610a
DTSTART:20260520T093000
DTEND:20260520T103000
DESCRIPTION:
LOCATION:
SUMMARY:Liberty Pre-K "My Favorite Songs"
END:VEVENT
BEGIN:VEVENT
DTSTAMP:20260420T195633Z
UID:0940d785-4094-4aa8-ae76-1c85afe14924
DTSTART:20260520T180000
DTEND:20260520T181500
DESCRIPTION:For parents and families
LOCATION:Silver Creek Elementary School\, 10300 S Farm to Market Rd 730\, A
 zle\, TX 76020\, USA
SUMMARY:Silver Creek ES Kindergarten Graduation
END:VEVENT
BEGIN:VEVENT
DTSTAMP:20260420T195633Z
UID:52d50b4e-e7f1-40c3-ad7b-3d740ec071a9
DTSTART;VALUE=DATE:20260521
DTEND;VALUE=DATE:20260522
DESCRIPTION:
LOCATION:
SUMMARY:Assessment (Semester Exams)
END:VEVENT
BEGIN:VEVENT
DTSTAMP:20260420T195633Z
UID:76f3efbe-030b-4177-b0bf-17d2339bf8fe
DTSTART;VALUE=DATE:20260521
DTEND;VALUE=DATE:20260522
DESCRIPTION:
LOCATION:
SUMMARY:Graduation
END:VEVENT
BEGIN:VEVENT
DTSTAMP:20260420T195633Z
UID:cdb4850e-83e9-4ee7-974d-2be7809509a2
DTSTART:20260521T080000
DTEND:20260521T123000
DESCRIPTION:
LOCATION:
SUMMARY:Half Day
END:VEVENT
BEGIN:VEVENT
DTSTAMP:20260420T195633Z
UID:27528107-578f-4049-8dab-7d76422c63c0
DTSTART:20260522T080000
DTEND:20260522T160000
DESCRIPTION:
LOCATION:
SUMMARY:Work Day
END:VEVENT
BEGIN:VEVENT
DTSTAMP:20260420T195633Z
UID:9d243014-0442-4f74-b2a7-fc7e60d87fcf
DTSTART;VALUE=DATE:20260526
DTEND;VALUE=DATE:20260530
DESCRIPTION:
LOCATION:
SUMMARY:May Marching Camp (9-4)
END:VEVENT
END:VCALENDAR
