BEGIN:VCALENDAR
VERSION:2.0
PRODID:icalendar-ruby
CALSCALE:GREGORIAN
BEGIN:VTIMEZONE
TZID:America/New_York
BEGIN:DAYLIGHT
DTSTART:20260308T030000
TZOFFSETFROM:-0500
TZOFFSETTO:-0400
RRULE:FREQ=YEARLY;BYDAY=2SU;BYMONTH=3
TZNAME:EDT
END:DAYLIGHT
BEGIN:STANDARD
DTSTART:20261101T010000
TZOFFSETFROM:-0400
TZOFFSETTO:-0500
RRULE:FREQ=YEARLY;BYDAY=1SU;BYMONTH=11
TZNAME:EST
END:STANDARD
END:VTIMEZONE
BEGIN:VEVENT
DTSTAMP:20260423T130006Z
UID:e1f6b686-b90d-4b7d-8859-830c018a33da
DTSTART:20260423T170000
DTEND:20260423T200000
DESCRIPTION:
LOCATION:Barnwell High School\, 474 Jackson St\, Barnwell\, SC 29812\, USA
SUMMARY:Softball @ Barnwell
END:VEVENT
BEGIN:VEVENT
DTSTAMP:20260423T130006Z
UID:2244bd14-aa7d-4cf8-8129-e5be965ab778
DTSTART:20260423T173000
DTEND:20260423T203000
DESCRIPTION:
LOCATION:Woodland High School\, 4128 US-78\, Dorchester\, SC 29437\, USA
SUMMARY:Boys Soccer vs. Philip Simmons (HOME)
END:VEVENT
BEGIN:VEVENT
DTSTAMP:20260423T130006Z
UID:6d2fe229-7705-4353-8de9-d1000a60be90
DTSTART:20260424T170000
DTEND:20260424T200000
DESCRIPTION:
LOCATION:Timberland High School\, 1418 Gravel Hill Rd\, St Stephen\, SC 294
 79\, USA
SUMMARY:Softball @ Timberland
END:VEVENT
BEGIN:VEVENT
DTSTAMP:20260423T130006Z
UID:0160ee6c-cd2f-4e85-8353-bf6f9f5230c8
DTSTART:20260424T170000
DTEND:20260424T180000
DESCRIPTION:
LOCATION:Woodland High School\, 4128 US-78\, Dorchester\, SC 29437\, USA
SUMMARY:Track & Field Woodland Middle School Invitational
END:VEVENT
BEGIN:VEVENT
DTSTAMP:20260423T130006Z
UID:a93d75f6-ffe7-46ca-811c-474013c8e3a9
DTSTART:20260424T180000
DTEND:20260424T190000
DESCRIPTION:
LOCATION:Timberland High School\, 1418 Gravel Hill Rd\, St Stephen\, SC 294
 79\, USA
SUMMARY:Varsity Baseball @ Timberland
END:VEVENT
BEGIN:VEVENT
DTSTAMP:20260423T130006Z
UID:c18b7ede-485d-4b32-b3bb-88ed9b3a552e
DTSTART:20260427T160000
DTEND:20260427T170000
DESCRIPTION:
LOCATION:Lake Marion Golf Course\, 9069 SC-6\, Santee\, SC 29142\, USA
SUMMARY:Golf vs. Stratford
END:VEVENT
BEGIN:VEVENT
DTSTAMP:20260423T130006Z
UID:b9956014-a4d6-48cc-a5b4-16f36f29cc5b
DTSTART:20260427T170000
DTEND:20260427T200000
DESCRIPTION:
LOCATION:Beaufort High School\, 84 Sea Island Pkwy\, Beaufort\, SC 29907\, 
 USA
SUMMARY:Softball @ Beaufort
END:VEVENT
BEGIN:VEVENT
DTSTAMP:20260423T130006Z
UID:2723d4d2-d8f7-4f2d-a59c-5f73e423877b
DTSTART:20260427T190000
DTEND:20260427T200000
DESCRIPTION:
LOCATION:St John's High School\, 1518 Main Rd\, Johns Island\, SC 29455\, U
 SA
SUMMARY:Varsity Boys Soccer @ St. Johns
END:VEVENT
BEGIN:VEVENT
DTSTAMP:20260423T130006Z
UID:f432f4cf-ddc5-4d91-a3ee-1613648b4e12
DTSTART:20260428T170000
DTEND:20260428T200000
DESCRIPTION:
LOCATION:Branchville High School\, 1349 Dorange Rd\, Branchville\, SC 29432
 \, USA
SUMMARY:Softball @ Branchville
END:VEVENT
BEGIN:VEVENT
DTSTAMP:20260423T130006Z
UID:23a78444-bb2b-4e73-8415-293ce18bd020
DTSTART;VALUE=DATE:20260429
DTEND;VALUE=DATE:20260430
DESCRIPTION:
LOCATION:
SUMMARY:Interim Reports Issued
END:VEVENT
BEGIN:VEVENT
DTSTAMP:20260423T130006Z
UID:8ba1a257-5408-43df-9c46-2f8c07049af0
DTSTART:20260429T170000
DTEND:20260429T180000
DESCRIPTION:
LOCATION:Woodland High School\, 4128 US-78\, Dorchester\, SC 29437\, USA
SUMMARY:Track & Field 2A Region 6 Championships
END:VEVENT
BEGIN:VEVENT
DTSTAMP:20260423T130006Z
UID:f5f366bf-2525-4a42-a63b-6e2e4e0fcf22
DTSTART:20260430T173000
DTEND:20260430T203000
DESCRIPTION:
LOCATION:Hampton County High School\, 115 Airport Rd\, Hampton\, SC 29924\,
  USA
SUMMARY:Boys Soccer @ Hampton County
END:VEVENT
BEGIN:VEVENT
DTSTAMP:20260423T130006Z
UID:ab81413c-fd06-47b1-8600-ee9aa41d1e2a
DTSTART;VALUE=DATE:20260501
DTEND;VALUE=DATE:20260502
DESCRIPTION:
LOCATION:
SUMMARY:School Lunch Hero Day
END:VEVENT
BEGIN:VEVENT
DTSTAMP:20260423T130006Z
UID:d323c39d-c5e9-4996-a3bf-f3cc570bb022
DTSTART;VALUE=DATE:20260501
DTEND;VALUE=DATE:20260502
DESCRIPTION:
LOCATION:
SUMMARY:School Principal's Day
END:VEVENT
BEGIN:VEVENT
DTSTAMP:20260423T130006Z
UID:d7255907-7a67-426a-a2a3-684e1c74055d
DTSTART:20260501T163000
DTEND:20260501T173000
DESCRIPTION:
LOCATION:Fort Dorchester High School\, 8500 Patriot Blvd\, North Charleston
 \, SC 29420\, USA
SUMMARY:Unified Track Lower State Championship @ FDHS
END:VEVENT
BEGIN:VEVENT
DTSTAMP:20260423T130006Z
UID:d4cf8eaa-3b2e-477c-8897-56b140cc7623
DTSTART:20260501T180000
DTEND:20260501T190000
DESCRIPTION:
LOCATION:Cane Bay High School\, 1624 State Rd\, Summerville\, SC 29486\, US
 A
SUMMARY:Varsity Softball @ Cane Bay
END:VEVENT
BEGIN:VEVENT
DTSTAMP:20260423T130006Z
UID:c3211774-5650-4cc2-b5bc-9cce1e2aac6a
DTSTART:20260502T130000
DTEND:20260502T140000
DESCRIPTION:
LOCATION:St George Tennis Center\, 215 Park St\, St George\, SC 29477\, USA
SUMMARY:Tennis Awards Banquet
END:VEVENT
BEGIN:VEVENT
DTSTAMP:20260423T130006Z
UID:2d7501f0-9853-4398-96e7-60fd61010b22
DTSTART;VALUE=DATE:20260504
DTEND;VALUE=DATE:20260509
DESCRIPTION:
LOCATION:
SUMMARY:Teacher Appreciation Week
END:VEVENT
BEGIN:VEVENT
DTSTAMP:20260423T130006Z
UID:d1d249bd-bb14-4395-829e-53172936fc9c
DTSTART;VALUE=DATE:20260506
DTEND;VALUE=DATE:20260507
DESCRIPTION:
LOCATION:
SUMMARY:School Nurse Appreciation Day
END:VEVENT
BEGIN:VEVENT
DTSTAMP:20260423T130006Z
UID:8f1278cb-75a8-4499-a699-a9ac6901de6a
DTSTART:20260506T150000
DTEND:20260506T160000
DESCRIPTION:
LOCATION:
SUMMARY:WHS Attendance Celebration
END:VEVENT
BEGIN:VEVENT
DTSTAMP:20260423T130006Z
UID:6f455b5c-96f6-4039-bca8-4418ac7e11ef
DTSTART:20260509T090000
DTEND:20260509T160000
DESCRIPTION:
LOCATION:Woodland High School\, 4128 US-78\, Dorchester\, SC 29437\, USA
SUMMARY:Track & Field 2A Lower State
END:VEVENT
BEGIN:VEVENT
DTSTAMP:20260423T130006Z
UID:935bcd58-3dd5-4d95-bb9e-d02af2b81502
DTSTART:20260513T180000
DTEND:20260513T190000
DESCRIPTION:
LOCATION:
SUMMARY:Awards Banquet for Basketball (Girls and Boys)
END:VEVENT
BEGIN:VEVENT
DTSTAMP:20260423T130006Z
UID:ba3f844d-fae0-444a-90ae-0d23ec24fbfa
DTSTART;VALUE=DATE:20260515
DTEND;VALUE=DATE:20260516
DESCRIPTION:
LOCATION:Richland Northeast High School\, 7500 Brookfield Rd\, Columbia\, S
 C 29223\, USA
SUMMARY:Track & Field 2A State Chamipionship
END:VEVENT
BEGIN:VEVENT
DTSTAMP:20260423T130006Z
UID:fde7d2c2-7e44-4070-8311-c81acf457359
DTSTART;VALUE=DATE:20260516
DTEND;VALUE=DATE:20260517
DESCRIPTION:
LOCATION:Richland Northeast High School\, 7500 Brookfield Rd\, Columbia\, S
 C 29223\, USA
SUMMARY:Unified Track State Championships
END:VEVENT
BEGIN:VEVENT
DTSTAMP:20260423T130006Z
UID:514cce2b-d3ab-42ac-bb0c-b10504dd8429
DTSTART:20260517T180000
DTEND:20260517T190000
DESCRIPTION:
LOCATION:
SUMMARY:WHS Baccalaureate (TBD)
END:VEVENT
BEGIN:VEVENT
DTSTAMP:20260423T130006Z
UID:74d6f3bb-1d35-4a02-83b0-7d8e9c7f8854
DTSTART;VALUE=DATE:20260518
DTEND;VALUE=DATE:20260519
DESCRIPTION:
LOCATION:
SUMMARY:School Pathologist Day
END:VEVENT
BEGIN:VEVENT
DTSTAMP:20260423T130006Z
UID:03934abd-bca7-4297-b23a-b16826366d1e
DTSTART:20260519T180000
DTEND:20260519T193000
DESCRIPTION:
LOCATION:600 Minus St\, St George\, SC 29477\, USA
SUMMARY:DD4 Board Meeting
END:VEVENT
BEGIN:VEVENT
DTSTAMP:20260423T130006Z
UID:8d0a024a-8f28-47fd-8dd4-c4ce349544b2
DTSTART;VALUE=DATE:20260525
DTEND;VALUE=DATE:20260526
DESCRIPTION:
LOCATION:
SUMMARY:Memorial Day (No School)
END:VEVENT
BEGIN:VEVENT
DTSTAMP:20260423T130006Z
UID:7177cf26-317b-48d6-ba28-722b214a1a72
DTSTART;VALUE=DATE:20260529
DTEND;VALUE=DATE:20260530
DESCRIPTION:
LOCATION:
SUMMARY:Last Day for Students FULL DAY End 4th Quarter / Report Cards Issue
 d
END:VEVENT
BEGIN:VEVENT
DTSTAMP:20260423T130006Z
UID:6d22b18c-641c-41ca-9bb1-96693c8066ec
DTSTART:20260530T073000
DTEND:20260530T083000
DESCRIPTION:
LOCATION:Woodland High School\, 4128 US-78\, Dorchester\, SC 29437\, USA
SUMMARY:Woodland HS Graduation
END:VEVENT
BEGIN:VEVENT
DTSTAMP:20260423T130006Z
UID:1ae67a0e-44f5-4e0f-9eb2-6c4bc0485fd2
DTSTART:20260814T190000
DTEND:20260814T210000
DESCRIPTION:
LOCATION:Ashley Ridge High School\, 9800 Delemar Hwy\, Summerville\, SC 294
 85\, USA
SUMMARY:Dorchester County Showdown HS Football
END:VEVENT
BEGIN:VEVENT
DTSTAMP:20260423T130006Z
UID:8a446278-a78c-4ee3-a61f-d2326e859b14
DTSTART;VALUE=DATE:20260826
DTEND;VALUE=DATE:20260827
DESCRIPTION:
LOCATION:
SUMMARY:Early Release Day
END:VEVENT
BEGIN:VEVENT
DTSTAMP:20260423T130006Z
UID:d3310c60-49de-4e7c-b469-481be50dad65
DTSTART;VALUE=DATE:20260926
DTEND;VALUE=DATE:20260927
DESCRIPTION:
LOCATION:Woodland High School\, 4128 US-78\, Dorchester\, SC 29437\, USA
SUMMARY:Lowcountry Battle of the Bands
END:VEVENT
BEGIN:VEVENT
DTSTAMP:20260423T130006Z
UID:0bd3b1d8-3694-4e1a-8495-5f356700d41a
DTSTART;VALUE=DATE:20260930
DTEND;VALUE=DATE:20261001
DESCRIPTION:
LOCATION:
SUMMARY:Early Release Day
END:VEVENT
BEGIN:VEVENT
DTSTAMP:20260423T130006Z
UID:86e1a8f9-fbfc-47eb-85d8-b6c9098d97cc
DTSTART;VALUE=DATE:20261002
DTEND;VALUE=DATE:20261003
DESCRIPTION:
LOCATION:
SUMMARY:Custodian Appreciation Day
END:VEVENT
BEGIN:VEVENT
DTSTAMP:20260423T130006Z
UID:4bb2809f-6418-4197-a054-c4ea7d32bb39
DTSTART;VALUE=DATE:20261028
DTEND;VALUE=DATE:20261029
DESCRIPTION:
LOCATION:
SUMMARY:Early Release Day
END:VEVENT
BEGIN:VEVENT
DTSTAMP:20260423T130006Z
UID:6472cdf1-f3d6-4a29-9bc1-2db370814e2e
DTSTART;VALUE=DATE:20270127
DTEND;VALUE=DATE:20270128
DESCRIPTION:
LOCATION:
SUMMARY:Early Release Day
END:VEVENT
BEGIN:VEVENT
DTSTAMP:20260423T130006Z
UID:1cd539ee-1fbd-44a2-9773-5b2fa080bccb
DTSTART;VALUE=DATE:20270224
DTEND;VALUE=DATE:20270225
DESCRIPTION:
LOCATION:
SUMMARY:Early Release Day
END:VEVENT
BEGIN:VEVENT
DTSTAMP:20260423T130006Z
UID:b4e93b41-2a85-4b0a-aa04-837fc624a32b
DTSTART;VALUE=DATE:20270428
DTEND;VALUE=DATE:20270429
DESCRIPTION:
LOCATION:
SUMMARY:Early Release Day
END:VEVENT
BEGIN:VEVENT
DTSTAMP:20260423T130006Z
UID:8a9a30bc-26db-4861-8a8e-a0fb2dfd6aac
DTSTART;VALUE=DATE:20271002
DTEND;VALUE=DATE:20271003
DESCRIPTION:
LOCATION:
SUMMARY:Custodian Appreciation Day
END:VEVENT
BEGIN:VEVENT
DTSTAMP:20260423T130006Z
UID:5475bb37-892e-42d4-8115-0b1dbed823ae
DTSTART;VALUE=DATE:20281002
DTEND;VALUE=DATE:20281003
DESCRIPTION:
LOCATION:
SUMMARY:Custodian Appreciation Day
END:VEVENT
BEGIN:VEVENT
DTSTAMP:20260423T130006Z
UID:862fd44c-6f21-4858-a1eb-641e3c2cdf9f
DTSTART;VALUE=DATE:20291002
DTEND;VALUE=DATE:20291003
DESCRIPTION:
LOCATION:
SUMMARY:Custodian Appreciation Day
END:VEVENT
BEGIN:VEVENT
DTSTAMP:20260423T130006Z
UID:59092a0e-24cc-4e19-b5ed-649cd7b4e9ac
DTSTART;VALUE=DATE:20301002
DTEND;VALUE=DATE:20301003
DESCRIPTION:
LOCATION:
SUMMARY:Custodian Appreciation Day
END:VEVENT
BEGIN:VEVENT
DTSTAMP:20260423T130006Z
UID:eb180319-79dc-4067-962a-bb02719980bf
DTSTART;VALUE=DATE:20311002
DTEND;VALUE=DATE:20311003
DESCRIPTION:
LOCATION:
SUMMARY:Custodian Appreciation Day
END:VEVENT
BEGIN:VEVENT
DTSTAMP:20260423T130006Z
UID:b4438c3a-1d6a-4415-a31f-7c74d5c20aaa
DTSTART;VALUE=DATE:20321002
DTEND;VALUE=DATE:20321003
DESCRIPTION:
LOCATION:
SUMMARY:Custodian Appreciation Day
END:VEVENT
BEGIN:VEVENT
DTSTAMP:20260423T130006Z
UID:fd73c328-3c1a-4210-a95f-26d68b617039
DTSTART;VALUE=DATE:20331002
DTEND;VALUE=DATE:20331003
DESCRIPTION:
LOCATION:
SUMMARY:Custodian Appreciation Day
END:VEVENT
BEGIN:VEVENT
DTSTAMP:20260423T130006Z
UID:a3631f49-7662-4407-ab85-0659096c1b1c
DTSTART;VALUE=DATE:20341002
DTEND;VALUE=DATE:20341003
DESCRIPTION:
LOCATION:
SUMMARY:Custodian Appreciation Day
END:VEVENT
BEGIN:VEVENT
DTSTAMP:20260423T130006Z
UID:a049d086-10b5-4061-98b8-c23596d9735d
DTSTART;VALUE=DATE:20351002
DTEND;VALUE=DATE:20351003
DESCRIPTION:
LOCATION:
SUMMARY:Custodian Appreciation Day
END:VEVENT
BEGIN:VEVENT
DTSTAMP:20260423T130006Z
UID:06d5816a-14ad-45d4-bfc2-1b4845f6cbdf
DTSTART;VALUE=DATE:20361002
DTEND;VALUE=DATE:20361003
DESCRIPTION:
LOCATION:
SUMMARY:Custodian Appreciation Day
END:VEVENT
BEGIN:VEVENT
DTSTAMP:20260423T130006Z
UID:014efb34-2450-4642-a88a-38716594afad
DTSTART;VALUE=DATE:20371002
DTEND;VALUE=DATE:20371003
DESCRIPTION:
LOCATION:
SUMMARY:Custodian Appreciation Day
END:VEVENT
BEGIN:VEVENT
DTSTAMP:20260423T130006Z
UID:ad4200c2-0e01-4838-a6dc-5d3073ad1504
DTSTART;VALUE=DATE:20381002
DTEND;VALUE=DATE:20381003
DESCRIPTION:
LOCATION:
SUMMARY:Custodian Appreciation Day
END:VEVENT
BEGIN:VEVENT
DTSTAMP:20260423T130006Z
UID:f528633b-fe8b-48e0-8fa4-45969ccc392c
DTSTART;VALUE=DATE:20391002
DTEND;VALUE=DATE:20391003
DESCRIPTION:
LOCATION:
SUMMARY:Custodian Appreciation Day
END:VEVENT
BEGIN:VEVENT
DTSTAMP:20260423T130006Z
UID:e7a6b1ac-c2aa-4ef0-af5a-92a0b330d468
DTSTART;VALUE=DATE:20401002
DTEND;VALUE=DATE:20401003
DESCRIPTION:
LOCATION:
SUMMARY:Custodian Appreciation Day
END:VEVENT
BEGIN:VEVENT
DTSTAMP:20260423T130006Z
UID:9bb4db34-092a-4bbd-9b0f-b3c5d8827a38
DTSTART;VALUE=DATE:20411002
DTEND;VALUE=DATE:20411003
DESCRIPTION:
LOCATION:
SUMMARY:Custodian Appreciation Day
END:VEVENT
BEGIN:VEVENT
DTSTAMP:20260423T130006Z
UID:af4286cb-4cf7-4b19-b943-6b87c5cebfe7
DTSTART;VALUE=DATE:20421002
DTEND;VALUE=DATE:20421003
DESCRIPTION:
LOCATION:
SUMMARY:Custodian Appreciation Day
END:VEVENT
BEGIN:VEVENT
DTSTAMP:20260423T130006Z
UID:bc3d6ee9-779e-4486-bba5-3971e1993edc
DTSTART;VALUE=DATE:20431002
DTEND;VALUE=DATE:20431003
DESCRIPTION:
LOCATION:
SUMMARY:Custodian Appreciation Day
END:VEVENT
BEGIN:VEVENT
DTSTAMP:20260423T130006Z
UID:37a4a71b-e89c-4e20-9126-831617e9bf22
DTSTART;VALUE=DATE:20441002
DTEND;VALUE=DATE:20441003
DESCRIPTION:
LOCATION:
SUMMARY:Custodian Appreciation Day
END:VEVENT
BEGIN:VEVENT
DTSTAMP:20260423T130006Z
UID:6430c751-e895-4220-8409-a9425d90ef7c
DTSTART;VALUE=DATE:20451002
DTEND;VALUE=DATE:20451003
DESCRIPTION:
LOCATION:
SUMMARY:Custodian Appreciation Day
END:VEVENT
BEGIN:VEVENT
DTSTAMP:20260423T130006Z
UID:156c98db-a928-46a6-9a34-4b8d57ca26c5
DTSTART;VALUE=DATE:20461002
DTEND;VALUE=DATE:20461003
DESCRIPTION:
LOCATION:
SUMMARY:Custodian Appreciation Day
END:VEVENT
BEGIN:VEVENT
DTSTAMP:20260423T130006Z
UID:06c813f5-7df8-4af6-8bc4-207792eebf9b
DTSTART;VALUE=DATE:20471002
DTEND;VALUE=DATE:20471003
DESCRIPTION:
LOCATION:
SUMMARY:Custodian Appreciation Day
END:VEVENT
BEGIN:VEVENT
DTSTAMP:20260423T130006Z
UID:66cea021-a5cb-4dd7-9016-6b8398053d1d
DTSTART;VALUE=DATE:20481002
DTEND;VALUE=DATE:20481003
DESCRIPTION:
LOCATION:
SUMMARY:Custodian Appreciation Day
END:VEVENT
BEGIN:VEVENT
DTSTAMP:20260423T130006Z
UID:cd51c981-fd58-4898-ad40-190706c512a4
DTSTART;VALUE=DATE:20491002
DTEND;VALUE=DATE:20491003
DESCRIPTION:
LOCATION:
SUMMARY:Custodian Appreciation Day
END:VEVENT
BEGIN:VEVENT
DTSTAMP:20260423T130006Z
UID:029a5569-59b5-48dc-a1cf-c76ef9269bfa
DTSTART;VALUE=DATE:20501002
DTEND;VALUE=DATE:20501003
DESCRIPTION:
LOCATION:
SUMMARY:Custodian Appreciation Day
END:VEVENT
BEGIN:VEVENT
DTSTAMP:20260423T130006Z
UID:923fa0ab-61ad-4164-a178-16634326f262
DTSTART;VALUE=DATE:20511002
DTEND;VALUE=DATE:20511003
DESCRIPTION:
LOCATION:
SUMMARY:Custodian Appreciation Day
END:VEVENT
BEGIN:VEVENT
DTSTAMP:20260423T130006Z
UID:41fcfd15-e89c-49a9-a175-ccc2a2daa5b5
DTSTART;VALUE=DATE:20521002
DTEND;VALUE=DATE:20521003
DESCRIPTION:
LOCATION:
SUMMARY:Custodian Appreciation Day
END:VEVENT
BEGIN:VEVENT
DTSTAMP:20260423T130006Z
UID:b217a96d-b3b6-457e-91dd-5cf35b70fb72
DTSTART;VALUE=DATE:20531002
DTEND;VALUE=DATE:20531003
DESCRIPTION:
LOCATION:
SUMMARY:Custodian Appreciation Day
END:VEVENT
BEGIN:VEVENT
DTSTAMP:20260423T130006Z
UID:0551cba6-80eb-4df2-9328-3eb97d298f5f
DTSTART;VALUE=DATE:20541002
DTEND;VALUE=DATE:20541003
DESCRIPTION:
LOCATION:
SUMMARY:Custodian Appreciation Day
END:VEVENT
BEGIN:VEVENT
DTSTAMP:20260423T130006Z
UID:5b254b38-f090-4bb1-a43c-e14c7c360471
DTSTART;VALUE=DATE:20551002
DTEND;VALUE=DATE:20551003
DESCRIPTION:
LOCATION:
SUMMARY:Custodian Appreciation Day
END:VEVENT
BEGIN:VEVENT
DTSTAMP:20260423T130006Z
UID:f5e118c6-771e-40d6-b793-83d4cb39ac21
DTSTART;VALUE=DATE:20561002
DTEND;VALUE=DATE:20561003
DESCRIPTION:
LOCATION:
SUMMARY:Custodian Appreciation Day
END:VEVENT
BEGIN:VEVENT
DTSTAMP:20260423T130006Z
UID:79ab9658-55c1-463e-a711-ba8ef80c8da4
DTSTART;VALUE=DATE:20571002
DTEND;VALUE=DATE:20571003
DESCRIPTION:
LOCATION:
SUMMARY:Custodian Appreciation Day
END:VEVENT
BEGIN:VEVENT
DTSTAMP:20260423T130006Z
UID:3c41715b-d611-4823-a388-5273541503d3
DTSTART;VALUE=DATE:20581002
DTEND;VALUE=DATE:20581003
DESCRIPTION:
LOCATION:
SUMMARY:Custodian Appreciation Day
END:VEVENT
BEGIN:VEVENT
DTSTAMP:20260423T130006Z
UID:a7c3a409-fa57-4b4e-bd52-8d11b2a9e325
DTSTART;VALUE=DATE:20591002
DTEND;VALUE=DATE:20591003
DESCRIPTION:
LOCATION:
SUMMARY:Custodian Appreciation Day
END:VEVENT
BEGIN:VEVENT
DTSTAMP:20260423T130006Z
UID:7b916af9-b5e0-41a2-b039-b2a1e6949d32
DTSTART;VALUE=DATE:20601002
DTEND;VALUE=DATE:20601003
DESCRIPTION:
LOCATION:
SUMMARY:Custodian Appreciation Day
END:VEVENT
BEGIN:VEVENT
DTSTAMP:20260423T130006Z
UID:06c4e2d7-e537-4908-b5a7-d7164a95af80
DTSTART;VALUE=DATE:20611002
DTEND;VALUE=DATE:20611003
DESCRIPTION:
LOCATION:
SUMMARY:Custodian Appreciation Day
END:VEVENT
BEGIN:VEVENT
DTSTAMP:20260423T130006Z
UID:9a0d27fe-b24e-4ce9-9285-5de7c238a148
DTSTART;VALUE=DATE:20621002
DTEND;VALUE=DATE:20621003
DESCRIPTION:
LOCATION:
SUMMARY:Custodian Appreciation Day
END:VEVENT
BEGIN:VEVENT
DTSTAMP:20260423T130006Z
UID:0614685b-1f6c-4ccb-b8b8-8542d3210725
DTSTART;VALUE=DATE:20631002
DTEND;VALUE=DATE:20631003
DESCRIPTION:
LOCATION:
SUMMARY:Custodian Appreciation Day
END:VEVENT
BEGIN:VEVENT
DTSTAMP:20260423T130006Z
UID:9823b37a-c2f4-46f2-80b6-6709ac92cb46
DTSTART;VALUE=DATE:20641002
DTEND;VALUE=DATE:20641003
DESCRIPTION:
LOCATION:
SUMMARY:Custodian Appreciation Day
END:VEVENT
BEGIN:VEVENT
DTSTAMP:20260423T130006Z
UID:05cde68d-5eb8-4703-ab13-e9aa8109a6df
DTSTART;VALUE=DATE:20651002
DTEND;VALUE=DATE:20651003
DESCRIPTION:
LOCATION:
SUMMARY:Custodian Appreciation Day
END:VEVENT
BEGIN:VEVENT
DTSTAMP:20260423T130006Z
UID:4616787e-a59f-4704-8d52-10250f9f3f01
DTSTART;VALUE=DATE:20661002
DTEND;VALUE=DATE:20661003
DESCRIPTION:
LOCATION:
SUMMARY:Custodian Appreciation Day
END:VEVENT
BEGIN:VEVENT
DTSTAMP:20260423T130006Z
UID:6359575f-26ad-43bf-80cf-8d9915d38c56
DTSTART;VALUE=DATE:20671002
DTEND;VALUE=DATE:20671003
DESCRIPTION:
LOCATION:
SUMMARY:Custodian Appreciation Day
END:VEVENT
BEGIN:VEVENT
DTSTAMP:20260423T130006Z
UID:621d3e6a-92e6-4295-8891-2b270004cbcd
DTSTART;VALUE=DATE:20681002
DTEND;VALUE=DATE:20681003
DESCRIPTION:
LOCATION:
SUMMARY:Custodian Appreciation Day
END:VEVENT
BEGIN:VEVENT
DTSTAMP:20260423T130006Z
UID:a07744e2-d269-4ead-b747-1afbb728d872
DTSTART;VALUE=DATE:20691002
DTEND;VALUE=DATE:20691003
DESCRIPTION:
LOCATION:
SUMMARY:Custodian Appreciation Day
END:VEVENT
BEGIN:VEVENT
DTSTAMP:20260423T130006Z
UID:904f649c-28e0-4713-8668-ac6e03ea2aa2
DTSTART;VALUE=DATE:20701002
DTEND;VALUE=DATE:20701003
DESCRIPTION:
LOCATION:
SUMMARY:Custodian Appreciation Day
END:VEVENT
BEGIN:VEVENT
DTSTAMP:20260423T130006Z
UID:788efd4b-a818-4bbd-badb-2fad682fe987
DTSTART;VALUE=DATE:20711002
DTEND;VALUE=DATE:20711003
DESCRIPTION:
LOCATION:
SUMMARY:Custodian Appreciation Day
END:VEVENT
BEGIN:VEVENT
DTSTAMP:20260423T130006Z
UID:ed62dd70-ad09-4157-8f27-ec87ded3a59a
DTSTART;VALUE=DATE:20721002
DTEND;VALUE=DATE:20721003
DESCRIPTION:
LOCATION:
SUMMARY:Custodian Appreciation Day
END:VEVENT
BEGIN:VEVENT
DTSTAMP:20260423T130006Z
UID:2ea8ccca-bbf5-4670-ba00-628eb0e32d10
DTSTART;VALUE=DATE:20731002
DTEND;VALUE=DATE:20731003
DESCRIPTION:
LOCATION:
SUMMARY:Custodian Appreciation Day
END:VEVENT
BEGIN:VEVENT
DTSTAMP:20260423T130006Z
UID:f75d4ea0-f0c2-42cc-98a9-59ca295a3489
DTSTART;VALUE=DATE:20741002
DTEND;VALUE=DATE:20741003
DESCRIPTION:
LOCATION:
SUMMARY:Custodian Appreciation Day
END:VEVENT
BEGIN:VEVENT
DTSTAMP:20260423T130006Z
UID:40b296d5-4545-48ad-bf0c-0c20d7978971
DTSTART;VALUE=DATE:20751002
DTEND;VALUE=DATE:20751003
DESCRIPTION:
LOCATION:
SUMMARY:Custodian Appreciation Day
END:VEVENT
BEGIN:VEVENT
DTSTAMP:20260423T130006Z
UID:ff58f3e2-2849-4b3a-8975-39fc83446af0
DTSTART;VALUE=DATE:20761002
DTEND;VALUE=DATE:20761003
DESCRIPTION:
LOCATION:
SUMMARY:Custodian Appreciation Day
END:VEVENT
BEGIN:VEVENT
DTSTAMP:20260423T130006Z
UID:0b28207e-98c4-41dc-9658-1c0f4c6512ec
DTSTART;VALUE=DATE:20771002
DTEND;VALUE=DATE:20771003
DESCRIPTION:
LOCATION:
SUMMARY:Custodian Appreciation Day
END:VEVENT
BEGIN:VEVENT
DTSTAMP:20260423T130006Z
UID:bd368a51-bcae-4a3f-896c-4adb950788e7
DTSTART;VALUE=DATE:20781002
DTEND;VALUE=DATE:20781003
DESCRIPTION:
LOCATION:
SUMMARY:Custodian Appreciation Day
END:VEVENT
BEGIN:VEVENT
DTSTAMP:20260423T130006Z
UID:9b7c7574-7881-448d-b450-122357e640eb
DTSTART;VALUE=DATE:20791002
DTEND;VALUE=DATE:20791003
DESCRIPTION:
LOCATION:
SUMMARY:Custodian Appreciation Day
END:VEVENT
BEGIN:VEVENT
DTSTAMP:20260423T130006Z
UID:df5ad61e-019f-4c64-a379-c832bde31161
DTSTART;VALUE=DATE:20801002
DTEND;VALUE=DATE:20801003
DESCRIPTION:
LOCATION:
SUMMARY:Custodian Appreciation Day
END:VEVENT
BEGIN:VEVENT
DTSTAMP:20260423T130006Z
UID:c8d6a735-173c-484c-9d08-5ea7545969cd
DTSTART;VALUE=DATE:20811002
DTEND;VALUE=DATE:20811003
DESCRIPTION:
LOCATION:
SUMMARY:Custodian Appreciation Day
END:VEVENT
BEGIN:VEVENT
DTSTAMP:20260423T130006Z
UID:946bc26b-6933-4c3f-a0ac-40462fe1a68f
DTSTART;VALUE=DATE:20821002
DTEND;VALUE=DATE:20821003
DESCRIPTION:
LOCATION:
SUMMARY:Custodian Appreciation Day
END:VEVENT
BEGIN:VEVENT
DTSTAMP:20260423T130006Z
UID:83beb7f3-839f-41f8-af5d-22b0a0f3fe26
DTSTART;VALUE=DATE:20831002
DTEND;VALUE=DATE:20831003
DESCRIPTION:
LOCATION:
SUMMARY:Custodian Appreciation Day
END:VEVENT
BEGIN:VEVENT
DTSTAMP:20260423T130006Z
UID:d134a6c7-474e-4f2b-bce3-3dadba71e15e
DTSTART;VALUE=DATE:20841002
DTEND;VALUE=DATE:20841003
DESCRIPTION:
LOCATION:
SUMMARY:Custodian Appreciation Day
END:VEVENT
BEGIN:VEVENT
DTSTAMP:20260423T130006Z
UID:18f05f50-dbb9-4f78-ab19-7c5d818d6819
DTSTART;VALUE=DATE:20851002
DTEND;VALUE=DATE:20851003
DESCRIPTION:
LOCATION:
SUMMARY:Custodian Appreciation Day
END:VEVENT
BEGIN:VEVENT
DTSTAMP:20260423T130006Z
UID:bd2bf927-bd37-4aef-8152-f5f87b5838e4
DTSTART;VALUE=DATE:20861002
DTEND;VALUE=DATE:20861003
DESCRIPTION:
LOCATION:
SUMMARY:Custodian Appreciation Day
END:VEVENT
BEGIN:VEVENT
DTSTAMP:20260423T130006Z
UID:3ff263ca-4232-4983-a875-48d78a5f88aa
DTSTART;VALUE=DATE:20871002
DTEND;VALUE=DATE:20871003
DESCRIPTION:
LOCATION:
SUMMARY:Custodian Appreciation Day
END:VEVENT
BEGIN:VEVENT
DTSTAMP:20260423T130006Z
UID:c0449616-6ab0-4f6d-b089-daea6c3cf6b7
DTSTART;VALUE=DATE:20881002
DTEND;VALUE=DATE:20881003
DESCRIPTION:
LOCATION:
SUMMARY:Custodian Appreciation Day
END:VEVENT
BEGIN:VEVENT
DTSTAMP:20260423T130006Z
UID:02e4d4ff-5420-4564-a5f5-d9bbb5693dc1
DTSTART;VALUE=DATE:20891002
DTEND;VALUE=DATE:20891003
DESCRIPTION:
LOCATION:
SUMMARY:Custodian Appreciation Day
END:VEVENT
BEGIN:VEVENT
DTSTAMP:20260423T130006Z
UID:24ce18f8-2a23-4d9d-b671-913f2722c26a
DTSTART;VALUE=DATE:20901002
DTEND;VALUE=DATE:20901003
DESCRIPTION:
LOCATION:
SUMMARY:Custodian Appreciation Day
END:VEVENT
BEGIN:VEVENT
DTSTAMP:20260423T130006Z
UID:365b5dc4-2925-44c5-90d4-ea876962456b
DTSTART;VALUE=DATE:20911002
DTEND;VALUE=DATE:20911003
DESCRIPTION:
LOCATION:
SUMMARY:Custodian Appreciation Day
END:VEVENT
BEGIN:VEVENT
DTSTAMP:20260423T130006Z
UID:0d00ad65-4563-40d1-a612-e2fb9e78a167
DTSTART;VALUE=DATE:20921002
DTEND;VALUE=DATE:20921003
DESCRIPTION:
LOCATION:
SUMMARY:Custodian Appreciation Day
END:VEVENT
BEGIN:VEVENT
DTSTAMP:20260423T130006Z
UID:3984862d-0906-4798-8178-b0a928e4d065
DTSTART;VALUE=DATE:20931002
DTEND;VALUE=DATE:20931003
DESCRIPTION:
LOCATION:
SUMMARY:Custodian Appreciation Day
END:VEVENT
BEGIN:VEVENT
DTSTAMP:20260423T130006Z
UID:4ef69735-1842-462a-9cac-dee68de2bc5f
DTSTART;VALUE=DATE:20941002
DTEND;VALUE=DATE:20941003
DESCRIPTION:
LOCATION:
SUMMARY:Custodian Appreciation Day
END:VEVENT
BEGIN:VEVENT
DTSTAMP:20260423T130006Z
UID:19d57cb0-fdcd-4442-aae2-66a5ccffa343
DTSTART;VALUE=DATE:20951002
DTEND;VALUE=DATE:20951003
DESCRIPTION:
LOCATION:
SUMMARY:Custodian Appreciation Day
END:VEVENT
BEGIN:VEVENT
DTSTAMP:20260423T130006Z
UID:52130d44-a8b9-474d-97d0-2f2d0389c166
DTSTART;VALUE=DATE:20961002
DTEND;VALUE=DATE:20961003
DESCRIPTION:
LOCATION:
SUMMARY:Custodian Appreciation Day
END:VEVENT
BEGIN:VEVENT
DTSTAMP:20260423T130006Z
UID:680324c6-8f77-4a75-9f5f-325080938a43
DTSTART;VALUE=DATE:20971002
DTEND;VALUE=DATE:20971003
DESCRIPTION:
LOCATION:
SUMMARY:Custodian Appreciation Day
END:VEVENT
BEGIN:VEVENT
DTSTAMP:20260423T130006Z
UID:9402bcbd-3be9-4216-a906-29bd66abe631
DTSTART;VALUE=DATE:20981002
DTEND;VALUE=DATE:20981003
DESCRIPTION:
LOCATION:
SUMMARY:Custodian Appreciation Day
END:VEVENT
BEGIN:VEVENT
DTSTAMP:20260423T130006Z
UID:8820fc55-231b-43a6-905b-1c5c94bdaf22
DTSTART;VALUE=DATE:20991002
DTEND;VALUE=DATE:20991003
DESCRIPTION:
LOCATION:
SUMMARY:Custodian Appreciation Day
END:VEVENT
END:VCALENDAR
