BEGIN:VCALENDAR
VERSION:2.0
PRODID:icalendar-ruby
CALSCALE:GREGORIAN
BEGIN:VTIMEZONE
TZID:America/Denver
BEGIN:DAYLIGHT
DTSTART:20260308T030000
TZOFFSETFROM:-0700
TZOFFSETTO:-0600
RRULE:FREQ=YEARLY;BYDAY=2SU;BYMONTH=3
TZNAME:MDT
END:DAYLIGHT
BEGIN:STANDARD
DTSTART:20261101T010000
TZOFFSETFROM:-0600
TZOFFSETTO:-0700
RRULE:FREQ=YEARLY;BYDAY=1SU;BYMONTH=11
TZNAME:MST
END:STANDARD
END:VTIMEZONE
BEGIN:VEVENT
DTSTAMP:20260420T102113Z
UID:878b148f-f2a0-4747-8ee4-0ea47467328a
DTSTART;VALUE=DATE:20260430
DTEND;VALUE=DATE:20260501
DESCRIPTION:
LOCATION:
SUMMARY:Rad Recess
END:VEVENT
BEGIN:VEVENT
DTSTAMP:20260420T102113Z
UID:dd344c5f-bb6e-4213-865e-242d9ef4f8d5
DTSTART;VALUE=DATE:20260504
DTEND;VALUE=DATE:20260509
DESCRIPTION:
LOCATION:
SUMMARY:Book Fair
END:VEVENT
BEGIN:VEVENT
DTSTAMP:20260420T102113Z
UID:1f735610-7006-4d75-a5d4-163c930e97f8
DTSTART:20260506T160000
DTEND:20260506T180000
DESCRIPTION:
LOCATION:
SUMMARY:Expressions Art show
END:VEVENT
BEGIN:VEVENT
DTSTAMP:20260420T102113Z
UID:01eda684-55b6-41e8-99cc-3169ef3a7ba2
DTSTART:20260506T180000
DTEND:20260506T190000
DESCRIPTION:
LOCATION:
SUMMARY:1st grade Opera performance - parents
END:VEVENT
BEGIN:VEVENT
DTSTAMP:20260420T102113Z
UID:a8aabde3-6c48-4631-bcc1-f7b69060af57
DTSTART;VALUE=DATE:20260508
DTEND;VALUE=DATE:20260509
DESCRIPTION:
LOCATION:
SUMMARY:2nd grade Field trip - Firehouse
END:VEVENT
BEGIN:VEVENT
DTSTAMP:20260420T102113Z
UID:72b7e570-28fe-4f08-96df-d601c7bda7f1
DTSTART;VALUE=DATE:20260508
DTEND;VALUE=DATE:20260509
DESCRIPTION:
LOCATION:
SUMMARY:5th grade Field trip Huntsville park - bike ride
END:VEVENT
BEGIN:VEVENT
DTSTAMP:20260420T102113Z
UID:22adb3f9-7749-47db-b06d-82c0e4405961
DTSTART;VALUE=DATE:20260508
DTEND;VALUE=DATE:20260509
DESCRIPTION:
LOCATION:
SUMMARY:Kindergarten Mother's Day Tea
END:VEVENT
BEGIN:VEVENT
DTSTAMP:20260420T102113Z
UID:2557d844-2b0f-456d-95e9-6c059e959d67
DTSTART;VALUE=DATE:20260511
DTEND;VALUE=DATE:20260512
DESCRIPTION:
LOCATION:
SUMMARY:5th grade Carnival at Eden Park
END:VEVENT
BEGIN:VEVENT
DTSTAMP:20260420T102113Z
UID:e33d943b-5d17-426d-9d13-de8be8698cfb
DTSTART;VALUE=DATE:20260512
DTEND;VALUE=DATE:20260513
DESCRIPTION:
LOCATION:
SUMMARY:Stem Day
END:VEVENT
BEGIN:VEVENT
DTSTAMP:20260420T102113Z
UID:11adcd29-61d3-48f5-b81e-bb56093059e1
DTSTART:20260513T090000
DTEND:20260513T093000
DESCRIPTION:
LOCATION:
SUMMARY:6th grade tour at Snowcrest
END:VEVENT
BEGIN:VEVENT
DTSTAMP:20260420T102113Z
UID:7d84a48f-a1ec-4d12-8ec3-2d9af5548137
DTSTART;VALUE=DATE:20260514
DTEND;VALUE=DATE:20260515
DESCRIPTION:
LOCATION:
SUMMARY:Stem Olympiad
END:VEVENT
BEGIN:VEVENT
DTSTAMP:20260420T102113Z
UID:e39b4c9c-6ba5-4a33-9af0-2b9b9410f22b
DTSTART;VALUE=DATE:20260515
DTEND;VALUE=DATE:20260516
DESCRIPTION:
LOCATION:
SUMMARY:4th grade Utah Program - gym
END:VEVENT
BEGIN:VEVENT
DTSTAMP:20260420T102113Z
UID:62de9cd4-55a8-4842-94c0-5fa7a91d772a
DTSTART:20260515T085000
DTEND:20260515T133000
DESCRIPTION:
LOCATION:
SUMMARY:Kindergarten field trip - Dinosaur Park
END:VEVENT
BEGIN:VEVENT
DTSTAMP:20260420T102113Z
UID:8a302a54-8d12-419e-a27e-bb4b6126374a
DTSTART:20260515T094000
DTEND:20260515T124000
DESCRIPTION:
LOCATION:
SUMMARY:3rd grade Field trip - Rush Funplex
END:VEVENT
BEGIN:VEVENT
DTSTAMP:20260420T102113Z
UID:4b4492b7-8dd3-4829-bb0d-80cd052ae474
DTSTART;VALUE=DATE:20260518
DTEND;VALUE=DATE:20260519
DESCRIPTION:
LOCATION:
SUMMARY:4th grade trade day (AM)/Pioneer day (PM)
END:VEVENT
BEGIN:VEVENT
DTSTAMP:20260420T102113Z
UID:254e0143-e568-4173-9822-e62cb642b3e0
DTSTART:20260519T130000
DTEND:20260519T150000
DESCRIPTION:
LOCATION:
SUMMARY:6th grade Eden Park - Yearbook signing
END:VEVENT
BEGIN:VEVENT
DTSTAMP:20260420T102113Z
UID:070242f6-60b8-4981-aa3e-d319047db4d5
DTSTART;VALUE=DATE:20260520
DTEND;VALUE=DATE:20260521
DESCRIPTION:
LOCATION:
SUMMARY:Field Day
END:VEVENT
BEGIN:VEVENT
DTSTAMP:20260420T102113Z
UID:c48db073-1fad-49a7-b66c-a52c44dd85c4
DTSTART:20260521T083500
DTEND:20260521T103000
DESCRIPTION:
LOCATION:
SUMMARY:6th grade Graduation - gym
END:VEVENT
BEGIN:VEVENT
DTSTAMP:20260420T102113Z
UID:9dec73d6-a1f7-40d3-af7e-0a42d679527f
DTSTART:20260521T090000
DTEND:20260521T120000
DESCRIPTION:
LOCATION:
SUMMARY:Kindergarten Field trip - Firehouse/Eden Park
END:VEVENT
BEGIN:VEVENT
DTSTAMP:20260420T102113Z
UID:21387f28-d3f5-4b44-984a-a0a5f48ef9de
DTSTART:20260521T100000
DTEND:20260521T110000
DESCRIPTION:
LOCATION:
SUMMARY:4TH EDEN PARK
END:VEVENT
BEGIN:VEVENT
DTSTAMP:20260420T102113Z
UID:45aeb689-e5a8-476b-9233-6f56574a9da4
DTSTART;VALUE=DATE:20260522
DTEND;VALUE=DATE:20260523
DESCRIPTION:
LOCATION:
SUMMARY:Last day of school - Early out 12:15 pm
END:VEVENT
BEGIN:VEVENT
DTSTAMP:20260420T102113Z
UID:ad1181e4-0ac4-4954-9d57-6ffd979a1836
DTSTART;VALUE=DATE:20260526
DTEND;VALUE=DATE:20260529
DESCRIPTION:
LOCATION:
SUMMARY:Kindergarten Jump Start
END:VEVENT
BEGIN:VEVENT
DTSTAMP:20260420T102113Z
UID:f5045a8e-7c79-4cdb-a389-ea260ac4d081
DTSTART:20261031T090000
DTEND:20261031T093000
DESCRIPTION:
LOCATION:
SUMMARY:Halloween Parade
END:VEVENT
BEGIN:VEVENT
DTSTAMP:20260420T102113Z
UID:f90cd76c-b0a9-4cd5-83b3-bd04f8608103
DTSTART:20271031T090000
DTEND:20271031T093000
DESCRIPTION:
LOCATION:
SUMMARY:Halloween Parade
END:VEVENT
BEGIN:VEVENT
DTSTAMP:20260420T102113Z
UID:84d7b734-5cc9-4d7c-8a2b-c055d13fa440
DTSTART:20281031T090000
DTEND:20281031T093000
DESCRIPTION:
LOCATION:
SUMMARY:Halloween Parade
END:VEVENT
BEGIN:VEVENT
DTSTAMP:20260420T102113Z
UID:f51f2b57-5f84-45e3-b1f8-0abd6ee4ada8
DTSTART:20291031T090000
DTEND:20291031T093000
DESCRIPTION:
LOCATION:
SUMMARY:Halloween Parade
END:VEVENT
BEGIN:VEVENT
DTSTAMP:20260420T102113Z
UID:4522eb9e-8d57-460d-8301-12aeaa3070af
DTSTART:20301031T090000
DTEND:20301031T093000
DESCRIPTION:
LOCATION:
SUMMARY:Halloween Parade
END:VEVENT
BEGIN:VEVENT
DTSTAMP:20260420T102113Z
UID:de384b04-321a-4cc3-9ff8-1163dea3fa0b
DTSTART:20311031T090000
DTEND:20311031T093000
DESCRIPTION:
LOCATION:
SUMMARY:Halloween Parade
END:VEVENT
BEGIN:VEVENT
DTSTAMP:20260420T102113Z
UID:d2bb7167-cde1-41c3-8fa7-815af393fe51
DTSTART:20321031T090000
DTEND:20321031T093000
DESCRIPTION:
LOCATION:
SUMMARY:Halloween Parade
END:VEVENT
BEGIN:VEVENT
DTSTAMP:20260420T102113Z
UID:b19599f5-42c7-4f22-ac5f-8fceeef1cd74
DTSTART:20331031T090000
DTEND:20331031T093000
DESCRIPTION:
LOCATION:
SUMMARY:Halloween Parade
END:VEVENT
BEGIN:VEVENT
DTSTAMP:20260420T102113Z
UID:4a7f436e-3460-48ef-b76e-7be87d34649a
DTSTART:20341031T090000
DTEND:20341031T093000
DESCRIPTION:
LOCATION:
SUMMARY:Halloween Parade
END:VEVENT
BEGIN:VEVENT
DTSTAMP:20260420T102113Z
UID:dd386ef3-fe38-4c06-a5fc-85d2566c2c2d
DTSTART:20351031T090000
DTEND:20351031T093000
DESCRIPTION:
LOCATION:
SUMMARY:Halloween Parade
END:VEVENT
BEGIN:VEVENT
DTSTAMP:20260420T102113Z
UID:8af6bd4d-e13d-4f17-9830-42b1a0002d4e
DTSTART:20361031T090000
DTEND:20361031T093000
DESCRIPTION:
LOCATION:
SUMMARY:Halloween Parade
END:VEVENT
BEGIN:VEVENT
DTSTAMP:20260420T102113Z
UID:180f3b7f-9d78-43eb-bb3a-ebd77a6ad05a
DTSTART:20371031T090000
DTEND:20371031T093000
DESCRIPTION:
LOCATION:
SUMMARY:Halloween Parade
END:VEVENT
BEGIN:VEVENT
DTSTAMP:20260420T102113Z
UID:d5700933-d3fd-4feb-944f-1f93928147cb
DTSTART:20381031T090000
DTEND:20381031T093000
DESCRIPTION:
LOCATION:
SUMMARY:Halloween Parade
END:VEVENT
BEGIN:VEVENT
DTSTAMP:20260420T102113Z
UID:99250f8b-83e9-4025-a099-3033bf902f53
DTSTART:20391031T090000
DTEND:20391031T093000
DESCRIPTION:
LOCATION:
SUMMARY:Halloween Parade
END:VEVENT
BEGIN:VEVENT
DTSTAMP:20260420T102113Z
UID:8f8c502d-f08f-45a2-8df0-9b95e7f27088
DTSTART:20401031T090000
DTEND:20401031T093000
DESCRIPTION:
LOCATION:
SUMMARY:Halloween Parade
END:VEVENT
BEGIN:VEVENT
DTSTAMP:20260420T102113Z
UID:961c2092-6243-43bb-8e31-3280db4b7a00
DTSTART:20411031T090000
DTEND:20411031T093000
DESCRIPTION:
LOCATION:
SUMMARY:Halloween Parade
END:VEVENT
BEGIN:VEVENT
DTSTAMP:20260420T102113Z
UID:0d287783-f9b0-4b42-a5c7-a0afff7f8bc3
DTSTART:20421031T090000
DTEND:20421031T093000
DESCRIPTION:
LOCATION:
SUMMARY:Halloween Parade
END:VEVENT
BEGIN:VEVENT
DTSTAMP:20260420T102113Z
UID:ea01347d-11c5-43d4-b18a-b1ac2288a1c6
DTSTART:20431031T090000
DTEND:20431031T093000
DESCRIPTION:
LOCATION:
SUMMARY:Halloween Parade
END:VEVENT
BEGIN:VEVENT
DTSTAMP:20260420T102113Z
UID:ed7e4577-a406-4770-9e66-d1bbaeede7f3
DTSTART:20441031T090000
DTEND:20441031T093000
DESCRIPTION:
LOCATION:
SUMMARY:Halloween Parade
END:VEVENT
BEGIN:VEVENT
DTSTAMP:20260420T102113Z
UID:723166ba-c9b9-4dbb-9d84-649a24090693
DTSTART:20451031T090000
DTEND:20451031T093000
DESCRIPTION:
LOCATION:
SUMMARY:Halloween Parade
END:VEVENT
BEGIN:VEVENT
DTSTAMP:20260420T102113Z
UID:94ab51b5-8037-4fdd-92ff-45135d13c1f2
DTSTART:20461031T090000
DTEND:20461031T093000
DESCRIPTION:
LOCATION:
SUMMARY:Halloween Parade
END:VEVENT
BEGIN:VEVENT
DTSTAMP:20260420T102113Z
UID:f1f0cda7-0bd0-43ba-b0c1-3e5759af21c9
DTSTART:20471031T090000
DTEND:20471031T093000
DESCRIPTION:
LOCATION:
SUMMARY:Halloween Parade
END:VEVENT
BEGIN:VEVENT
DTSTAMP:20260420T102113Z
UID:c546afed-d84b-4242-a4a1-21282fc2f9a9
DTSTART:20481031T090000
DTEND:20481031T093000
DESCRIPTION:
LOCATION:
SUMMARY:Halloween Parade
END:VEVENT
BEGIN:VEVENT
DTSTAMP:20260420T102113Z
UID:e53ec6b0-98c2-40b0-9a03-000ea6e92f5b
DTSTART:20491031T090000
DTEND:20491031T093000
DESCRIPTION:
LOCATION:
SUMMARY:Halloween Parade
END:VEVENT
BEGIN:VEVENT
DTSTAMP:20260420T102113Z
UID:2cce0158-b08a-4637-8780-2736c05dfed3
DTSTART:20501031T090000
DTEND:20501031T093000
DESCRIPTION:
LOCATION:
SUMMARY:Halloween Parade
END:VEVENT
BEGIN:VEVENT
DTSTAMP:20260420T102113Z
UID:76d56fa2-de76-4095-a9e4-595dde185e40
DTSTART:20511031T090000
DTEND:20511031T093000
DESCRIPTION:
LOCATION:
SUMMARY:Halloween Parade
END:VEVENT
BEGIN:VEVENT
DTSTAMP:20260420T102113Z
UID:786eaf69-bb28-41fb-b8fc-4c317c1a6cdf
DTSTART:20521031T090000
DTEND:20521031T093000
DESCRIPTION:
LOCATION:
SUMMARY:Halloween Parade
END:VEVENT
BEGIN:VEVENT
DTSTAMP:20260420T102113Z
UID:83be7c3d-2057-4278-80b1-3852b74d63fd
DTSTART:20531031T090000
DTEND:20531031T093000
DESCRIPTION:
LOCATION:
SUMMARY:Halloween Parade
END:VEVENT
BEGIN:VEVENT
DTSTAMP:20260420T102113Z
UID:081dad8e-9349-4b6e-bdfb-9c022595516f
DTSTART:20541031T090000
DTEND:20541031T093000
DESCRIPTION:
LOCATION:
SUMMARY:Halloween Parade
END:VEVENT
BEGIN:VEVENT
DTSTAMP:20260420T102113Z
UID:f94cf0e6-74b9-4b53-89f7-ad8d8b242643
DTSTART:20551031T090000
DTEND:20551031T093000
DESCRIPTION:
LOCATION:
SUMMARY:Halloween Parade
END:VEVENT
BEGIN:VEVENT
DTSTAMP:20260420T102113Z
UID:c9f86051-b451-4d13-97b4-e82552e2b646
DTSTART:20561031T090000
DTEND:20561031T093000
DESCRIPTION:
LOCATION:
SUMMARY:Halloween Parade
END:VEVENT
BEGIN:VEVENT
DTSTAMP:20260420T102113Z
UID:0c886524-2e95-4d5b-8ef2-ce5d852fb022
DTSTART:20571031T090000
DTEND:20571031T093000
DESCRIPTION:
LOCATION:
SUMMARY:Halloween Parade
END:VEVENT
BEGIN:VEVENT
DTSTAMP:20260420T102113Z
UID:81cead24-ed79-4410-8548-b9505318ef59
DTSTART:20581031T090000
DTEND:20581031T093000
DESCRIPTION:
LOCATION:
SUMMARY:Halloween Parade
END:VEVENT
BEGIN:VEVENT
DTSTAMP:20260420T102113Z
UID:d6778f0a-e65b-49e0-8a71-0464e391275e
DTSTART:20591031T090000
DTEND:20591031T093000
DESCRIPTION:
LOCATION:
SUMMARY:Halloween Parade
END:VEVENT
BEGIN:VEVENT
DTSTAMP:20260420T102113Z
UID:3e4ecec2-e6fe-4db3-90c8-f83f7d0ad4e7
DTSTART:20601031T090000
DTEND:20601031T093000
DESCRIPTION:
LOCATION:
SUMMARY:Halloween Parade
END:VEVENT
BEGIN:VEVENT
DTSTAMP:20260420T102113Z
UID:a4ffe831-fb26-46cb-afd5-1a4a418eaa66
DTSTART:20611031T090000
DTEND:20611031T093000
DESCRIPTION:
LOCATION:
SUMMARY:Halloween Parade
END:VEVENT
BEGIN:VEVENT
DTSTAMP:20260420T102113Z
UID:f9d35853-9c40-4ff5-ba1d-23e62e76148c
DTSTART:20621031T090000
DTEND:20621031T093000
DESCRIPTION:
LOCATION:
SUMMARY:Halloween Parade
END:VEVENT
BEGIN:VEVENT
DTSTAMP:20260420T102113Z
UID:fa57eca9-f292-4515-854a-9f8f1a7e0f73
DTSTART:20631031T090000
DTEND:20631031T093000
DESCRIPTION:
LOCATION:
SUMMARY:Halloween Parade
END:VEVENT
BEGIN:VEVENT
DTSTAMP:20260420T102113Z
UID:e7e309a5-57af-4c5a-8e14-d2826bff8a40
DTSTART:20641031T090000
DTEND:20641031T093000
DESCRIPTION:
LOCATION:
SUMMARY:Halloween Parade
END:VEVENT
BEGIN:VEVENT
DTSTAMP:20260420T102113Z
UID:3a8ccd15-cfe3-41aa-b29c-25dbc1128152
DTSTART:20651031T090000
DTEND:20651031T093000
DESCRIPTION:
LOCATION:
SUMMARY:Halloween Parade
END:VEVENT
BEGIN:VEVENT
DTSTAMP:20260420T102113Z
UID:c991df29-c5c3-46ba-b776-a066b54e75db
DTSTART:20661031T090000
DTEND:20661031T093000
DESCRIPTION:
LOCATION:
SUMMARY:Halloween Parade
END:VEVENT
BEGIN:VEVENT
DTSTAMP:20260420T102113Z
UID:59dfa5eb-33a9-45cd-a37f-f61213e1ee93
DTSTART:20671031T090000
DTEND:20671031T093000
DESCRIPTION:
LOCATION:
SUMMARY:Halloween Parade
END:VEVENT
BEGIN:VEVENT
DTSTAMP:20260420T102113Z
UID:d9c3ccf2-6bc5-42f3-9295-b71492bbd2f4
DTSTART:20681031T090000
DTEND:20681031T093000
DESCRIPTION:
LOCATION:
SUMMARY:Halloween Parade
END:VEVENT
BEGIN:VEVENT
DTSTAMP:20260420T102113Z
UID:91029c90-2041-4d7f-84c4-0fce53cdfa00
DTSTART:20691031T090000
DTEND:20691031T093000
DESCRIPTION:
LOCATION:
SUMMARY:Halloween Parade
END:VEVENT
BEGIN:VEVENT
DTSTAMP:20260420T102113Z
UID:464f280d-1150-477f-a00c-93db9538cfd5
DTSTART:20701031T090000
DTEND:20701031T093000
DESCRIPTION:
LOCATION:
SUMMARY:Halloween Parade
END:VEVENT
BEGIN:VEVENT
DTSTAMP:20260420T102113Z
UID:42149fd8-30f1-4489-b82e-965428090e7d
DTSTART:20711031T090000
DTEND:20711031T093000
DESCRIPTION:
LOCATION:
SUMMARY:Halloween Parade
END:VEVENT
BEGIN:VEVENT
DTSTAMP:20260420T102113Z
UID:ed75ccc2-6871-4662-b939-f969ae41476d
DTSTART:20721031T090000
DTEND:20721031T093000
DESCRIPTION:
LOCATION:
SUMMARY:Halloween Parade
END:VEVENT
BEGIN:VEVENT
DTSTAMP:20260420T102113Z
UID:e90c9ab9-e133-47c2-b7da-a43bd561e543
DTSTART:20731031T090000
DTEND:20731031T093000
DESCRIPTION:
LOCATION:
SUMMARY:Halloween Parade
END:VEVENT
BEGIN:VEVENT
DTSTAMP:20260420T102113Z
UID:6928e32d-66e5-4983-93ed-af3118ee1a66
DTSTART:20741031T090000
DTEND:20741031T093000
DESCRIPTION:
LOCATION:
SUMMARY:Halloween Parade
END:VEVENT
BEGIN:VEVENT
DTSTAMP:20260420T102113Z
UID:3eb7bf60-effc-44c3-bc47-c703411709dc
DTSTART:20751031T090000
DTEND:20751031T093000
DESCRIPTION:
LOCATION:
SUMMARY:Halloween Parade
END:VEVENT
BEGIN:VEVENT
DTSTAMP:20260420T102113Z
UID:6025c037-574a-4633-b728-a7146d95cb99
DTSTART:20761031T090000
DTEND:20761031T093000
DESCRIPTION:
LOCATION:
SUMMARY:Halloween Parade
END:VEVENT
BEGIN:VEVENT
DTSTAMP:20260420T102113Z
UID:f98c0871-e48f-4d6b-9da6-45c5ce82f99c
DTSTART:20771031T090000
DTEND:20771031T093000
DESCRIPTION:
LOCATION:
SUMMARY:Halloween Parade
END:VEVENT
BEGIN:VEVENT
DTSTAMP:20260420T102113Z
UID:c8a02409-a586-4817-8791-e5555508c138
DTSTART:20781031T090000
DTEND:20781031T093000
DESCRIPTION:
LOCATION:
SUMMARY:Halloween Parade
END:VEVENT
BEGIN:VEVENT
DTSTAMP:20260420T102113Z
UID:f34329f9-44b9-4703-8722-b22eddce581e
DTSTART:20791031T090000
DTEND:20791031T093000
DESCRIPTION:
LOCATION:
SUMMARY:Halloween Parade
END:VEVENT
BEGIN:VEVENT
DTSTAMP:20260420T102113Z
UID:ce7795e9-f55a-4e4d-83b2-4e625738306e
DTSTART:20801031T090000
DTEND:20801031T093000
DESCRIPTION:
LOCATION:
SUMMARY:Halloween Parade
END:VEVENT
BEGIN:VEVENT
DTSTAMP:20260420T102113Z
UID:7b7687e1-0848-4d91-afb1-4f19f03fcc7d
DTSTART:20811031T090000
DTEND:20811031T093000
DESCRIPTION:
LOCATION:
SUMMARY:Halloween Parade
END:VEVENT
BEGIN:VEVENT
DTSTAMP:20260420T102113Z
UID:f7fb8c35-8186-4bee-8e99-dac7052e5e48
DTSTART:20821031T090000
DTEND:20821031T093000
DESCRIPTION:
LOCATION:
SUMMARY:Halloween Parade
END:VEVENT
BEGIN:VEVENT
DTSTAMP:20260420T102113Z
UID:8dde6c79-c219-4644-b8a6-0755c6d0aa13
DTSTART:20831031T090000
DTEND:20831031T093000
DESCRIPTION:
LOCATION:
SUMMARY:Halloween Parade
END:VEVENT
BEGIN:VEVENT
DTSTAMP:20260420T102113Z
UID:2ce851e2-6180-4614-91b3-0306a51305c3
DTSTART:20841031T090000
DTEND:20841031T093000
DESCRIPTION:
LOCATION:
SUMMARY:Halloween Parade
END:VEVENT
BEGIN:VEVENT
DTSTAMP:20260420T102113Z
UID:7f871519-9d23-4aa4-8e6e-9ded06a9c6da
DTSTART:20851031T090000
DTEND:20851031T093000
DESCRIPTION:
LOCATION:
SUMMARY:Halloween Parade
END:VEVENT
BEGIN:VEVENT
DTSTAMP:20260420T102113Z
UID:e40e4810-ea15-4cdb-b72c-931be84e3b92
DTSTART:20861031T090000
DTEND:20861031T093000
DESCRIPTION:
LOCATION:
SUMMARY:Halloween Parade
END:VEVENT
BEGIN:VEVENT
DTSTAMP:20260420T102113Z
UID:76abe831-d80c-4947-9559-4be07d6b81ea
DTSTART:20871031T090000
DTEND:20871031T093000
DESCRIPTION:
LOCATION:
SUMMARY:Halloween Parade
END:VEVENT
BEGIN:VEVENT
DTSTAMP:20260420T102113Z
UID:789986d1-c287-430a-b152-67d9cd203664
DTSTART:20881031T090000
DTEND:20881031T093000
DESCRIPTION:
LOCATION:
SUMMARY:Halloween Parade
END:VEVENT
BEGIN:VEVENT
DTSTAMP:20260420T102113Z
UID:571a981a-8dfc-4a9c-b9ea-1276c4ba8be9
DTSTART:20891031T090000
DTEND:20891031T093000
DESCRIPTION:
LOCATION:
SUMMARY:Halloween Parade
END:VEVENT
BEGIN:VEVENT
DTSTAMP:20260420T102113Z
UID:2aa9b1c9-43c4-4682-89ba-a23e7c193be9
DTSTART:20901031T090000
DTEND:20901031T093000
DESCRIPTION:
LOCATION:
SUMMARY:Halloween Parade
END:VEVENT
BEGIN:VEVENT
DTSTAMP:20260420T102113Z
UID:90f4b06d-1825-4d2e-83df-183a01046a87
DTSTART:20911031T090000
DTEND:20911031T093000
DESCRIPTION:
LOCATION:
SUMMARY:Halloween Parade
END:VEVENT
BEGIN:VEVENT
DTSTAMP:20260420T102113Z
UID:c85f85ed-7981-426a-8108-0de304d06a40
DTSTART:20921031T090000
DTEND:20921031T093000
DESCRIPTION:
LOCATION:
SUMMARY:Halloween Parade
END:VEVENT
BEGIN:VEVENT
DTSTAMP:20260420T102113Z
UID:8b7d8ab6-0fb0-4c11-a784-75ef6039761d
DTSTART:20931031T090000
DTEND:20931031T093000
DESCRIPTION:
LOCATION:
SUMMARY:Halloween Parade
END:VEVENT
BEGIN:VEVENT
DTSTAMP:20260420T102113Z
UID:12a9c528-50c8-4aeb-a83b-80b29e1f92a0
DTSTART:20941031T090000
DTEND:20941031T093000
DESCRIPTION:
LOCATION:
SUMMARY:Halloween Parade
END:VEVENT
BEGIN:VEVENT
DTSTAMP:20260420T102113Z
UID:956e65df-517e-476e-b3dc-899265bc4af5
DTSTART:20951031T090000
DTEND:20951031T093000
DESCRIPTION:
LOCATION:
SUMMARY:Halloween Parade
END:VEVENT
BEGIN:VEVENT
DTSTAMP:20260420T102113Z
UID:c39afd33-0ffe-4c46-91b2-d2745c4b85ae
DTSTART:20961031T090000
DTEND:20961031T093000
DESCRIPTION:
LOCATION:
SUMMARY:Halloween Parade
END:VEVENT
BEGIN:VEVENT
DTSTAMP:20260420T102113Z
UID:6908bddf-0f09-4536-b62f-9619df621f66
DTSTART:20971031T090000
DTEND:20971031T093000
DESCRIPTION:
LOCATION:
SUMMARY:Halloween Parade
END:VEVENT
BEGIN:VEVENT
DTSTAMP:20260420T102113Z
UID:9819b82a-b3c3-4d66-aab1-5583858399dd
DTSTART:20981031T090000
DTEND:20981031T093000
DESCRIPTION:
LOCATION:
SUMMARY:Halloween Parade
END:VEVENT
BEGIN:VEVENT
DTSTAMP:20260420T102113Z
UID:0de5b1b8-844a-4d67-bcb3-7f74ffabaf41
DTSTART:20991031T090000
DTEND:20991031T093000
DESCRIPTION:
LOCATION:
SUMMARY:Halloween Parade
END:VEVENT
END:VCALENDAR
