BEGIN:VCALENDAR
VERSION:2.0
PRODID:icalendar-ruby
CALSCALE:GREGORIAN
BEGIN:VTIMEZONE
TZID:America/Denver
BEGIN:DAYLIGHT
DTSTART:20260308T030000
TZOFFSETFROM:-0700
TZOFFSETTO:-0600
RRULE:FREQ=YEARLY;BYDAY=2SU;BYMONTH=3
TZNAME:MDT
END:DAYLIGHT
BEGIN:STANDARD
DTSTART:20261101T010000
TZOFFSETFROM:-0600
TZOFFSETTO:-0700
RRULE:FREQ=YEARLY;BYDAY=1SU;BYMONTH=11
TZNAME:MST
END:STANDARD
END:VTIMEZONE
BEGIN:VEVENT
DTSTAMP:20260421T085507Z
UID:1155ae48-7286-4227-bbce-9fc33f6b3697
DTSTART;VALUE=DATE:20260422
DTEND;VALUE=DATE:20260423
DESCRIPTION:
LOCATION:
SUMMARY:Early Out: All schools
END:VEVENT
BEGIN:VEVENT
DTSTAMP:20260421T085507Z
UID:fa11d5b5-4e2e-4d46-a4f1-93748fbf137c
DTSTART;VALUE=DATE:20260429
DTEND;VALUE=DATE:20260430
DESCRIPTION:
LOCATION:
SUMMARY:Early Out: All schools
END:VEVENT
BEGIN:VEVENT
DTSTAMP:20260421T085507Z
UID:69cbd626-7e24-4267-ae9d-a343e7756917
DTSTART;VALUE=DATE:20260506
DTEND;VALUE=DATE:20260507
DESCRIPTION:
LOCATION:
SUMMARY:Early Out: All schools
END:VEVENT
BEGIN:VEVENT
DTSTAMP:20260421T085507Z
UID:7ba285eb-820a-4c76-8c07-b08e4865b2c1
DTSTART:20260507T173000
DTEND:20260507T183000
DESCRIPTION:
LOCATION:
SUMMARY:Choir Concert (parents) 
END:VEVENT
BEGIN:VEVENT
DTSTAMP:20260421T085507Z
UID:fc6d8f36-7b27-4485-b52b-3c00fa7b6247
DTSTART;VALUE=DATE:20260513
DTEND;VALUE=DATE:20260514
DESCRIPTION:
LOCATION:
SUMMARY:Early Out: All schools
END:VEVENT
BEGIN:VEVENT
DTSTAMP:20260421T085507Z
UID:0bc4d755-04ee-4c96-9e32-f7cbb0afc038
DTSTART;VALUE=DATE:20260514
DTEND;VALUE=DATE:20260515
DESCRIPTION:
LOCATION:West Field High School\, 2007 S 4300 W St\, Ogden\, UT 84401\, USA
SUMMARY:Elementary Iron Kid/Math Science Oympiad
END:VEVENT
BEGIN:VEVENT
DTSTAMP:20260421T085507Z
UID:f55a5aa3-6a8e-430d-a376-4d5330c002b4
DTSTART;VALUE=DATE:20260515
DTEND;VALUE=DATE:20260516
DESCRIPTION:
LOCATION:West Field High School\, 2007 S 4300 W St\, Ogden\, UT 84401\, USA
SUMMARY:Elementary Iron Kid/Math Science Oympiad
END:VEVENT
BEGIN:VEVENT
DTSTAMP:20260421T085507Z
UID:e32a5dbf-fbe6-4871-92e1-51fbfe3aa52c
DTSTART;VALUE=DATE:20260520
DTEND;VALUE=DATE:20260521
DESCRIPTION:
LOCATION:
SUMMARY:Early Out: All schools
END:VEVENT
BEGIN:VEVENT
DTSTAMP:20260421T085507Z
UID:15120ed9-7ae0-4269-a810-5874c71ddf90
DTSTART:20260521T090000
DTEND:20260521T131000
DESCRIPTION:
LOCATION:
SUMMARY:Field Day (sack lunches at 12:00)
END:VEVENT
BEGIN:VEVENT
DTSTAMP:20260421T085507Z
UID:17308b55-f73e-4dd3-8229-c21464176914
DTSTART;VALUE=DATE:20260522
DTEND;VALUE=DATE:20260523
DESCRIPTION:
LOCATION:
SUMMARY:Last Day of School
END:VEVENT
END:VCALENDAR
