BEGIN:VCALENDAR
VERSION:2.0
PRODID:icalendar-ruby
CALSCALE:GREGORIAN
BEGIN:VTIMEZONE
TZID:America/Denver
BEGIN:DAYLIGHT
DTSTART:20260308T030000
TZOFFSETFROM:-0700
TZOFFSETTO:-0600
RRULE:FREQ=YEARLY;BYDAY=2SU;BYMONTH=3
TZNAME:MDT
END:DAYLIGHT
BEGIN:STANDARD
DTSTART:20261101T010000
TZOFFSETFROM:-0600
TZOFFSETTO:-0700
RRULE:FREQ=YEARLY;BYDAY=1SU;BYMONTH=11
TZNAME:MST
END:STANDARD
END:VTIMEZONE
BEGIN:VEVENT
DTSTAMP:20260421T003332Z
UID:d8df71bc-71fb-46f8-a1ad-cdbcd3000e8a
DTSTART;VALUE=DATE:20260420
DTEND;VALUE=DATE:20260425
DESCRIPTION:
LOCATION:
SUMMARY:Lunch with a Loved one
END:VEVENT
BEGIN:VEVENT
DTSTAMP:20260421T003332Z
UID:2bd02fe8-51ff-4b38-9223-011a6710efc9
DTSTART:20260420T091500
DTEND:20260420T150000
DESCRIPTION:
LOCATION:
SUMMARY:6th Gr In Class Clark Planetarium
END:VEVENT
BEGIN:VEVENT
DTSTAMP:20260421T003332Z
UID:884b3c3f-a8e5-47aa-aba6-6669e7b5dc22
DTSTART:20260421T153000
DTEND:20260421T161500
DESCRIPTION:
LOCATION:
SUMMARY:Leopard Ambassador Meeting
END:VEVENT
BEGIN:VEVENT
DTSTAMP:20260421T003332Z
UID:cf27e7f0-7940-4009-9fff-fb61357b6fdc
DTSTART:20260423T103000
DTEND:20260423T140000
DESCRIPTION:
LOCATION:
SUMMARY:2nd Gr Dinosaur Park
END:VEVENT
BEGIN:VEVENT
DTSTAMP:20260421T003332Z
UID:5604d450-ac41-41da-831f-3580e13f98bc
DTSTART:20260424T090000
DTEND:20260424T140000
DESCRIPTION:
LOCATION:
SUMMARY:5th Gr Environmental Center
END:VEVENT
BEGIN:VEVENT
DTSTAMP:20260421T003332Z
UID:fce58fae-1e18-4c84-a273-eacfc6bc6ed2
DTSTART:20260424T110000
DTEND:20260424T140000
DESCRIPTION:
LOCATION:
SUMMARY:1st Gr Riverdale Park
END:VEVENT
BEGIN:VEVENT
DTSTAMP:20260421T003332Z
UID:549644cb-a373-440d-a774-4c700fdccc55
DTSTART;VALUE=DATE:20260504
DTEND;VALUE=DATE:20260509
DESCRIPTION:
LOCATION:
SUMMARY:Teacher Appreciation Week
END:VEVENT
BEGIN:VEVENT
DTSTAMP:20260421T003332Z
UID:6c093c23-9220-4709-89ac-0adb62acf19e
DTSTART:20260505T153000
DTEND:20260505T161500
DESCRIPTION:
LOCATION:
SUMMARY:Leopard Ambassador Meeting
END:VEVENT
BEGIN:VEVENT
DTSTAMP:20260421T003332Z
UID:9e7ee8d2-f1fd-44d3-866e-88a94981c4bc
DTSTART;VALUE=DATE:20260507
DTEND;VALUE=DATE:20260508
DESCRIPTION:
LOCATION:
SUMMARY:Nurse Appreciation Day
END:VEVENT
BEGIN:VEVENT
DTSTAMP:20260421T003332Z
UID:0853386f-da17-46a5-ab35-6f187a79d932
DTSTART:20260508T113000
DTEND:20260508T140000
DESCRIPTION:
LOCATION:
SUMMARY:Kindergarten  Field trip
END:VEVENT
BEGIN:VEVENT
DTSTAMP:20260421T003332Z
UID:c54f3010-165b-4efc-9ef5-48e0d7f86e5b
DTSTART;VALUE=DATE:20260512
DTEND;VALUE=DATE:20260513
DESCRIPTION:
LOCATION:
SUMMARY:Speech Pathologist Day
END:VEVENT
BEGIN:VEVENT
DTSTAMP:20260421T003332Z
UID:1dd485e3-7eae-4941-ba05-b3c2a5448b6d
DTSTART:20260515T140000
DTEND:20260515T150000
DESCRIPTION:
LOCATION:
SUMMARY:America 250 Assembly
END:VEVENT
BEGIN:VEVENT
DTSTAMP:20260421T003332Z
UID:2682908f-04aa-45e9-bc50-1eca1a0207f9
DTSTART:20260519T153000
DTEND:20260519T161500
DESCRIPTION:
LOCATION:
SUMMARY:Leopard Ambassador Meeting
END:VEVENT
BEGIN:VEVENT
DTSTAMP:20260421T003332Z
UID:f2db31e1-c713-465e-b751-73210a3c892a
DTSTART:20260520T090000
DTEND:20260520T100000
DESCRIPTION:
LOCATION:
SUMMARY:6th Grade Graduation
END:VEVENT
BEGIN:VEVENT
DTSTAMP:20260421T003332Z
UID:a92c5dac-6879-4899-890e-aa68f6772404
DTSTART;VALUE=DATE:20260521
DTEND;VALUE=DATE:20260522
DESCRIPTION:
LOCATION:
SUMMARY:Field Day
END:VEVENT
BEGIN:VEVENT
DTSTAMP:20260421T003332Z
UID:616f0038-4f54-495f-9a95-1f858167b377
DTSTART:20260522T122000
DTEND:20260522T123000
DESCRIPTION:
LOCATION:
SUMMARY:Last Day of School- Early Release
END:VEVENT
END:VCALENDAR
