BEGIN:VCALENDAR
VERSION:2.0
PRODID:icalendar-ruby
CALSCALE:GREGORIAN
BEGIN:VTIMEZONE
TZID:America/Denver
BEGIN:DAYLIGHT
DTSTART:20260308T030000
TZOFFSETFROM:-0700
TZOFFSETTO:-0600
RRULE:FREQ=YEARLY;BYDAY=2SU;BYMONTH=3
TZNAME:MDT
END:DAYLIGHT
BEGIN:STANDARD
DTSTART:20261101T010000
TZOFFSETFROM:-0600
TZOFFSETTO:-0700
RRULE:FREQ=YEARLY;BYDAY=1SU;BYMONTH=11
TZNAME:MST
END:STANDARD
END:VTIMEZONE
BEGIN:VEVENT
DTSTAMP:20260419T161539Z
UID:fad84382-e15b-4722-a54b-6d8ad2e0eaf1
DTSTART:20260505T154500
DTEND:20260505T164500
DESCRIPTION:
LOCATION:
SUMMARY:PTA Meeting
END:VEVENT
BEGIN:VEVENT
DTSTAMP:20260419T161539Z
UID:4f60594a-20d5-4081-9bc0-93ed99936bf7
DTSTART:20260508T102000
DTEND:20260508T142000
DESCRIPTION:
LOCATION:
SUMMARY:1st Grade Field Trip Treehouse Museum
END:VEVENT
BEGIN:VEVENT
DTSTAMP:20260419T161539Z
UID:6c45728f-0f36-48d6-b2a3-83bd3a27b14f
DTSTART;VALUE=DATE:20260522
DTEND;VALUE=DATE:20260523
DESCRIPTION:<p>Early Out at 12:20 PM</p>
LOCATION:
SUMMARY:LAST DAY OF SCHOOL-Early Out
END:VEVENT
BEGIN:VEVENT
DTSTAMP:20260419T161539Z
UID:00383721-4403-4777-96d6-64d79b25e7f6
DTSTART:20260602T154500
DTEND:20260602T164500
DESCRIPTION:
LOCATION:
SUMMARY:PTA Meeting
END:VEVENT
END:VCALENDAR
