BEGIN:VCALENDAR
VERSION:2.0
PRODID:icalendar-ruby
CALSCALE:GREGORIAN
BEGIN:VTIMEZONE
TZID:America/Denver
BEGIN:DAYLIGHT
DTSTART:20260308T030000
TZOFFSETFROM:-0700
TZOFFSETTO:-0600
RRULE:FREQ=YEARLY;BYDAY=2SU;BYMONTH=3
TZNAME:MDT
END:DAYLIGHT
BEGIN:STANDARD
DTSTART:20261101T010000
TZOFFSETFROM:-0600
TZOFFSETTO:-0700
RRULE:FREQ=YEARLY;BYDAY=1SU;BYMONTH=11
TZNAME:MST
END:STANDARD
END:VTIMEZONE
BEGIN:VEVENT
DTSTAMP:20260421T220843Z
UID:8dbf96a5-4a23-422f-b693-ae33fbcbcb7e
DTSTART:20260422T122000
DTEND:20260422T125000
DESCRIPTION:
LOCATION:
SUMMARY:Early Out
END:VEVENT
BEGIN:VEVENT
DTSTAMP:20260421T220843Z
UID:b8b1cd9c-8788-4bd7-bf0b-4bfc75ab8a5a
DTSTART:20260429T122000
DTEND:20260429T125000
DESCRIPTION:
LOCATION:
SUMMARY:Early Out
END:VEVENT
BEGIN:VEVENT
DTSTAMP:20260421T220843Z
UID:601a891e-0b6f-4c86-9a17-93213e222391
DTSTART:20260505T160000
DTEND:20260505T210000
DESCRIPTION:
LOCATION:Café Zupas\, 4245 Riverdale Rd\, Riverdale\, UT 84405\, USA
SUMMARY:Cafe Zupas Spirit Night
END:VEVENT
BEGIN:VEVENT
DTSTAMP:20260421T220843Z
UID:4a962932-c3b6-4a24-b0e8-da14b472b1e1
DTSTART:20260506T122000
DTEND:20260506T125000
DESCRIPTION:
LOCATION:
SUMMARY:Early Out
END:VEVENT
BEGIN:VEVENT
DTSTAMP:20260421T220843Z
UID:6b551780-b5d5-4d39-bb4e-cbbd6e1fc0a8
DTSTART:20260513T122000
DTEND:20260513T125000
DESCRIPTION:
LOCATION:
SUMMARY:Early Out
END:VEVENT
BEGIN:VEVENT
DTSTAMP:20260421T220843Z
UID:1bec736a-56e5-4b74-b228-a9f5d9c857e7
DTSTART:20260515T133000
DTEND:20260515T143000
DESCRIPTION:
LOCATION:Gym
SUMMARY:Kindergarten Celebration
END:VEVENT
BEGIN:VEVENT
DTSTAMP:20260421T220843Z
UID:c664ef53-d5d8-446d-b9cc-bc72bf28c2f7
DTSTART:20260520T122000
DTEND:20260520T125000
DESCRIPTION:
LOCATION:
SUMMARY:Early Out
END:VEVENT
BEGIN:VEVENT
DTSTAMP:20260421T220843Z
UID:628e78d5-7230-4db8-951c-4d20b14d9225
DTSTART;VALUE=DATE:20260522
DTEND;VALUE=DATE:20260523
DESCRIPTION:
LOCATION:
SUMMARY:Last Day of School
END:VEVENT
BEGIN:VEVENT
DTSTAMP:20260421T220843Z
UID:039a0acc-987f-4a99-bcfc-68d435f607df
DTSTART:20260730T100000
DTEND:20260730T180000
DESCRIPTION:
LOCATION:
SUMMARY:New Student Registration
END:VEVENT
BEGIN:VEVENT
DTSTAMP:20260421T220843Z
UID:26871384-ec94-418b-b386-6e1db07869c2
DTSTART;VALUE=DATE:20260806
DTEND;VALUE=DATE:20260808
DESCRIPTION:
LOCATION:
SUMMARY:Kindergarten Assessments
END:VEVENT
BEGIN:VEVENT
DTSTAMP:20260421T220843Z
UID:b3c95a1f-decf-41a4-8c33-91905c0c22c4
DTSTART;VALUE=DATE:20260817
DTEND;VALUE=DATE:20260818
DESCRIPTION:
LOCATION:
SUMMARY:Kindergarten Orientation
END:VEVENT
BEGIN:VEVENT
DTSTAMP:20260421T220843Z
UID:c8ef474a-93e7-41a5-92de-e6ae72a63a3c
DTSTART;VALUE=DATE:20260824
DTEND;VALUE=DATE:20260825
DESCRIPTION:
LOCATION:
SUMMARY:First Day of School
END:VEVENT
BEGIN:VEVENT
DTSTAMP:20260421T220843Z
UID:dc7b1068-d3c1-402f-8c6b-26e274896ace
DTSTART;VALUE=DATE:20260907
DTEND;VALUE=DATE:20260908
DESCRIPTION:
LOCATION:
SUMMARY:Labor Day No School
END:VEVENT
BEGIN:VEVENT
DTSTAMP:20260421T220843Z
UID:08ee5c46-91f8-4eba-a953-70af039e5829
DTSTART;VALUE=DATE:20260930
DTEND;VALUE=DATE:20261001
DESCRIPTION:
LOCATION:
SUMMARY:Picture Day
END:VEVENT
BEGIN:VEVENT
DTSTAMP:20260421T220843Z
UID:a14d6427-44b5-42aa-af1f-2a287318ecf6
DTSTART;VALUE=DATE:20261012
DTEND;VALUE=DATE:20261015
DESCRIPTION:
LOCATION:
SUMMARY:Book Fair
END:VEVENT
BEGIN:VEVENT
DTSTAMP:20260421T220843Z
UID:40d0a1b2-3c9f-4ec1-87c1-989b744de78e
DTSTART;VALUE=DATE:20261012
DTEND;VALUE=DATE:20261014
DESCRIPTION:
LOCATION:
SUMMARY:Parent Teacher Conferences
END:VEVENT
BEGIN:VEVENT
DTSTAMP:20260421T220843Z
UID:b2a2f92b-3c70-49e7-bfca-192cb71ee002
DTSTART;VALUE=DATE:20261015
DTEND;VALUE=DATE:20261017
DESCRIPTION:
LOCATION:
SUMMARY:Fall Break
END:VEVENT
BEGIN:VEVENT
DTSTAMP:20260421T220843Z
UID:8fde9fed-2af0-4990-b199-893557a3d5ce
DTSTART;VALUE=DATE:20261022
DTEND;VALUE=DATE:20261023
DESCRIPTION:
LOCATION:
SUMMARY:1st Quarter Ends
END:VEVENT
BEGIN:VEVENT
DTSTAMP:20260421T220843Z
UID:4918fd52-07d7-466d-9135-fe422ac22994
DTSTART;VALUE=DATE:20261023
DTEND;VALUE=DATE:20261024
DESCRIPTION:
LOCATION:
SUMMARY:Professional Development Day - No School for Students
END:VEVENT
BEGIN:VEVENT
DTSTAMP:20260421T220843Z
UID:cbfa8d06-35a1-40c1-9e4e-b2d15b2574bb
DTSTART;VALUE=DATE:20261026
DTEND;VALUE=DATE:20261027
DESCRIPTION:
LOCATION:
SUMMARY:2nd Quarter Starts
END:VEVENT
BEGIN:VEVENT
DTSTAMP:20260421T220843Z
UID:8e95c1eb-4f76-485a-b933-3302abad0a43
DTSTART;VALUE=DATE:20261111
DTEND;VALUE=DATE:20261112
DESCRIPTION:
LOCATION:
SUMMARY:Picture Day Retakes
END:VEVENT
BEGIN:VEVENT
DTSTAMP:20260421T220843Z
UID:86124703-5a9f-437d-beda-e022ff053110
DTSTART;VALUE=DATE:20261125
DTEND;VALUE=DATE:20261126
DESCRIPTION:
LOCATION:
SUMMARY:Comp Day - No School
END:VEVENT
BEGIN:VEVENT
DTSTAMP:20260421T220843Z
UID:09aac816-2980-4903-ada9-d10cea6c1f09
DTSTART;VALUE=DATE:20261126
DTEND;VALUE=DATE:20261128
DESCRIPTION:
LOCATION:
SUMMARY:Thanksgiving Break - No School
END:VEVENT
BEGIN:VEVENT
DTSTAMP:20260421T220843Z
UID:de201e33-a48b-4adc-bec9-b48362a7600d
DTSTART;VALUE=DATE:20261221
DTEND;VALUE=DATE:20270102
DESCRIPTION:
LOCATION:
SUMMARY:Winter Break
END:VEVENT
BEGIN:VEVENT
DTSTAMP:20260421T220843Z
UID:6d5e0ca1-e8df-4466-901a-a68fc4630f0c
DTSTART;VALUE=DATE:20270107
DTEND;VALUE=DATE:20270108
DESCRIPTION:
LOCATION:
SUMMARY:End of 2nd Quarter
END:VEVENT
BEGIN:VEVENT
DTSTAMP:20260421T220843Z
UID:01377c1d-3644-4a8c-80b4-cc3caf98dc3d
DTSTART;VALUE=DATE:20270108
DTEND;VALUE=DATE:20270109
DESCRIPTION:
LOCATION:
SUMMARY:Professional Development Day - No School for Students
END:VEVENT
BEGIN:VEVENT
DTSTAMP:20260421T220843Z
UID:cf47fe2b-8fef-4b0a-a545-1ebf56a6aedc
DTSTART;VALUE=DATE:20270111
DTEND;VALUE=DATE:20270112
DESCRIPTION:
LOCATION:
SUMMARY:3rd Quarter Begins
END:VEVENT
BEGIN:VEVENT
DTSTAMP:20260421T220843Z
UID:b56104db-9af0-480c-8017-0723c1132ba4
DTSTART;VALUE=DATE:20270118
DTEND;VALUE=DATE:20270119
DESCRIPTION:
LOCATION:
SUMMARY:Martin Luther King Jr Day - No School
END:VEVENT
BEGIN:VEVENT
DTSTAMP:20260421T220843Z
UID:5191016f-0352-4c75-8cf7-14f7d0811c88
DTSTART;VALUE=DATE:20270208
DTEND;VALUE=DATE:20270210
DESCRIPTION:
LOCATION:
SUMMARY:Parent Teacher Conferences
END:VEVENT
BEGIN:VEVENT
DTSTAMP:20260421T220843Z
UID:feea3dd4-477e-49df-91f6-33e8416f6c1c
DTSTART;VALUE=DATE:20270212
DTEND;VALUE=DATE:20270213
DESCRIPTION:
LOCATION:
SUMMARY:Comp Day - No School
END:VEVENT
BEGIN:VEVENT
DTSTAMP:20260421T220843Z
UID:acc76a3b-511f-4b51-8da2-09e2444fe37e
DTSTART;VALUE=DATE:20270215
DTEND;VALUE=DATE:20270216
DESCRIPTION:
LOCATION:
SUMMARY:President's Day - No School
END:VEVENT
BEGIN:VEVENT
DTSTAMP:20260421T220843Z
UID:0988a9e5-b009-4ff0-98cb-621eb5aac2f2
DTSTART;VALUE=DATE:20270303
DTEND;VALUE=DATE:20270304
DESCRIPTION:
LOCATION:
SUMMARY:Spring & Class Picture Day
END:VEVENT
BEGIN:VEVENT
DTSTAMP:20260421T220843Z
UID:a00979e3-cfbb-4269-8687-5b50dc65c75a
DTSTART;VALUE=DATE:20270315
DTEND;VALUE=DATE:20270320
DESCRIPTION:
LOCATION:
SUMMARY:Book Fair
END:VEVENT
BEGIN:VEVENT
DTSTAMP:20260421T220843Z
UID:334bee16-b0df-42f9-8ce9-3dcc4fd82b81
DTSTART;VALUE=DATE:20270318
DTEND;VALUE=DATE:20270319
DESCRIPTION:
LOCATION:
SUMMARY:Someone Special Lunch
END:VEVENT
BEGIN:VEVENT
DTSTAMP:20260421T220843Z
UID:3d5574f0-ecce-4270-808f-aca08031e1a7
DTSTART;VALUE=DATE:20270319
DTEND;VALUE=DATE:20270320
DESCRIPTION:
LOCATION:
SUMMARY:End of 3rd Quarter
END:VEVENT
BEGIN:VEVENT
DTSTAMP:20260421T220843Z
UID:fbbf8349-2dd6-42dd-8a77-d0b3b2ae5e9b
DTSTART;VALUE=DATE:20270322
DTEND;VALUE=DATE:20270323
DESCRIPTION:
LOCATION:
SUMMARY:4th Quarter Begins
END:VEVENT
BEGIN:VEVENT
DTSTAMP:20260421T220843Z
UID:cf1f925e-a3d5-47bb-8ea4-f8886553a873
DTSTART;VALUE=DATE:20270326
DTEND;VALUE=DATE:20270327
DESCRIPTION:
LOCATION:
SUMMARY:Comp Day - No School
END:VEVENT
BEGIN:VEVENT
DTSTAMP:20260421T220843Z
UID:938f0122-3f6e-408e-89eb-ee85bcaa39a6
DTSTART;VALUE=DATE:20270329
DTEND;VALUE=DATE:20270403
DESCRIPTION:
LOCATION:
SUMMARY:Spring Break - No School
END:VEVENT
BEGIN:VEVENT
DTSTAMP:20260421T220843Z
UID:264e38b8-62c6-440d-aca7-fa18df8ea55b
DTSTART;VALUE=DATE:20270414
DTEND;VALUE=DATE:20270415
DESCRIPTION:
LOCATION:
SUMMARY:Kinder Cap & Gown Pictures
END:VEVENT
BEGIN:VEVENT
DTSTAMP:20260421T220843Z
UID:38f34458-8f15-43f4-ba95-5651fdd70f27
DTSTART;VALUE=DATE:20270510
DTEND;VALUE=DATE:20270515
DESCRIPTION:
LOCATION:
SUMMARY:Book Fair
END:VEVENT
BEGIN:VEVENT
DTSTAMP:20260421T220843Z
UID:c7564d8c-a8a0-48f2-96ec-c34f0f45acb0
DTSTART;VALUE=DATE:20270528
DTEND;VALUE=DATE:20270529
DESCRIPTION:
LOCATION:
SUMMARY:Last Day of School
END:VEVENT
END:VCALENDAR
