BEGIN:VCALENDAR
VERSION:2.0
PRODID:icalendar-ruby
CALSCALE:GREGORIAN
BEGIN:VTIMEZONE
TZID:America/Denver
BEGIN:DAYLIGHT
DTSTART:20260308T030000
TZOFFSETFROM:-0700
TZOFFSETTO:-0600
RRULE:FREQ=YEARLY;BYDAY=2SU;BYMONTH=3
TZNAME:MDT
END:DAYLIGHT
BEGIN:STANDARD
DTSTART:20261101T010000
TZOFFSETFROM:-0600
TZOFFSETTO:-0700
RRULE:FREQ=YEARLY;BYDAY=1SU;BYMONTH=11
TZNAME:MST
END:STANDARD
END:VTIMEZONE
BEGIN:VEVENT
DTSTAMP:20260420T180601Z
UID:d8ca3fa3-300a-4699-9a4a-4750b98b1e02
DTSTART;VALUE=DATE:20260420
DTEND;VALUE=DATE:20260421
DESCRIPTION:
LOCATION:
SUMMARY:A Day
END:VEVENT
BEGIN:VEVENT
DTSTAMP:20260420T180601Z
UID:0264e493-f8f4-49ef-93e3-0ba65ca8d215
DTSTART;VALUE=DATE:20260420
DTEND;VALUE=DATE:20260425
DESCRIPTION:
LOCATION:
SUMMARY:Aspire Math Testing
END:VEVENT
BEGIN:VEVENT
DTSTAMP:20260420T180601Z
UID:1c0fc2c1-eb44-4892-bc8f-05f54762dc5d
DTSTART;VALUE=DATE:20260421
DTEND;VALUE=DATE:20260422
DESCRIPTION:
LOCATION:
SUMMARY:B Day
END:VEVENT
BEGIN:VEVENT
DTSTAMP:20260420T180601Z
UID:f9e38c5a-41b6-47a7-adc2-34a8b6be6277
DTSTART;VALUE=DATE:20260421
DTEND;VALUE=DATE:20260422
DESCRIPTION:
LOCATION:
SUMMARY:Mid Terms 
END:VEVENT
BEGIN:VEVENT
DTSTAMP:20260420T180601Z
UID:efe3ab5b-94ed-48f7-acb3-83f29f17e036
DTSTART:20260421T073000
DTEND:20260421T093000
DESCRIPTION:
LOCATION:
SUMMARY:Golf @ The Bluff 
END:VEVENT
BEGIN:VEVENT
DTSTAMP:20260420T180601Z
UID:7e2c277e-c020-41e5-a083-053130dfc13f
DTSTART:20260421T150000
DTEND:20260421T170000
DESCRIPTION:
LOCATION:
SUMMARY:Tennis vs.  Northridge Senior Day 
END:VEVENT
BEGIN:VEVENT
DTSTAMP:20260420T180601Z
UID:d2df0a65-38f2-41c3-aca3-06ec934b3941
DTSTART:20260421T153000
DTEND:20260421T173000
DESCRIPTION:
LOCATION:
SUMMARY:Baseball @ Northridge 
END:VEVENT
BEGIN:VEVENT
DTSTAMP:20260420T180601Z
UID:b36e0026-e7b6-497d-85f0-9b9f64cc0146
DTSTART:20260421T153000
DTEND:20260421T173000
DESCRIPTION:
LOCATION:
SUMMARY:Soccer @ Bonneville 
END:VEVENT
BEGIN:VEVENT
DTSTAMP:20260420T180601Z
UID:5a280e0a-f55b-4308-9f96-ecf7a9efba1e
DTSTART:20260421T153000
DTEND:20260421T173000
DESCRIPTION:
LOCATION:
SUMMARY:Softball @ Bonneville 
END:VEVENT
BEGIN:VEVENT
DTSTAMP:20260420T180601Z
UID:fda74e37-11b3-45ad-85f3-8293146744d1
DTSTART:20260421T183000
DTEND:20260421T200000
DESCRIPTION:
LOCATION:
SUMMARY:Volleyball @ Bonneville
END:VEVENT
BEGIN:VEVENT
DTSTAMP:20260420T180601Z
UID:34047c19-6e10-49f9-9eab-c7c719bba779
DTSTART;VALUE=DATE:20260422
DTEND;VALUE=DATE:20260423
DESCRIPTION:
LOCATION:
SUMMARY:A Day
END:VEVENT
BEGIN:VEVENT
DTSTAMP:20260420T180601Z
UID:17cf2ff8-4c1b-43ce-98bf-85c550343e25
DTSTART:20260422T080000
DTEND:20260422T103000
DESCRIPTION:
LOCATION:
SUMMARY:Girls Golf @ Sun Hills 
END:VEVENT
BEGIN:VEVENT
DTSTAMP:20260420T180601Z
UID:91c5c719-b04a-4c2f-b474-9b47125fc3b9
DTSTART:20260422T150000
DTEND:20260422T160000
DESCRIPTION:
LOCATION:
SUMMARY:Track @ Clearfield 
END:VEVENT
BEGIN:VEVENT
DTSTAMP:20260420T180601Z
UID:581d5cf7-2275-4458-950c-0a29b31a1d4a
DTSTART:20260422T173000
DTEND:20260422T190000
DESCRIPTION:
LOCATION:
SUMMARY:Boys LAX @ Box Elder
END:VEVENT
BEGIN:VEVENT
DTSTAMP:20260420T180601Z
UID:aead8b49-1d30-4467-9997-a1e5f85b5629
DTSTART:20260422T173000
DTEND:20260422T183000
DESCRIPTION:
LOCATION:
SUMMARY:Girls LAX vs. Box Elder
END:VEVENT
BEGIN:VEVENT
DTSTAMP:20260420T180601Z
UID:6f554121-a994-4241-9ba0-96f1a7541809
DTSTART;VALUE=DATE:20260423
DTEND;VALUE=DATE:20260424
DESCRIPTION:
LOCATION:
SUMMARY:B Day
END:VEVENT
BEGIN:VEVENT
DTSTAMP:20260420T180601Z
UID:d8a9d973-65cb-4119-a660-06c7ff47eb4e
DTSTART:20260423T070000
DTEND:20260423T080000
DESCRIPTION:
LOCATION:
SUMMARY:Community Council 
END:VEVENT
BEGIN:VEVENT
DTSTAMP:20260420T180601Z
UID:7705bf36-a7e7-4edb-9f1d-91e97ede156d
DTSTART:20260423T150000
DTEND:20260423T180000
DESCRIPTION:
LOCATION:
SUMMARY:Junior High Track Meet @ Roy High
END:VEVENT
BEGIN:VEVENT
DTSTAMP:20260420T180601Z
UID:0c4bf746-ecc6-43b3-a065-a5546146df95
DTSTART:20260423T150000
DTEND:20260423T160000
DESCRIPTION:
LOCATION:
SUMMARY:Tennis @ Bonneville 
END:VEVENT
BEGIN:VEVENT
DTSTAMP:20260420T180601Z
UID:e660967d-2cf6-4217-8c67-e2a0e1c985f3
DTSTART:20260423T153000
DTEND:20260423T173000
DESCRIPTION:
LOCATION:
SUMMARY:Softball vs. West Field 
END:VEVENT
BEGIN:VEVENT
DTSTAMP:20260420T180601Z
UID:b4d05a49-eba9-42cf-842d-554f6d49fddf
DTSTART:20260423T183000
DTEND:20260423T200000
DESCRIPTION:
LOCATION:
SUMMARY:Volleyball vs. West Field Senior night 
END:VEVENT
BEGIN:VEVENT
DTSTAMP:20260420T180601Z
UID:80a97da7-1700-40d1-b539-3e9aae27e9cc
DTSTART:20260423T190000
DTEND:20260423T210000
DESCRIPTION:
LOCATION:
SUMMARY:Soccer vs. West Field 
END:VEVENT
BEGIN:VEVENT
DTSTAMP:20260420T180601Z
UID:ea25b99f-45d6-4b55-aff8-a4c10eb6db5b
DTSTART;VALUE=DATE:20260424
DTEND;VALUE=DATE:20260425
DESCRIPTION:
LOCATION:
SUMMARY:A Day
END:VEVENT
BEGIN:VEVENT
DTSTAMP:20260420T180601Z
UID:4c3b5527-7026-487e-aae1-4f4308df7796
DTSTART;VALUE=DATE:20260424
DTEND;VALUE=DATE:20260425
DESCRIPTION:
LOCATION:
SUMMARY:Volleyball Var Tournament @ Sky View 
END:VEVENT
BEGIN:VEVENT
DTSTAMP:20260420T180601Z
UID:d5e970a4-d3bc-4dd4-83d1-fe9dc2552687
DTSTART:20260424T130000
DTEND:20260424T150000
DESCRIPTION:
LOCATION:
SUMMARY:Track @ WX invite 
END:VEVENT
BEGIN:VEVENT
DTSTAMP:20260420T180601Z
UID:364aecbf-2e4f-46e4-b7ae-b7fd9515e9d8
DTSTART:20260424T153000
DTEND:20260424T173000
DESCRIPTION:
LOCATION:
SUMMARY:Baseball @ Northridge 
END:VEVENT
BEGIN:VEVENT
DTSTAMP:20260420T180601Z
UID:26a64425-33aa-4cca-b4b9-ef22fb7b93a3
DTSTART:20260424T173000
DTEND:20260424T190000
DESCRIPTION:
LOCATION:
SUMMARY:Boys LAX vs. West Jordan 
END:VEVENT
BEGIN:VEVENT
DTSTAMP:20260420T180601Z
UID:4b297fbd-ce74-4d5a-9301-e13363665129
DTSTART;VALUE=DATE:20260425
DTEND;VALUE=DATE:20260426
DESCRIPTION:
LOCATION:
SUMMARY:LIA CAR SHOW 
END:VEVENT
BEGIN:VEVENT
DTSTAMP:20260420T180601Z
UID:bd0a9df0-6264-403c-b395-2c41f7ca674b
DTSTART;VALUE=DATE:20260425
DTEND;VALUE=DATE:20260426
DESCRIPTION:
LOCATION:
SUMMARY:Solo Ensemble State 
END:VEVENT
BEGIN:VEVENT
DTSTAMP:20260420T180601Z
UID:3066d86f-d522-4923-ac13-335a935709d9
DTSTART;VALUE=DATE:20260425
DTEND;VALUE=DATE:20260426
DESCRIPTION:
LOCATION:
SUMMARY:Volleyball Var Tournament @ Sky View 
END:VEVENT
BEGIN:VEVENT
DTSTAMP:20260420T180601Z
UID:0fa94289-c0dc-4d92-b28c-2d88bde0097f
DTSTART;VALUE=DATE:20260427
DTEND;VALUE=DATE:20260428
DESCRIPTION:
LOCATION:
SUMMARY:B Day
END:VEVENT
BEGIN:VEVENT
DTSTAMP:20260420T180601Z
UID:65f94889-cb8b-4364-92e6-26c0fa9608eb
DTSTART:20260427T080000
DTEND:20260427T090000
DESCRIPTION:
LOCATION:
SUMMARY:Golf @ Remuda Golf Course 
END:VEVENT
BEGIN:VEVENT
DTSTAMP:20260420T180601Z
UID:0d72a7aa-1f9c-4f4e-a7f6-64cd40619785
DTSTART;VALUE=DATE:20260428
DTEND;VALUE=DATE:20260429
DESCRIPTION:
LOCATION:
SUMMARY:A Day
END:VEVENT
BEGIN:VEVENT
DTSTAMP:20260420T180601Z
UID:cce60d48-e7bc-4d05-8a5b-b9b1514bbe25
DTSTART:20260428T080000
DTEND:20260428T123000
DESCRIPTION:
LOCATION:
SUMMARY:Tennis Region Tournament @ West Field 
END:VEVENT
BEGIN:VEVENT
DTSTAMP:20260420T180601Z
UID:b4add60d-2f17-4414-8b9d-b3a55d9fbc9c
DTSTART:20260428T150000
DTEND:20260428T170000
DESCRIPTION:
LOCATION:
SUMMARY:Track @ Box Elder vs Clearfield & Bonneville 
END:VEVENT
BEGIN:VEVENT
DTSTAMP:20260420T180601Z
UID:54f22e33-c9f4-4a59-8cc3-3bb291ce674c
DTSTART:20260428T153000
DTEND:20260428T173000
DESCRIPTION:
LOCATION:
SUMMARY:Baseball vs. Box Elder  Senior Day 
END:VEVENT
BEGIN:VEVENT
DTSTAMP:20260420T180601Z
UID:b5e879a7-66a9-4243-95d1-e39164349fbb
DTSTART:20260428T153000
DTEND:20260428T170000
DESCRIPTION:
LOCATION:
SUMMARY:Soccer @ Clearfield 
END:VEVENT
BEGIN:VEVENT
DTSTAMP:20260420T180601Z
UID:33af58ed-e0c7-48e6-8848-3d028eadd1e3
DTSTART:20260428T153000
DTEND:20260428T170000
DESCRIPTION:
LOCATION:
SUMMARY:Softball @ Clearfield 
END:VEVENT
BEGIN:VEVENT
DTSTAMP:20260420T180601Z
UID:443f5af3-842d-4970-83ab-0e6f76aead68
DTSTART:20260428T173000
DTEND:20260428T190000
DESCRIPTION:
LOCATION:
SUMMARY:Boys LAX @ Fremont
END:VEVENT
BEGIN:VEVENT
DTSTAMP:20260420T180601Z
UID:0f2a3d15-45fc-4486-b6ea-053fca992628
DTSTART:20260428T183000
DTEND:20260428T193000
DESCRIPTION:
LOCATION:
SUMMARY:Volleyball @ Clearfield 
END:VEVENT
BEGIN:VEVENT
DTSTAMP:20260420T180601Z
UID:752ad069-79b8-4deb-9c7c-f792731e1d81
DTSTART;VALUE=DATE:20260429
DTEND;VALUE=DATE:20260430
DESCRIPTION:
LOCATION:
SUMMARY:B Day
END:VEVENT
BEGIN:VEVENT
DTSTAMP:20260420T180601Z
UID:546a3f92-7e83-4a0f-ae73-06664bb9ba72
DTSTART:20260429T153000
DTEND:20260429T170000
DESCRIPTION:
LOCATION:
SUMMARY:Baseball @ Box Elder
END:VEVENT
BEGIN:VEVENT
DTSTAMP:20260420T180601Z
UID:e7ee69e0-7ff8-4fd5-8227-7cf88cb45d0c
DTSTART:20260429T170000
DTEND:20260429T183000
DESCRIPTION:
LOCATION:
SUMMARY:Girls LAX vs. Fremont 
END:VEVENT
BEGIN:VEVENT
DTSTAMP:20260420T180601Z
UID:db50cb91-c05a-41a2-951e-90dd2a5cc4a2
DTSTART;VALUE=DATE:20260430
DTEND;VALUE=DATE:20260501
DESCRIPTION:
LOCATION:
SUMMARY:A Day
END:VEVENT
BEGIN:VEVENT
DTSTAMP:20260420T180601Z
UID:f9acbcb4-2a7b-4f4e-8540-cde942bff144
DTSTART:20260430T090000
DTEND:20260430T094500
DESCRIPTION:
LOCATION:
SUMMARY:Senior Assembly 
END:VEVENT
BEGIN:VEVENT
DTSTAMP:20260420T180601Z
UID:53156ee7-bb6c-4fc9-8fc3-49b3d476154b
DTSTART;VALUE=DATE:20260501
DTEND;VALUE=DATE:20260502
DESCRIPTION:
LOCATION:
SUMMARY:B Day
END:VEVENT
BEGIN:VEVENT
DTSTAMP:20260420T180601Z
UID:80665d74-6eab-4290-84fb-db7b2156e68d
DTSTART:20260501T071500
DTEND:20260501T080000
DESCRIPTION:
LOCATION:
SUMMARY:Royal of the Month
END:VEVENT
BEGIN:VEVENT
DTSTAMP:20260420T180601Z
UID:4705b8d9-dfe7-4944-a5eb-1caa6b2edfb2
DTSTART;VALUE=DATE:20260504
DTEND;VALUE=DATE:20260505
DESCRIPTION:
LOCATION:
SUMMARY:A Day
END:VEVENT
BEGIN:VEVENT
DTSTAMP:20260420T180601Z
UID:b271f939-1654-4c3b-affa-dfc22f8fbdc0
DTSTART;VALUE=DATE:20260504
DTEND;VALUE=DATE:20260510
DESCRIPTION:
LOCATION:
SUMMARY:Senior Week 
END:VEVENT
BEGIN:VEVENT
DTSTAMP:20260420T180601Z
UID:6089bb4f-44a0-47e4-866c-5fe911603410
DTSTART;VALUE=DATE:20260505
DTEND;VALUE=DATE:20260506
DESCRIPTION:
LOCATION:
SUMMARY:B Day
END:VEVENT
BEGIN:VEVENT
DTSTAMP:20260420T180601Z
UID:aef79752-ecfd-4f5b-8aff-98f794f73ad8
DTSTART:20260505T100000
DTEND:20260505T120000
DESCRIPTION:
LOCATION:
SUMMARY:Cap and Gown Pick up  Large Auditorium
END:VEVENT
BEGIN:VEVENT
DTSTAMP:20260420T180601Z
UID:96cde31e-7a43-40da-a2e7-ef8c58a6479d
DTSTART;VALUE=DATE:20260506
DTEND;VALUE=DATE:20260507
DESCRIPTION:
LOCATION:
SUMMARY:A Day
END:VEVENT
BEGIN:VEVENT
DTSTAMP:20260420T180601Z
UID:f0a47c01-b0d7-40ff-87e5-fb7d4443462d
DTSTART:20260506T190000
DTEND:20260506T210000
DESCRIPTION:
LOCATION:
SUMMARY:Choir Concert
END:VEVENT
BEGIN:VEVENT
DTSTAMP:20260420T180601Z
UID:f9aea1b7-6f67-4be1-b54a-bbe907d6801c
DTSTART;VALUE=DATE:20260507
DTEND;VALUE=DATE:20260508
DESCRIPTION:
LOCATION:
SUMMARY:B Day
END:VEVENT
BEGIN:VEVENT
DTSTAMP:20260420T180601Z
UID:aef1abf0-2c61-48c9-9b8d-e0420b08d411
DTSTART:20260507T090000
DTEND:20260507T100000
DESCRIPTION:
LOCATION:
SUMMARY:Senior Cotillion Assembly
END:VEVENT
BEGIN:VEVENT
DTSTAMP:20260420T180601Z
UID:97e48eeb-1090-42ce-8e26-423db0cb42fb
DTSTART:20260507T180000
DTEND:20260507T190000
DESCRIPTION:
LOCATION:
SUMMARY:Roy Cone Orchestra concert 
END:VEVENT
BEGIN:VEVENT
DTSTAMP:20260420T180601Z
UID:609e2e77-f124-426a-902e-a1266554d08d
DTSTART;VALUE=DATE:20260508
DTEND;VALUE=DATE:20260509
DESCRIPTION:
LOCATION:
SUMMARY:A Day
END:VEVENT
BEGIN:VEVENT
DTSTAMP:20260420T180601Z
UID:0b35b554-3053-4930-bd58-2b12920e60d7
DTSTART:20260508T180000
DTEND:20260508T193000
DESCRIPTION:
LOCATION:
SUMMARY:Band Concert 
END:VEVENT
BEGIN:VEVENT
DTSTAMP:20260420T180601Z
UID:65eed05d-98ae-4ed2-b551-1abd4062dbf6
DTSTART:20260509T200000
DTEND:20260509T220000
DESCRIPTION:
LOCATION:
SUMMARY:Senior Cotillion 
END:VEVENT
BEGIN:VEVENT
DTSTAMP:20260420T180601Z
UID:06ccff44-0dd3-4df9-8c4c-b956de3d8697
DTSTART;VALUE=DATE:20260511
DTEND;VALUE=DATE:20260512
DESCRIPTION:
LOCATION:
SUMMARY:B Day
END:VEVENT
BEGIN:VEVENT
DTSTAMP:20260420T180601Z
UID:1f61acc5-7cfe-48e6-bbb8-d27851b1c2ac
DTSTART:20260511T150000
DTEND:20260511T190000
DESCRIPTION:
LOCATION:
SUMMARY:Region 5 JV Track Meet @ Roy 
END:VEVENT
BEGIN:VEVENT
DTSTAMP:20260420T180601Z
UID:5b8e1a9c-831f-4b33-a232-4b69cf455e97
DTSTART;VALUE=DATE:20260512
DTEND;VALUE=DATE:20260513
DESCRIPTION:
LOCATION:
SUMMARY:A Day
END:VEVENT
BEGIN:VEVENT
DTSTAMP:20260420T180601Z
UID:65088baf-de33-4497-95e7-ae29b1b5dc25
DTSTART:20260512T080000
DTEND:20260512T100000
DESCRIPTION:
LOCATION:
SUMMARY:Graduation Practice @ Weber State 
END:VEVENT
BEGIN:VEVENT
DTSTAMP:20260420T180601Z
UID:3ebd3dd7-fb14-4c39-b901-6361cf939d40
DTSTART;VALUE=DATE:20260513
DTEND;VALUE=DATE:20260514
DESCRIPTION:
LOCATION:
SUMMARY:B Day
END:VEVENT
BEGIN:VEVENT
DTSTAMP:20260420T180601Z
UID:d6d7c71a-a322-45db-bb8c-ef11be110b11
DTSTART;VALUE=DATE:20260514
DTEND;VALUE=DATE:20260515
DESCRIPTION:
LOCATION:
SUMMARY:A Day
END:VEVENT
BEGIN:VEVENT
DTSTAMP:20260420T180601Z
UID:92139745-9ba3-4e39-bb6d-01dbd0d67aba
DTSTART;VALUE=DATE:20260515
DTEND;VALUE=DATE:20260516
DESCRIPTION:
LOCATION:
SUMMARY:B Day
END:VEVENT
BEGIN:VEVENT
DTSTAMP:20260420T180601Z
UID:293f6334-0794-4668-8cdf-913a47c05c1d
DTSTART;VALUE=DATE:20260518
DTEND;VALUE=DATE:20260519
DESCRIPTION:
LOCATION:
SUMMARY:A Day
END:VEVENT
BEGIN:VEVENT
DTSTAMP:20260420T180601Z
UID:186d7216-eade-4948-b461-40b6ed9fc696
DTSTART;VALUE=DATE:20260519
DTEND;VALUE=DATE:20260520
DESCRIPTION:
LOCATION:
SUMMARY:B Day
END:VEVENT
BEGIN:VEVENT
DTSTAMP:20260420T180601Z
UID:8d452a52-03eb-4794-b94d-406bc9f99532
DTSTART:20260519T090000
DTEND:20260519T110000
DESCRIPTION:
LOCATION:
SUMMARY:Graduation 
END:VEVENT
BEGIN:VEVENT
DTSTAMP:20260420T180601Z
UID:029a0874-2647-4cd0-862d-2da35a42b6d6
DTSTART;VALUE=DATE:20260520
DTEND;VALUE=DATE:20260521
DESCRIPTION:
LOCATION:
SUMMARY:A Day
END:VEVENT
BEGIN:VEVENT
DTSTAMP:20260420T180601Z
UID:85273b5d-ec82-47b5-8ced-3b750333e0d3
DTSTART;VALUE=DATE:20260521
DTEND;VALUE=DATE:20260522
DESCRIPTION:
LOCATION:
SUMMARY:B Day
END:VEVENT
BEGIN:VEVENT
DTSTAMP:20260420T180601Z
UID:5a84260d-5e9a-4540-b582-bd811bf6ea93
DTSTART;VALUE=DATE:20260522
DTEND;VALUE=DATE:20260523
DESCRIPTION:
LOCATION:
SUMMARY:A Day
END:VEVENT
BEGIN:VEVENT
DTSTAMP:20260420T180601Z
UID:a4f6c331-3ef0-402c-9e31-953ced167f05
DTSTART;VALUE=DATE:20260522
DTEND;VALUE=DATE:20260523
DESCRIPTION:
LOCATION:
SUMMARY:Last Day of School 
END:VEVENT
BEGIN:VEVENT
DTSTAMP:20260420T180601Z
UID:dabb64e4-0945-4099-b34a-f92599b32115
DTSTART:20260522T131500
DTEND:20260522T151500
DESCRIPTION:
LOCATION:
SUMMARY:Early Out 
END:VEVENT
BEGIN:VEVENT
DTSTAMP:20260420T180601Z
UID:0b5ba138-b70b-4a88-9be5-dc5a546f7710
DTSTART;VALUE=DATE:20260628
DTEND;VALUE=DATE:20260704
DESCRIPTION:
LOCATION:
SUMMARY:FBLA Nationals
END:VEVENT
BEGIN:VEVENT
DTSTAMP:20260420T180601Z
UID:e18beaf0-933e-47ee-a806-d2194a928a1d
DTSTART:20260817T080000
DTEND:20260817T090000
DESCRIPTION:
LOCATION:
SUMMARY:Faculty Picture 
END:VEVENT
END:VCALENDAR
